BEGIN:VCALENDAR
VERSION:2.0
PRODID:-//Garden State Hog Chapter - ECPv6.15.17.1//NONSGML v1.0//EN
CALSCALE:GREGORIAN
METHOD:PUBLISH
X-ORIGINAL-URL:https://www.gardenstatehogchapter.com/welcome
X-WR-CALDESC:Events for Garden State Hog Chapter
REFRESH-INTERVAL;VALUE=DURATION:PT1H
X-Robots-Tag:noindex
X-PUBLISHED-TTL:PT1H
BEGIN:VTIMEZONE
TZID:America/New_York
BEGIN:DAYLIGHT
TZOFFSETFROM:-0500
TZOFFSETTO:-0400
TZNAME:EDT
DTSTART:20240310T070000
END:DAYLIGHT
BEGIN:STANDARD
TZOFFSETFROM:-0400
TZOFFSETTO:-0500
TZNAME:EST
DTSTART:20241103T060000
END:STANDARD
BEGIN:DAYLIGHT
TZOFFSETFROM:-0500
TZOFFSETTO:-0400
TZNAME:EDT
DTSTART:20250309T070000
END:DAYLIGHT
BEGIN:STANDARD
TZOFFSETFROM:-0400
TZOFFSETTO:-0500
TZNAME:EST
DTSTART:20251102T060000
END:STANDARD
BEGIN:DAYLIGHT
TZOFFSETFROM:-0500
TZOFFSETTO:-0400
TZNAME:EDT
DTSTART:20260308T070000
END:DAYLIGHT
BEGIN:STANDARD
TZOFFSETFROM:-0400
TZOFFSETTO:-0500
TZNAME:EST
DTSTART:20261101T060000
END:STANDARD
END:VTIMEZONE
BEGIN:VEVENT
DTSTART;TZID=America/New_York:20250802T104500
DTEND;TZID=America/New_York:20250802T170000
DTSTAMP:20260425T091139
CREATED:20250729T233752Z
LAST-MODIFIED:20250729T233752Z
UID:3620-1754131500-1754154000@www.gardenstatehogchapter.com
SUMMARY:Chapter Ride - Tick Tock Diner
DESCRIPTION:Director Rich will be leading a ride to the legendary Tick Tock Diner in Clifton\, NJ on Saturday\, August 2nd.  Riders will depart the Dealership at 10:45AM\, and guests are welcome if they sign a waiver.
URL:https://www.gardenstatehogchapter.com/welcome/event/chapter-ride-tick-tock-diner/
LOCATION:Tick Tock Diner\, 281 Allwood Road\, Clifton\, NJ\, 07012
CATEGORIES:Ride
END:VEVENT
BEGIN:VEVENT
DTSTART;TZID=America/New_York:20250803T080000
DTEND;TZID=America/New_York:20250803T113000
DTSTAMP:20260425T091139
CREATED:20250701T234110Z
LAST-MODIFIED:20250701T235501Z
UID:3589-1754208000-1754220600@www.gardenstatehogchapter.com
SUMMARY:Chapter Ride - Jefferson Diner Breakfast Ride
DESCRIPTION:Road Captain Mark Durenberger is rescheduling the breakfast ride to Jefferson Diner.  Riders will depart the Dealership on August 3rd at 8:00AM and will head to Jefferson Diner during the route\, which will continue on to Ringwood and Wanaque\, NJ before heading back to the Dealership along Kinnelon Road.  Guests are welcome if they sign a waiver.
URL:https://www.gardenstatehogchapter.com/welcome/event/chapter-ride-jefferson-diner-breakfast-ride/
LOCATION:Jefferson Diner\, 5 Bowling Green Pkwy # 12\, Lake Hopatcong\, NJ\, 07849
CATEGORIES:Ride
END:VEVENT
BEGIN:VEVENT
DTSTART;TZID=America/New_York:20250809T103000
DTEND;TZID=America/New_York:20250809T143000
DTSTAMP:20260425T091139
CREATED:20250702T000130Z
LAST-MODIFIED:20250702T000130Z
UID:3597-1754735400-1754749800@www.gardenstatehogchapter.com
SUMMARY:Chapter Ride - Apple Valley Family Restaurant
DESCRIPTION:Road Captain Russ Hall has rescheduled his Apple Valley ride for August 9th.  Riders will depart the Dealership at 10:30AM to head to Milford\, PA\, and guests are welcome if they sign a waiver.
URL:https://www.gardenstatehogchapter.com/welcome/event/chapter-ride-apple-valley-family-restaurant-4/
LOCATION:Apple Valley Restaurant\, 104 Rt. 6\, Milford\, PA\, 18337
CATEGORIES:Ride
END:VEVENT
BEGIN:VEVENT
DTSTART;TZID=America/New_York:20250810T090000
DTEND;TZID=America/New_York:20250810T150000
DTSTAMP:20260425T091139
CREATED:20250701T234705Z
LAST-MODIFIED:20250709T004801Z
UID:3591-1754816400-1754838000@www.gardenstatehogchapter.com
SUMMARY:Chapter Ride - Coopersburg Diner
DESCRIPTION:Road Captain Mark Bishop has rescheduled his ride to “The Coop” Coopersburg Diner in Coopersburg\, PA.  Riders will depart the Dealership at 9:00AM on Sunday August 10th\, and guests are welcome if they sign a waiver.
URL:https://www.gardenstatehogchapter.com/welcome/event/chapter-ride-coopersburg-diner-3/
LOCATION:Coopersburg Diner\, 336 N. 3rd Street\, Coopersburg\, PA\, 18036
CATEGORIES:Ride
END:VEVENT
BEGIN:VEVENT
DTSTART;TZID=America/New_York:20250816T090000
DTEND;TZID=America/New_York:20250816T100000
DTSTAMP:20260425T091139
CREATED:20250709T005139Z
LAST-MODIFIED:20250709T005139Z
UID:3604-1755334800-1755338400@www.gardenstatehogchapter.com
SUMMARY:August Chapter Meeting
DESCRIPTION:Please join fellow Chapter members at Garden State H-D for our August meeting.  We will start at 9:00AM on August 16th.  Hope to see you there.
URL:https://www.gardenstatehogchapter.com/welcome/event/august-chapter-meeting-3/
LOCATION:Garden State Harley-Davidson\, 1775 Route 10 East\, Morris Plains\, NJ\, 07950\, United States
CATEGORIES:Meeting
END:VEVENT
BEGIN:VEVENT
DTSTART;TZID=America/New_York:20250816T104500
DTEND;TZID=America/New_York:20250816T143000
DTSTAMP:20260425T091139
CREATED:20250812T195510Z
LAST-MODIFIED:20250812T195510Z
UID:3624-1755341100-1755354600@www.gardenstatehogchapter.com
SUMMARY:Chapter Ride - Mountain House Tavern & Grill
DESCRIPTION:Road Captain Pete Gallios will be leading a ride following the August Chapter Meeting to Mountain House Tavern & Grill located in Branchville\, NJ.  Riders will depart the Dealership at 10:45AM for this 62 mile ride\, and guests are welcome if they sign a waiver.
URL:https://www.gardenstatehogchapter.com/welcome/event/chapter-ride-mountain-house-tavern-grill/
LOCATION:Mountain House Tavern & Grill\, 19 US-206\, Branchville\, NJ\, 07826
CATEGORIES:Ride
END:VEVENT
BEGIN:VEVENT
DTSTART;TZID=America/New_York:20250823T103000
DTEND;TZID=America/New_York:20250823T150000
DTSTAMP:20260425T091139
CREATED:20250205T012032Z
LAST-MODIFIED:20250812T195807Z
UID:3512-1755945000-1755961200@www.gardenstatehogchapter.com
SUMMARY:Chapter Ride - Table 9
DESCRIPTION:Head Road Captain Darren will be leading a ride back to the very nice Table 9 in Cortlandt\, NY.  Riders will depart the Dealership at 10:30AM\, and guests are welcome if they sign a waiver.
URL:https://www.gardenstatehogchapter.com/welcome/event/chapter-ride-table-9-4/
LOCATION:Table 9\, 92 Roa Hook Rd\, Cortlandt\, NY\, 10567
CATEGORIES:Ride
END:VEVENT
BEGIN:VEVENT
DTSTART;TZID=America/New_York:20250830T103000
DTEND;TZID=America/New_York:20250830T160000
DTSTAMP:20260425T091139
CREATED:20250826T210445Z
LAST-MODIFIED:20250826T211850Z
UID:3647-1756549800-1756569600@www.gardenstatehogchapter.com
SUMMARY:Chapter Ride - Covered Bridge Ride In PA
DESCRIPTION:Road Captain Mark Bishop will be leading a covered bridge ride through PA with a lunch stop/ fuel stop halfway through. KSU on August 30th at 10:30 sharp.  The ride will run approximately 4.5 hours not counting lunch/fuel stops. The Chapter ride will conclude once the group crosses from PA back into NJ\, however there is an option for dinner in Frenchtown for those interested.  
URL:https://www.gardenstatehogchapter.com/welcome/event/chapter-ride-covered-bridge-ride-in-pa/
CATEGORIES:Ride
END:VEVENT
END:VCALENDAR