BEGIN:VCALENDAR
VERSION:2.0
PRODID:-//Garden State Hog Chapter - ECPv6.15.17.1//NONSGML v1.0//EN
CALSCALE:GREGORIAN
METHOD:PUBLISH
X-ORIGINAL-URL:https://www.gardenstatehogchapter.com/welcome
X-WR-CALDESC:Events for Garden State Hog Chapter
REFRESH-INTERVAL;VALUE=DURATION:PT1H
X-Robots-Tag:noindex
X-PUBLISHED-TTL:PT1H
BEGIN:VTIMEZONE
TZID:America/New_York
BEGIN:DAYLIGHT
TZOFFSETFROM:-0500
TZOFFSETTO:-0400
TZNAME:EDT
DTSTART:20240310T070000
END:DAYLIGHT
BEGIN:STANDARD
TZOFFSETFROM:-0400
TZOFFSETTO:-0500
TZNAME:EST
DTSTART:20241103T060000
END:STANDARD
BEGIN:DAYLIGHT
TZOFFSETFROM:-0500
TZOFFSETTO:-0400
TZNAME:EDT
DTSTART:20250309T070000
END:DAYLIGHT
BEGIN:STANDARD
TZOFFSETFROM:-0400
TZOFFSETTO:-0500
TZNAME:EST
DTSTART:20251102T060000
END:STANDARD
BEGIN:DAYLIGHT
TZOFFSETFROM:-0500
TZOFFSETTO:-0400
TZNAME:EDT
DTSTART:20260308T070000
END:DAYLIGHT
BEGIN:STANDARD
TZOFFSETFROM:-0400
TZOFFSETTO:-0500
TZNAME:EST
DTSTART:20261101T060000
END:STANDARD
END:VTIMEZONE
BEGIN:VEVENT
DTSTART;TZID=America/New_York:20250413T110000
DTEND;TZID=America/New_York:20250413T140000
DTSTAMP:20260425T143202
CREATED:20250205T011711Z
LAST-MODIFIED:20250413T093518Z
UID:3510-1744542000-1744552800@www.gardenstatehogchapter.com
SUMMARY:CANCELLED!!  Chapter Ride - Brush Off The Cobwebs Ride - Chimney Rock Inn
DESCRIPTION:Due to slick road conditions this morning\, today’s ride is cancelled. \nRoad Captain MaryAlice will be leading a re-orientation ride on April 13th.  This ride will be a bit shorter with a ride plan that isn’t challenging.  Riders will depart the Dealership at 11AM and head to Chimney Rock Inn in Bound Brook\, NJ. \nStart thinking about what you need to do to have your bike ready for the new season!
URL:https://www.gardenstatehogchapter.com/welcome/event/chapter-ride-brush-off-the-cobwebs-ride/
LOCATION:Chimney Rock Inn Bound Brook\, 800 Thompson Ave.\, Bound Brook\, NJ\, 08805
CATEGORIES:Ride
END:VEVENT
BEGIN:VEVENT
DTSTART;TZID=America/New_York:20250419T090000
DTEND;TZID=America/New_York:20250419T100000
DTSTAMP:20260425T143202
CREATED:20250205T010518Z
LAST-MODIFIED:20250205T010518Z
UID:3506-1745053200-1745056800@www.gardenstatehogchapter.com
SUMMARY:April Chapter Meeting
DESCRIPTION:Stop by the Dealership for the April Chapter Meeting.  Meetings will start at 9AM going forward\, to allow more time for lunch rides\, or charity rides scheduled on the same day.
URL:https://www.gardenstatehogchapter.com/welcome/event/april-chapter-meeting-4/
LOCATION:Garden State Harley-Davidson\, 1775 Route 10 East\, Morris Plains\, NJ\, 07950\, United States
CATEGORIES:Meeting
END:VEVENT
BEGIN:VEVENT
DTSTART;TZID=America/New_York:20250419T103000
DTEND;TZID=America/New_York:20250419T140000
DTSTAMP:20260425T143202
CREATED:20250205T012519Z
LAST-MODIFIED:20250205T012519Z
UID:3515-1745058600-1745071200@www.gardenstatehogchapter.com
SUMMARY:Chapter Ride - OMG Burger & Brew
DESCRIPTION:Road Captain Mark Durenberger will lead a ride back to OMG Burgers & Brew in Long Valley\, NJ.  Riders will depart the Dealership at 10:30AM\, and guests are welcome if they sign a waiver.
URL:https://www.gardenstatehogchapter.com/welcome/event/chapter-ride-omg-burger-brew/
LOCATION:OMG Burger & Brew\, 141 Schooleys Mountain Road\, Long Valley\, NJ\, 07853
CATEGORIES:Ride
END:VEVENT
BEGIN:VEVENT
DTSTART;TZID=America/New_York:20250426T100000
DTEND;TZID=America/New_York:20250426T143000
DTSTAMP:20260425T143202
CREATED:20250205T013010Z
LAST-MODIFIED:20250425T145936Z
UID:3517-1745661600-1745677800@www.gardenstatehogchapter.com
SUMMARY:CANCELLED! Chapter Ride - Apple Valley Family Restaurant
DESCRIPTION:Due to the rain and thunderstorms predicted for April 26th\, this ride is unfortunately cancelled. \nRoad Captain Russ Hall will lead a ride back to Milford\, PA to visit Apple Valley Family Restaurant.  Riders will depart the Dealership at 10AM\, and guests are welcome if they sign a waiver.
URL:https://www.gardenstatehogchapter.com/welcome/event/chapter-ride-apple-valley-family-restaurant-3/
LOCATION:Apple Valley Restaurant\, 104 Rt. 6\, Milford\, PA\, 18337
CATEGORIES:Ride
END:VEVENT
BEGIN:VEVENT
DTSTART;TZID=America/New_York:20250427T100000
DTEND;TZID=America/New_York:20250427T130000
DTSTAMP:20260425T143202
CREATED:20250316T141632Z
LAST-MODIFIED:20250316T141632Z
UID:3525-1745748000-1745758800@www.gardenstatehogchapter.com
SUMMARY:Cone Crushers - Riding Skills
DESCRIPTION:Join Safety Director Russell for Cone Crushers on April 27th from 10AM to 1PM.  Please register on the following link…  https://tinyurl.com/2vytn4xf \nLocation is 10 Park Avenue Morristown\, NJ 07960\, corner of Rt. 510 & Park Ave.
URL:https://www.gardenstatehogchapter.com/welcome/event/cone-crushers-riding-skills/
LOCATION:Cone Camp\, 10 Park Ave.\, Morristown\, NJ\, 07960
CATEGORIES:Training
END:VEVENT
END:VCALENDAR