BEGIN:VCALENDAR
VERSION:2.0
PRODID:-//Garden State Hog Chapter - ECPv6.15.17.1//NONSGML v1.0//EN
CALSCALE:GREGORIAN
METHOD:PUBLISH
X-ORIGINAL-URL:https://www.gardenstatehogchapter.com/welcome
X-WR-CALDESC:Events for Garden State Hog Chapter
REFRESH-INTERVAL;VALUE=DURATION:PT1H
X-Robots-Tag:noindex
X-PUBLISHED-TTL:PT1H
BEGIN:VTIMEZONE
TZID:America/New_York
BEGIN:DAYLIGHT
TZOFFSETFROM:-0500
TZOFFSETTO:-0400
TZNAME:EDT
DTSTART:20230312T070000
END:DAYLIGHT
BEGIN:STANDARD
TZOFFSETFROM:-0400
TZOFFSETTO:-0500
TZNAME:EST
DTSTART:20231105T060000
END:STANDARD
BEGIN:DAYLIGHT
TZOFFSETFROM:-0500
TZOFFSETTO:-0400
TZNAME:EDT
DTSTART:20240310T070000
END:DAYLIGHT
BEGIN:STANDARD
TZOFFSETFROM:-0400
TZOFFSETTO:-0500
TZNAME:EST
DTSTART:20241103T060000
END:STANDARD
BEGIN:DAYLIGHT
TZOFFSETFROM:-0500
TZOFFSETTO:-0400
TZNAME:EDT
DTSTART:20250309T070000
END:DAYLIGHT
BEGIN:STANDARD
TZOFFSETFROM:-0400
TZOFFSETTO:-0500
TZNAME:EST
DTSTART:20251102T060000
END:STANDARD
END:VTIMEZONE
BEGIN:VEVENT
DTSTART;TZID=America/New_York:20241208T103000
DTEND;TZID=America/New_York:20241208T143000
DTSTAMP:20260423T172140
CREATED:20241120T013013Z
LAST-MODIFIED:20241120T013013Z
UID:3479-1733653800-1733668200@www.gardenstatehogchapter.com
SUMMARY:Rockefeller Center Motorcycle Toy Run
DESCRIPTION:We are posting this ride for those interested in going.  Folks can meet up at Garden State H-D at 9AM for a “ride to the ride”\, which is gathering at the Bon Jovi Rest Area on the Garden State Parkway at 10:30 / KSU at 11AM.  Use the Facebook link below for the pre-registration details.  Cost is $25 for solo riders\, $30 for rider & passenger.  Bring a new un-wrapped toy (no stuffed animals). \n\n\n\n\n\nJoin us for our Amazing Annual Christmas Charity Motorcycle Ride!🎄\nSunday DECEMBER 8TH!  Yes!  THE TREE WILL BE FULLY LIT on 12/4!! \n2024 Blue Lives-NYC/Punishers LEMC\nROCKEFELLER CENTER CHRISTMAS TOY RUN & LAW ENFORCEMENT CHARITY MOTORCYCLE RIDE on 12/08/2024 \nThis year\, the Rockefeller Center Christmas TREE LIGHTING will take place on Wednesday\, December 4th\, and the Official Rock Ride is the first Sunday after the Tree Lighting on SUNDAY\, DECEMBER 8th.  \nThe Tree Lighting signifies the official start of the NYC Christmas Holiday Season! \nAll of the scaffolding around the tree will be down\, and the tree will be fully lit for the Christmas Holiday Season! \nSo don’t miss this Traditional Holiday Ride of delivering toys to the most famous Christmas Tree in the world\, and be a part of one of the best Christmas Toy Runs & Law Enforcement Charity Rides in the Northeast since 2016! \nAs always\, this ride is Fully Police Escorted by Land\, Air & Sea\, by Police Motorcycles\, Police Helicopters & a FDNY Fireboat! \nALL of the toys go to Toys for Tots\, and ALL proceeds from the Ride Registration Fee AND ALL Donations made to Blue Lives-NYC 501c3 National Law Enforcement Charity Organization\, go directly to the NYPD & NJSP Widows & Children’s Charities and Officers & Families Fund for the families of Officers that were killed in the Line of Duty. \nSO SAVE THE DATE!! \nWe are looking forward to seeing you on SUNDAY\, DECEMBER 8TH\, 2024 at the Bon Jovi/Cheesequake Rest Area on the Garden State Parkway in South Amboy NJ!\nGAS\, FOOD & RESTROOMS available at Rest Area \n*Experienced Riders Only!\n*Early rain or snow (before 3pm)= Ride canceled\n*Late afternoon rain or snow (after 3pm) = Ride on\n*Each rider bring an unwrapped toy! (No stuffed animals)
URL:https://www.gardenstatehogchapter.com/welcome/event/rockefeller-center-motorcycle-toy-run/
LOCATION:NJ
CATEGORIES:Ride
END:VEVENT
BEGIN:VEVENT
DTSTART;TZID=America/New_York:20241130T150000
DTEND;TZID=America/New_York:20241130T190000
DTSTAMP:20260423T172140
CREATED:20241120T005805Z
LAST-MODIFIED:20241120T005805Z
UID:3476-1732978800-1732993200@www.gardenstatehogchapter.com
SUMMARY:Totowa\, Little Falls Holiday Light Parade
DESCRIPTION:We have a growing holiday tradition at the Totowa\, Little Falls\, West Patterson Fire Departments Holiday Light Parade.  Chapter members and family members are invited to meet up at the Dealership at 3PM on Saturday November 30\, to depart at 3:30 for the parade.  A big thanks to Rich and Giovi Seitz for their coordination efforts!
URL:https://www.gardenstatehogchapter.com/welcome/event/totowa-little-falls-holiday-light-parade/
LOCATION:Totowa Little Falls FD Holiday Light Parade
CATEGORIES:Chapter Day Trip
END:VEVENT
BEGIN:VEVENT
DTSTART;TZID=America/New_York:20241124T080000
DTEND;TZID=America/New_York:20241124T120000
DTSTAMP:20260423T172140
CREATED:20241023T001411Z
LAST-MODIFIED:20241023T001411Z
UID:3473-1732435200-1732449600@www.gardenstatehogchapter.com
SUMMARY:Wally's Turkey Trot
DESCRIPTION:HOG Chapter members are welcome to support the pickup and distribution of frozen turkeys\, as part of Wally’s Turkey Trot.  Meetup at Andover Diner at 8:00AM on Sunday November 24th.
URL:https://www.gardenstatehogchapter.com/welcome/event/wallys-turkey-trot-2/
LOCATION:Andover Diner\, 193 Main St\, Byram Township\, NJ\, 07821
CATEGORIES:Chapter Day Trip
END:VEVENT
BEGIN:VEVENT
DTSTART;TZID=America/New_York:20241116T180000
DTEND;TZID=America/New_York:20241116T210000
DTSTAMP:20260423T172140
CREATED:20240911T002005Z
LAST-MODIFIED:20240911T002005Z
UID:3433-1731780000-1731790800@www.gardenstatehogchapter.com
SUMMARY:End of Season Dinner - The Jefferson House
DESCRIPTION:The date is set for our annual End of Season Chapter Dinner on November 16th\, starting at 6PM.  Location is The Jefferson House in Lake Hopatcong\, and cost is $50 per person. \nPayments can be made by: \n\nCredit card while at the Sep 21st or Oct 19th chapter meeting.\nCheck payable to Garden State Harley HOG Chapter with Holiday dinner in the memo and may be mailed to Diane Borowsky\, 42 Parkside Road\, Bedminster\, NJ 07921.\nZELLE to 973.801.9287\nVENMO to @diane-borowsky\nCash\n\nPayment must be received by November 4th.
URL:https://www.gardenstatehogchapter.com/welcome/event/end-of-season-dinner-the-jefferson-house/
LOCATION:The Jefferson House\, Lake Hopatcong\, NJ
CATEGORIES:Dinner
END:VEVENT
BEGIN:VEVENT
DTSTART;TZID=America/New_York:20241116T093000
DTEND;TZID=America/New_York:20241116T103000
DTSTAMP:20260423T172140
CREATED:20241023T000733Z
LAST-MODIFIED:20241023T000733Z
UID:3471-1731749400-1731753000@www.gardenstatehogchapter.com
SUMMARY:Chapter Meeting - November
DESCRIPTION:Hello Folks.  Come to the Dealership to check out what is going on with the Chapter as we transition into the holidays and prep for 2025.  The meeting starts at 9:30AM.
URL:https://www.gardenstatehogchapter.com/welcome/event/chapter-meeting-november/
LOCATION:Garden State Harley-Davidson\, 1775 Route 10 East\, Morris Plains\, NJ\, 07950\, United States
CATEGORIES:Meeting
END:VEVENT
BEGIN:VEVENT
DTSTART;TZID=America/New_York:20241111T100000
DTEND;TZID=America/New_York:20241111T143000
DTSTAMP:20260423T172140
CREATED:20241008T234733Z
LAST-MODIFIED:20241106T002148Z
UID:3456-1731319200-1731335400@www.gardenstatehogchapter.com
SUMMARY:CANCELLED - Chapter Ride - Veteran's Day Ride
DESCRIPTION:This ride has been cancelled. \nRoad Captain Herb Olbrich is supporting our Veteran’s Day observation with a ride back to Brigadier General William C. Doyle Memorial Cemetery.  Riders will depart the Dealership at 10:00AM\, and guests are welcome if they sign a waiver.
URL:https://www.gardenstatehogchapter.com/welcome/event/chapter-ride-veterans-day-ride-2/
LOCATION:Brigadier General William C. Doyle Memorial Cemetery\, 350 Province Line Road\, Wrightstown\, NJ\, 08562
CATEGORIES:Ride
END:VEVENT
BEGIN:VEVENT
DTSTART;TZID=America/New_York:20241102T110000
DTEND;TZID=America/New_York:20241102T150000
DTSTAMP:20260423T172140
CREATED:20241023T000319Z
LAST-MODIFIED:20241023T000319Z
UID:3469-1730545200-1730559600@www.gardenstatehogchapter.com
SUMMARY:Chapter Ride - Pennings Farm
DESCRIPTION:On November 2nd\, Road Captain Joe Gennarelli will lead a ride up to Pennings Farm in Warwick\, NY.  Riders will depart the Dealership at 11:00AM\, and guests are welcome if they sign a waiver.
URL:https://www.gardenstatehogchapter.com/welcome/event/chapter-ride-pennings-farm/
LOCATION:Chapter Ride – Pennings Farm Market\, 161 State Route 94 South\, Warwick\, NY\, 10990
CATEGORIES:Ride
END:VEVENT
BEGIN:VEVENT
DTSTART;TZID=America/New_York:20241026T100000
DTEND;TZID=America/New_York:20241026T140000
DTSTAMP:20260423T172140
CREATED:20241008T233805Z
LAST-MODIFIED:20241008T233805Z
UID:3452-1729936800-1729951200@www.gardenstatehogchapter.com
SUMMARY:Chapter Ride - Halloween Ride
DESCRIPTION:Head Road Captain Barbara Gould is brushing away the cobwebs on another Halloween Chapter ride.  On October 26th\, riders will depart the Dealership at 10:00AM\, and guests are welcome if they sign a waiver.
URL:https://www.gardenstatehogchapter.com/welcome/event/chapter-ride-halloween-ride-2/
LOCATION:NJ
CATEGORIES:Ride
END:VEVENT
BEGIN:VEVENT
DTSTART;TZID=America/New_York:20241020T100000
DTEND;TZID=America/New_York:20241020T150000
DTSTAMP:20260423T172140
CREATED:20241008T234055Z
LAST-MODIFIED:20241015T231407Z
UID:3454-1729418400-1729436400@www.gardenstatehogchapter.com
SUMMARY:Chapter Ride - Lighthouse Challenge of NJ
DESCRIPTION:Road Captain MaryAlice is leading a ride to the shore as part of the Lighthouse Challenge of NJ\, on Sunday October 20.  Riders will depart the Dealership at 10:00AM\, and guests are welcome if they sign a waiver.  Lighthouse Challenge FAQs:  https://lighthousechallengenj.com/faqs%2C-a-map-and-more
URL:https://www.gardenstatehogchapter.com/welcome/event/chapter-ride-lighthouse-visit-tbd/
LOCATION:NJ
CATEGORIES:Ride
END:VEVENT
BEGIN:VEVENT
DTSTART;TZID=America/New_York:20241019T103000
DTEND;TZID=America/New_York:20241019T170000
DTSTAMP:20260423T172140
CREATED:20241002T002611Z
LAST-MODIFIED:20241002T002611Z
UID:3448-1729333800-1729357200@www.gardenstatehogchapter.com
SUMMARY:Chapter Ride - Wallenpaupack Brewing Company
DESCRIPTION:Head Road Captain Barbara Gould has planned another epic ride\, this time up to the Wallenpaupack Brewing Company in Hawley\, PA.  Riders will depart the Dealership at 9:00AM\, and guests are welcome if they sign a waiver.
URL:https://www.gardenstatehogchapter.com/welcome/event/chapter-ride-wallenpaupack-brewing-company/
LOCATION:Wallenpaupack Brewing Company\, 73 Welwood Avenue\, Hawley\, PA\, 18428
CATEGORIES:Ride
END:VEVENT
BEGIN:VEVENT
DTSTART;TZID=America/New_York:20241019T090000
DTEND;TZID=America/New_York:20241019T093000
DTSTAMP:20260423T172140
CREATED:20241002T001942Z
LAST-MODIFIED:20241002T001942Z
UID:3446-1729328400-1729330200@www.gardenstatehogchapter.com
SUMMARY:Chapter Meeting - October Edition
DESCRIPTION:Come One\, Come All to the October Chapter Meeting at that Dealership.  The meeting is being move up to 9:00AM to buy some time for a long ride.
URL:https://www.gardenstatehogchapter.com/welcome/event/chapter-meeting-october-edition/
LOCATION:Garden State Harley-Davidson\, 1775 Route 10 East\, Morris Plains\, NJ\, 07950\, United States
CATEGORIES:Meeting
END:VEVENT
BEGIN:VEVENT
DTSTART;TZID=America/New_York:20241013T090000
DTEND;TZID=America/New_York:20241013T170000
DTSTAMP:20260423T172140
CREATED:20241002T001557Z
LAST-MODIFIED:20241012T215304Z
UID:3443-1728810000-1728838800@www.gardenstatehogchapter.com
SUMMARY:CANCELLED! Chapter Ride - Old Schoolhouse Inn
DESCRIPTION:Due to rains expected throughout NY State tomorrow\, this ride has been cancelled. \nHead Road Captain Barbara Gould will lead an epic “all day” ride up to the Old Schoolhouse Inn in Downsville\, NY.  Riders will depart the Dealership at 9:00AM\, and guests are welcome if they sign a waiver.
URL:https://www.gardenstatehogchapter.com/welcome/event/chapter-ride-old-schoolhouse-inn/
LOCATION:Old Schoolhouse Inn\, 28218 NY-206\, Downsville\, NY\, 13755
CATEGORIES:Ride
END:VEVENT
BEGIN:VEVENT
DTSTART;TZID=America/New_York:20241012T100000
DTEND;TZID=America/New_York:20241012T153000
DTSTAMP:20260423T172140
CREATED:20240618T232542Z
LAST-MODIFIED:20241012T100851Z
UID:3359-1728727200-1728747000@www.gardenstatehogchapter.com
SUMMARY:Chapter Ride - Double S Smokehouse
DESCRIPTION:Road Captain Mark Durenberger will lead a scenic ride up to Double S Smokehouse in Warwick\, NY.  This is a destination change due to Nurnberger Bierhaus being closed.  Riders will depart the Dealership at 10:00AM\, and guests are welcome if they sign a waiver.  
URL:https://www.gardenstatehogchapter.com/welcome/event/chapter-ride-nurnberger-bierhaus-llama-ice-cream/
LOCATION:Double S Smokehouse Warwick\, 49 Oakland Ave.\, Warwick\, NY\, 10990
CATEGORIES:Ride
END:VEVENT
BEGIN:VEVENT
DTSTART;TZID=America/New_York:20241006T093000
DTEND;TZID=America/New_York:20241006T150000
DTSTAMP:20260423T172140
CREATED:20240920T004923Z
LAST-MODIFIED:20240920T004923Z
UID:3437-1728207000-1728226800@www.gardenstatehogchapter.com
SUMMARY:Chapter Ride - Forever Friends Ride
DESCRIPTION:Head Road Captain Barbara Gould will lead a ride to the ride in support of Forever Friends and their mission to support Motorcycle Awareness.  Riders will depart the Dealership at 9:30AM\, and guests are welcome if they sign a waiver.  https://www.foreverfriendsmotorcycleawareness.org/bike-run-event/
URL:https://www.gardenstatehogchapter.com/welcome/event/chapter-ride-forever-friends-ride/
LOCATION:Sussex County Fairgrounds\, 37 Plains Road\, Augusta\, NJ\, 07822
CATEGORIES:Ride
END:VEVENT
BEGIN:VEVENT
DTSTART;TZID=America/New_York:20241005T110000
DTEND;TZID=America/New_York:20241005T153000
DTSTAMP:20260423T172140
CREATED:20240827T231329Z
LAST-MODIFIED:20241002T003528Z
UID:3416-1728126000-1728142200@www.gardenstatehogchapter.com
SUMMARY:Chapter Ride - Bear Mountain / Perkins Memorial Tower
DESCRIPTION:Road Captain Mark “Meatball” Bishop is leading a ride up to Bear Mountain to visit the Perkins Memorial Tower.  On the way the group will stop at Barnstormer BBQ in Fort Montgomery\, NY.  Riders will depart the Dealership on October 5th at 11:00AM\, and guests are welcome if they sign a waiver.
URL:https://www.gardenstatehogchapter.com/welcome/event/chapter-ride-bear-mountain-perkins-memorial-tower/
LOCATION:Barnstormer BBQ\, 1076 Route 9W\, Fort Montgomery\, NY\, 10922
CATEGORIES:Ride
END:VEVENT
BEGIN:VEVENT
DTSTART;TZID=America/New_York:20241004T093000
DTEND;TZID=America/New_York:20241006T150000
DTSTAMP:20260423T172140
CREATED:20240820T002216Z
LAST-MODIFIED:20240820T002216Z
UID:3412-1728034200-1728226800@www.gardenstatehogchapter.com
SUMMARY:Chapter Overnight - Mystic\, CT
DESCRIPTION:The Mystic\, CT Overnight HOG ride\, the weekend of October 4th through the 6th. Please make sure you check out the abundance of activities available\, and note the need to reserve your hotel in advance in order to secure the discounted rates\, via this Eventbrite link… Mystic Overnight Registration. \nA big thanks to Road Captain Dr. Jax.
URL:https://www.gardenstatehogchapter.com/welcome/event/chapter-overnight-mystic-ct/
LOCATION:Mystic\, CT\, Econo Lodge\, Mystic\, CT\, 06475
CATEGORIES:Chapter Day Trip
END:VEVENT
BEGIN:VEVENT
DTSTART;TZID=America/New_York:20240928T103000
DTEND;TZID=America/New_York:20240928T140000
DTSTAMP:20260423T172140
CREATED:20240920T011508Z
LAST-MODIFIED:20240920T011508Z
UID:3440-1727519400-1727532000@www.gardenstatehogchapter.com
SUMMARY:Chapter Ride - Mambo Cuban TBD
DESCRIPTION:Road Captain Amaury Valdes will lead a ride to Mambo Cuban in Union.  Riders will depart the Dealership at 10:30AM\, and guests are welcome to join if they sign a waiver.
URL:https://www.gardenstatehogchapter.com/welcome/event/chapter-ride-mambo-cuban-tbd/
LOCATION:Mambo Cuban\, 2185 Route 22 W\, Union\, NJ\, 07083
CATEGORIES:Ride
END:VEVENT
BEGIN:VEVENT
DTSTART;TZID=America/New_York:20240922T103000
DTEND;TZID=America/New_York:20240922T143000
DTSTAMP:20260423T172140
CREATED:20240910T233232Z
LAST-MODIFIED:20240910T233232Z
UID:3430-1727001000-1727015400@www.gardenstatehogchapter.com
SUMMARY:Chapter Ride - Sizzle BBQ Argentinian Steak House
DESCRIPTION:Road Captain DJ Peterson is leading a ride to Sizzle BBQ Argentinian Steakhouse in Newton\, NJ on Sunday September 22.  Riders will depart the Dealership at 10:30AM\, and guests are welcome if they sign a waiver.
URL:https://www.gardenstatehogchapter.com/welcome/event/chapter-ride-sizzle-bbq-argentinian-steak-house/
LOCATION:Sizzle BBQ Argentinian Steak\, 216 Woodside Ave\, Newton\, NJ\, 07860
CATEGORIES:Ride
END:VEVENT
BEGIN:VEVENT
DTSTART;TZID=America/New_York:20240921T093000
DTEND;TZID=America/New_York:20240921T140000
DTSTAMP:20260423T172140
CREATED:20240817T151511Z
LAST-MODIFIED:20240817T151511Z
UID:3403-1726911000-1726927200@www.gardenstatehogchapter.com
SUMMARY:Charity Ride - Eric C. Blohm Ride
DESCRIPTION:Garden State Harley Davidson is hosting the 9th Annual Eric C. Blohm ride\, supporting children with serious illnesses.  We will be moving the September Chapter meeting to 9AM to allow the Chapter members to support parking\, HOG table\, etc.  The ride departs the Dealership at 11AM and returns for lunch.
URL:https://www.gardenstatehogchapter.com/welcome/event/charity-ride-eric-c-blohm-ride/
LOCATION:Garden State Harley-Davidson\, 1775 Route 10 East\, Morris Plains\, NJ\, 07950\, United States
CATEGORIES:Dealership Event
END:VEVENT
BEGIN:VEVENT
DTSTART;TZID=America/New_York:20240921T090000
DTEND;TZID=America/New_York:20240921T093000
DTSTAMP:20260423T172140
CREATED:20240817T152120Z
LAST-MODIFIED:20240817T152120Z
UID:3405-1726909200-1726911000@www.gardenstatehogchapter.com
SUMMARY:Chapter Meeting - September
DESCRIPTION:Come join fellow Chapter members at the September meeting\, moved 30 minutes earlier for the Eric C. Blohm charity ride.
URL:https://www.gardenstatehogchapter.com/welcome/event/chapter-meeting-september-2/
LOCATION:Garden State Harley-Davidson\, 1775 Route 10 East\, Morris Plains\, NJ\, 07950\, United States
CATEGORIES:Meeting
END:VEVENT
BEGIN:VEVENT
DTSTART;TZID=America/New_York:20240915T090000
DTEND;TZID=America/New_York:20240915T153000
DTSTAMP:20260423T172140
CREATED:20240910T231916Z
LAST-MODIFIED:20240910T231916Z
UID:3427-1726390800-1726414200@www.gardenstatehogchapter.com
SUMMARY:Chapter Ride - Upstate NY - Fazio Farms & BBQ
DESCRIPTION:Head Road Captain Barbara Gould is leading a 100+ mile / 3 hour ride into upstate NY on Sunday September 15th.  The group will make a stop at the very excellent John Fazio Farms BBQ & Pizza.  Riders will depart the Dealership at 9:00AM\, and guests are welcome if they sign a waiver.
URL:https://www.gardenstatehogchapter.com/welcome/event/chapter-ride-upstate-ny-fazio-farms-bbq/
LOCATION:John Fazio Farms BBQ\, 1836 US-44 #55\, Modena\, NY\, 12548
CATEGORIES:Ride
END:VEVENT
BEGIN:VEVENT
DTSTART;TZID=America/New_York:20240914T103000
DTEND;TZID=America/New_York:20240914T143000
DTSTAMP:20260423T172140
CREATED:20240910T230632Z
LAST-MODIFIED:20240910T230632Z
UID:3425-1726309800-1726324200@www.gardenstatehogchapter.com
SUMMARY:Chapter Ride - Irish Cottage Inn
DESCRIPTION:Road Captain Russ Hall is leading a ride to Irish Cottage Inn in Franklin\, NJ on Saturday September 14th.  Riders will depart the Dealership at 10:30AM\, and guests are welcome if they sign a waiver.
URL:https://www.gardenstatehogchapter.com/welcome/event/chapter-ride-irish-cottage-inn-2/
LOCATION:Irish Cottage Inn\, 602 Route 23\, Franklin\, New Jersey\, 07416
CATEGORIES:Ride
END:VEVENT
BEGIN:VEVENT
DTSTART;TZID=America/New_York:20240914T093000
DTEND;TZID=America/New_York:20240914T170000
DTSTAMP:20260423T172140
CREATED:20240903T171425Z
LAST-MODIFIED:20240903T171425Z
UID:3421-1726306200-1726333200@www.gardenstatehogchapter.com
SUMMARY:Dealership Event - A Salute to Service
DESCRIPTION:JOIN US TO HONOR OUR NATION’S HEROES \nCalling all Military Service Members and First Responders – past and present – to attend a celebration in your honor on Saturday\, September 14. Not a service member? Join us to show your appreciation for our local heroes who keep us safe and allow us to ride free. \n\nBe among the first 100 to RSVP below and claim your commemorative prize pack* \nAdditional Prizes & Giveaways* \nSpecial activities for service members  \nCelebrate all active and retired Military\, Police\, Fire and other First Responders in a way that only Harley-Davidson can  \nH-D® Membership Event Special**\n– Earn up to 2\,000 Bonus Points with a $100+ in-store purchase ($20 Value)\n\nhttps://gardenstatehd.com/l/a-salute-to-service-membership
URL:https://www.gardenstatehogchapter.com/welcome/event/dealership-event-a-salute-to-service/
LOCATION:Garden State Harley-Davidson\, 1775 Route 10 East\, Morris Plains\, NJ\, 07950\, United States
CATEGORIES:Dealership Event
END:VEVENT
BEGIN:VEVENT
DTSTART;TZID=America/New_York:20240908T100000
DTEND;TZID=America/New_York:20240908T140000
DTSTAMP:20260423T172140
CREATED:20240827T234741Z
LAST-MODIFIED:20240827T234741Z
UID:3419-1725789600-1725804000@www.gardenstatehogchapter.com
SUMMARY:Chapter Ride - Hawthorne Gun Club
DESCRIPTION:A big thanks to Joe G. for putting together another ride to Hawthorne Gun Club\, in Hawthorne\, NJ.  The Chapter have joined Joe for this activity several times.  There is a small fee to shoot\, and you do not need to have your own gun.  Riders will depart the Dealership at 10AM on Sunday September 8th.  Lunch options are available near the Gun Club.
URL:https://www.gardenstatehogchapter.com/welcome/event/chapter-ride-hawthorne-gun-club-2/
LOCATION:Hawthorne Gun Club\, 296 Wagaraw Rd\, Hawthorne\, New Jersey\, 07506
CATEGORIES:Ride
END:VEVENT
BEGIN:VEVENT
DTSTART;TZID=America/New_York:20240831T103000
DTEND;TZID=America/New_York:20240831T143000
DTSTAMP:20260423T172140
CREATED:20240813T233808Z
LAST-MODIFIED:20240827T225027Z
UID:3400-1725100200-1725114600@www.gardenstatehogchapter.com
SUMMARY:Chapter Ride - Jimmy Geez North - Chicken Wing Challenge
DESCRIPTION:Road Captain Joe Gennarelli will lead a ride up to Jimmy Geez North on Saturday August 31st for the Chicken Wing Challenge.  Riders will depart the Dealership at 10:30AM\, and guests are welcome if they sign a waiver.
URL:https://www.gardenstatehogchapter.com/welcome/event/chapter-ride-jimmy-geez-north-chicken-wing-challenge/
LOCATION:Jimmy Geez North\, 3219 Rt 23 South\, Oak Ridge\, NJ\, 07438
CATEGORIES:Ride
END:VEVENT
BEGIN:VEVENT
DTSTART;TZID=America/New_York:20240825T093000
DTEND;TZID=America/New_York:20240825T143000
DTSTAMP:20260423T172140
CREATED:20240813T233131Z
LAST-MODIFIED:20240813T233131Z
UID:3397-1724578200-1724596200@www.gardenstatehogchapter.com
SUMMARY:Chapter Event - Lost River Cavern
DESCRIPTION:Activity Director Diane is putting together a cool day trip to Lost River Cavern in Hellertown\, PA on Sunday August 25th. The tour starts promptly at 11am and guests are to arrive at the gift shop no later than 10:45am. The tour lasts approximately 45 minutes. \nThe group rate is $11 per person – but we must have a minimum of 15 to get this rate. If we don’t meet 15\, cost is $16 per person. Payment is due on August 25 at the cavern. PLEASE BRING CASH or be able to pay me (Diane) by Venmo or Zelle.
URL:https://www.gardenstatehogchapter.com/welcome/event/chapter-event-lost-river-cavern/
LOCATION:Lost River Caverns\, 726 Durham St.\, Hellertown\, PA\, 18055
CATEGORIES:Chapter Day Trip
END:VEVENT
BEGIN:VEVENT
DTSTART;TZID=America/New_York:20240824T103000
DTEND;TZID=America/New_York:20240824T143000
DTSTAMP:20260423T172140
CREATED:20240813T232156Z
LAST-MODIFIED:20240813T232156Z
UID:3395-1724495400-1724509800@www.gardenstatehogchapter.com
SUMMARY:Chapter Ride - Apple Valley Family Restaurant
DESCRIPTION:Road Captain Russ Hall will be leading the way up to Milford\, PA to the fan favorite Apple Valley Family Restaurant.  Riders will depart the Dealership at 10:30AM\, and guests are welcome to join if they sign a waiver.
URL:https://www.gardenstatehogchapter.com/welcome/event/chapter-ride-apple-valley-family-restaurant-2/
LOCATION:Apple Valley Restaurant\, 104 Rt. 6\, Milford\, PA\, 18337
CATEGORIES:Ride
END:VEVENT
BEGIN:VEVENT
DTSTART;TZID=America/New_York:20240818T103000
DTEND;TZID=America/New_York:20240818T143000
DTSTAMP:20260423T172140
CREATED:20240808T002748Z
LAST-MODIFIED:20240817T220005Z
UID:3392-1723977000-1723991400@www.gardenstatehogchapter.com
SUMMARY:CANCELLED - Chapter Ride - The George Inn
DESCRIPTION:Due to the wet\, stormy forecast\, we are cancelling this ride. \nRoad Captain Darren Paxton will lead a ride up to Vernon Township and The George Inn.  Riders will depart the Dealership at 10:30AM\, and guests are welcome if they sign a waiver.
URL:https://www.gardenstatehogchapter.com/welcome/event/chapter-ride-the-george-inn/
LOCATION:The George Inn\, 84 NJ-94\, Vernon Township\, NJ\, 07462
CATEGORIES:Ride
END:VEVENT
BEGIN:VEVENT
DTSTART;TZID=America/New_York:20240817T110000
DTEND;TZID=America/New_York:20240817T150000
DTSTAMP:20260423T172140
CREATED:20240808T002034Z
LAST-MODIFIED:20240808T002034Z
UID:3389-1723892400-1723906800@www.gardenstatehogchapter.com
SUMMARY:Chapter Ride - Under The Moon Cafe
DESCRIPTION:Road Captain MaryAlice and Director Russell will be leading a ride to Under The Moon Cafe in Lambertville\, NJ.  Riders will depart the Dealership at 11AM\, following the Chapter Meeting.  Guests are welcome if they sign a waiver.
URL:https://www.gardenstatehogchapter.com/welcome/event/chapter-ride-under-the-moon-cafe/
LOCATION:Under The Moon Cafe\, 23 N. Union Street\, Lambertville\, NJ\, 08530
CATEGORIES:Ride
END:VEVENT
BEGIN:VEVENT
DTSTART;TZID=America/New_York:20240817T093000
DTEND;TZID=America/New_York:20240817T103000
DTSTAMP:20260423T172140
CREATED:20240618T233130Z
LAST-MODIFIED:20240618T233130Z
UID:3361-1723887000-1723890600@www.gardenstatehogchapter.com
SUMMARY:August Chapter Meeting
DESCRIPTION:Join fellow Chapter Members\, and a stray guest from time to time\, at the August Chapter Meeting.  The meeting starts at 9:30AM at the Dealership.  See you there.
URL:https://www.gardenstatehogchapter.com/welcome/event/august-chapter-meeting-2/
LOCATION:Garden State Harley-Davidson\, 1775 Route 10 East\, Morris Plains\, NJ\, 07950\, United States
CATEGORIES:Meeting
END:VEVENT
END:VCALENDAR