BEGIN:VCALENDAR
VERSION:2.0
PRODID:-//Garden State Hog Chapter - ECPv6.15.17.1//NONSGML v1.0//EN
CALSCALE:GREGORIAN
METHOD:PUBLISH
X-WR-CALNAME:Garden State Hog Chapter
X-ORIGINAL-URL:https://www.gardenstatehogchapter.com/welcome
X-WR-CALDESC:Events for Garden State Hog Chapter
REFRESH-INTERVAL;VALUE=DURATION:PT1H
X-Robots-Tag:noindex
X-PUBLISHED-TTL:PT1H
BEGIN:VTIMEZONE
TZID:America/New_York
BEGIN:DAYLIGHT
TZOFFSETFROM:-0500
TZOFFSETTO:-0400
TZNAME:EDT
DTSTART:20240310T070000
END:DAYLIGHT
BEGIN:STANDARD
TZOFFSETFROM:-0400
TZOFFSETTO:-0500
TZNAME:EST
DTSTART:20241103T060000
END:STANDARD
BEGIN:DAYLIGHT
TZOFFSETFROM:-0500
TZOFFSETTO:-0400
TZNAME:EDT
DTSTART:20250309T070000
END:DAYLIGHT
BEGIN:STANDARD
TZOFFSETFROM:-0400
TZOFFSETTO:-0500
TZNAME:EST
DTSTART:20251102T060000
END:STANDARD
BEGIN:DAYLIGHT
TZOFFSETFROM:-0500
TZOFFSETTO:-0400
TZNAME:EDT
DTSTART:20260308T070000
END:DAYLIGHT
BEGIN:STANDARD
TZOFFSETFROM:-0400
TZOFFSETTO:-0500
TZNAME:EST
DTSTART:20261101T060000
END:STANDARD
END:VTIMEZONE
BEGIN:VEVENT
DTSTART;TZID=America/New_York:20251115T180000
DTEND;TZID=America/New_York:20251115T220000
DTSTAMP:20260423T173351
CREATED:20250908T123804Z
LAST-MODIFIED:20250908T123804Z
UID:3671-1763229600-1763244000@www.gardenstatehogchapter.com
SUMMARY:End of Season Dinner
DESCRIPTION:Register today for the 2025 Garden State HOG Chapter End of Season Dinner! \n\nDate: Saturday\, November 15\, 2025\nTime: 6-10pm\nLocation: Il Palazzo\, 600 Ringwood Avenue\, Wanaque\nPrice: $50/person\, includes buffet\, soda\, water\, coffee\, tea; cash bar\n\nJoin the chapter for an evening of music\, dancing\, great food\, and prizes! Hang with your old friends and make new ones! Reservations being accepted now! Pay by check\, cash\, or credit card. \nCheck: Bring in person to the chapter meeting or leave with Randi or Nikki at Merchandise\, GSHD\, 1775 Route 10\, Morris Plains\, NJ 07950 (you may also mail in) \nCash/credit cards/checks: Please see MaryAlice Breuninger in person at a Chapter Meeting or ride.
URL:https://www.gardenstatehogchapter.com/welcome/event/end-of-season-dinner-3/
LOCATION:Il Palazzo\, 600 Ringwood Avenue\, Wanaque\, NJ\, 07465
CATEGORIES:Dinner
END:VEVENT
BEGIN:VEVENT
DTSTART;TZID=America/New_York:20251115T090000
DTEND;TZID=America/New_York:20251115T100000
DTSTAMP:20260423T173351
CREATED:20251014T194351Z
LAST-MODIFIED:20251014T194351Z
UID:3686-1763197200-1763200800@www.gardenstatehogchapter.com
SUMMARY:November Chapter Meeting
DESCRIPTION:We welcome all Garden State HOG Chapter Members and guests to the last meeting of the year\, located at Garden State H-D.  We will review details about the various end of year activities\, including the End of Season Dinner that will take place later that evening.
URL:https://www.gardenstatehogchapter.com/welcome/event/november-chapter-meeting-3/
LOCATION:Garden State Harley-Davidson\, 1775 Route 10 East\, Morris Plains\, NJ\, 07950\, United States
CATEGORIES:Meeting
END:VEVENT
BEGIN:VEVENT
DTSTART;TZID=America/New_York:20251111T103000
DTEND;TZID=America/New_York:20251111T130000
DTSTAMP:20260423T173351
CREATED:20251104T211142Z
LAST-MODIFIED:20251110T174324Z
UID:3695-1762857000-1762866000@www.gardenstatehogchapter.com
SUMMARY:Cancelled - Chapter Ride - Veteran's Day Turkey Brook Park
DESCRIPTION:Due to the weather forecast for Veteran’s Day\, this ride is cancelled. \n  \nRoad Captain Herb Olbrich will be leading the annual Veteran’s Day Ride to the Veteran’s Memorial in Turkey Brook Park\, Budd Lake\, NJ.  Riders will depart the Dealership at 10:30AM.
URL:https://www.gardenstatehogchapter.com/welcome/event/chapter-ride-veterans-day-turkey-brook-park/
LOCATION:Turkey Brook Park\, 30 Flanders Rd\, Budd Lake\, NJ\, 07828
CATEGORIES:Ride
END:VEVENT
BEGIN:VEVENT
DTSTART;TZID=America/New_York:20251101T103000
DTEND;TZID=America/New_York:20251101T120000
DTSTAMP:20260423T173351
CREATED:20251014T194012Z
LAST-MODIFIED:20251014T194443Z
UID:3684-1761993000-1761998400@www.gardenstatehogchapter.com
SUMMARY:Chapter Ride - Memorial Halloween Ride
DESCRIPTION:In tribute to Barbara Gould’s annual event\, Head Road Captain Darren Paxton will be leading the Memorial Halloween Ride on Saturday November 1st.  Riders will depart the Dealership at 10:30AM\, and guests are welcome if they sign a waiver.
URL:https://www.gardenstatehogchapter.com/welcome/event/chapter-ride-halloween-ride-3/
CATEGORIES:Ride
END:VEVENT
BEGIN:VEVENT
DTSTART;TZID=America/New_York:20251025T103000
DTEND;TZID=America/New_York:20251025T133000
DTSTAMP:20260423T173351
CREATED:20251022T004217Z
LAST-MODIFIED:20251022T004217Z
UID:3692-1761388200-1761399000@www.gardenstatehogchapter.com
SUMMARY:Chapter Ride - Randolph Diner
DESCRIPTION:Road Captain Mark Durenberger will lead a ride to one of the Diner Challenge locations – Randolph Diner.  Riders will depart the Dealership at 10:30AM\, and guests are welcome if they sign a waiver.
URL:https://www.gardenstatehogchapter.com/welcome/event/chapter-ride-randolph-diner/
LOCATION:Randolph Diner\, 517 NJ-10 East\, Randolph\, NJ\, 07869
CATEGORIES:Ride
END:VEVENT
BEGIN:VEVENT
DTSTART;TZID=America/New_York:20251018T110000
DTEND;TZID=America/New_York:20251018T143000
DTSTAMP:20260423T173351
CREATED:20250902T233336Z
LAST-MODIFIED:20250902T233336Z
UID:3664-1760785200-1760797800@www.gardenstatehogchapter.com
SUMMARY:Chapter Ride - Jolly Onion
DESCRIPTION:Director Rich will be leading a ride back to The Jolly Onion on Saturday October 18th.  Riders will depart the Dealership at 11:00AM\, and guests are welcome if they sign a waiver.
URL:https://www.gardenstatehogchapter.com/welcome/event/chapter-ride-jolly-onion-2/
LOCATION:The Jolly Onion\, 625 Glenwood Road\, Pine Island\, NY\, 10969
CATEGORIES:Ride
END:VEVENT
BEGIN:VEVENT
DTSTART;TZID=America/New_York:20251018T090000
DTEND;TZID=America/New_York:20251018T100000
DTSTAMP:20260423T173351
CREATED:20250819T225913Z
LAST-MODIFIED:20250819T225913Z
UID:3634-1760778000-1760781600@www.gardenstatehogchapter.com
SUMMARY:October Chapter Meeting
DESCRIPTION:Join our Chapter members at Garden State Harley-Davidson at 9AM on October 18th.  Learn about the remining activities for the riding season and what other we have going on.  We may have a guest speaker.
URL:https://www.gardenstatehogchapter.com/welcome/event/october-chapter-meeting-4/
LOCATION:Garden State Harley-Davidson\, 1775 Route 10 East\, Morris Plains\, NJ\, 07950\, United States
CATEGORIES:Meeting
END:VEVENT
BEGIN:VEVENT
DTSTART;TZID=America/New_York:20251005T100000
DTEND;TZID=America/New_York:20251005T133000
DTSTAMP:20260423T173351
CREATED:20250826T212859Z
LAST-MODIFIED:20250902T232649Z
UID:3651-1759658400-1759671000@www.gardenstatehogchapter.com
SUMMARY:Gun Run - Hawthorne Gun Club
DESCRIPTION:Joe G. is bringing back the ride to Hawthorne Gun Club\, to be held on Sunday October 5th.  KSU is at 10:00AM.  We will update further details soon.
URL:https://www.gardenstatehogchapter.com/welcome/event/gun-run-hawthorne-gun-club/
LOCATION:Hawthorne Gun Club\, 296 Wagaraw Rd\, Hawthorne\, New Jersey\, 07506
CATEGORIES:Ride
END:VEVENT
BEGIN:VEVENT
DTSTART;TZID=America/New_York:20251004T080000
DTEND;TZID=America/New_York:20251004T170000
DTSTAMP:20260423T173351
CREATED:20250520T000528Z
LAST-MODIFIED:20250909T135215Z
UID:3571-1759564800-1759597200@www.gardenstatehogchapter.com
SUMMARY:Chapter Ride - Jim Thorpe\, PA
DESCRIPTION:Road Captain Don Lannigan is planning a ride out to Jim Thorpe\, PA on June 28th. The link below contains several historic options of things to see there\, or you can head home whenever you’d like after lunch. \nKSU from the Dealership at 8:00AM\, and group return will leave Jim Thorpe at 5:00PM\, stopping at “The World’s Largest General Store” along the way.
URL:https://www.gardenstatehogchapter.com/welcome/event/chapter-ride-jim-thorpe-pa/
LOCATION:Jim Thorpe\, PA\, 2 Hazard Square\, Jim Thorpe\, PA\, 18229
CATEGORIES:Ride
END:VEVENT
BEGIN:VEVENT
DTSTART;TZID=America/New_York:20250927T110000
DTEND;TZID=America/New_York:20250927T150000
DTSTAMP:20260423T173351
CREATED:20250908T122916Z
LAST-MODIFIED:20250908T122916Z
UID:3669-1758970800-1758985200@www.gardenstatehogchapter.com
SUMMARY:Chapter Ride - Jersey Shore BBQ
DESCRIPTION:Road Captain Doug Ryan will lead a ride to Jersey Shore BBQ in Point Pleasant\, NJ on Saturday September 27th.  Riders will depart the Dealership at 11:00AM\, and guests are welcome if they sign a waiver.
URL:https://www.gardenstatehogchapter.com/welcome/event/chapter-ride-jersey-shore-bbq-2/
LOCATION:Jersey Shore BBQ\, 710 Arnold Ave.\, Point Pleasant\, NJ\, 08742
CATEGORIES:Ride
END:VEVENT
BEGIN:VEVENT
DTSTART;TZID=America/New_York:20250921T100000
DTEND;TZID=America/New_York:20250921T143000
DTSTAMP:20260423T173351
CREATED:20250902T210411Z
LAST-MODIFIED:20250909T140039Z
UID:3654-1758448800-1758465000@www.gardenstatehogchapter.com
SUMMARY:Chapter Ride - Forever Friends "One Last Run"
DESCRIPTION:Garden State HOG have a long relationship with Toni and the Forever Friends Motorcycle Awareness Charity Ride.  This is a “ride to the ride” for their One Last Run event.  Road Captain Doug Ryan\, with Deborah sweeping\, will be leading to the Sussex County Fairgrounds.  Departure from the Dealership is at 10:00AM. 
URL:https://www.gardenstatehogchapter.com/welcome/event/chapter-ride-forever-friends-one-last-time/
LOCATION:Sussex County Fairgrounds\, 37 Plains Road\, Augusta\, NJ\, 07822
CATEGORIES:Ride
END:VEVENT
BEGIN:VEVENT
DTSTART;TZID=America/New_York:20250920T093000
DTEND;TZID=America/New_York:20250920T133000
DTSTAMP:20260423T173351
CREATED:20250819T232954Z
LAST-MODIFIED:20250819T232954Z
UID:3643-1758360600-1758375000@www.gardenstatehogchapter.com
SUMMARY:Charity Ride - Eric C. Blohm
DESCRIPTION:Garden State H-D will be supporting the Eric C. Blohm charity ride again in 2025. Expect the need for support of Parking right after the September Chapter meeting\, along with a HOG table.  Grilling help TBD.   \nFrom the Dealership: Registration begins at 10am & KSU at 11am! Join us for a 50 mile scenic ride through Morris County Followed by a BBQ lunch included! $25 to ride! All proceeds benefit the ECBF for children with serious illnesses! Come out and ride for a great cause!
URL:https://www.gardenstatehogchapter.com/welcome/event/charity-ride-eric-c-blohm/
LOCATION:Garden State Harley-Davidson\, 1775 Route 10 East\, Morris Plains\, NJ\, 07950\, United States
CATEGORIES:Dealership Event
END:VEVENT
BEGIN:VEVENT
DTSTART;TZID=America/New_York:20250920T090000
DTEND;TZID=America/New_York:20250920T100000
DTSTAMP:20260423T173351
CREATED:20250819T225618Z
LAST-MODIFIED:20250819T225618Z
UID:3632-1758358800-1758362400@www.gardenstatehogchapter.com
SUMMARY:September Chapter Meeting
DESCRIPTION:Join our Chapter members at Garden State Harley-Davidson at 9AM on September 20th.  Hear what is happening with the upcoming rides and other events.  We may have a guest speaker.
URL:https://www.gardenstatehogchapter.com/welcome/event/september-chapter-meeting-3/
LOCATION:Garden State Harley-Davidson\, 1775 Route 10 East\, Morris Plains\, NJ\, 07950\, United States
CATEGORIES:Meeting
END:VEVENT
BEGIN:VEVENT
DTSTART;TZID=America/New_York:20250919T183000
DTEND;TZID=America/New_York:20250919T210000
DTSTAMP:20260423T173351
CREATED:20250916T211212Z
LAST-MODIFIED:20250916T211212Z
UID:3677-1758306600-1758315600@www.gardenstatehogchapter.com
SUMMARY:Chapter Ride - Weird NJ Ride - Chit Chat Diner
DESCRIPTION:It’s finally here—Dr. Jax’s long-awaited Weird NJ Night Ride!  We’ll head out Friday evening at 6:30pm from the Dealership\, giving everyone time to get home from work and saddle up for an evening of local legends\, roadside oddities\, and just a touch of weirdness!  Our dinner stop will be at the Chit Chat Diner (West Orange)\, another diner challenge location and the perfect spot to cap off a Weird NJ ride (trust us—you have to see it to believe it!).
URL:https://www.gardenstatehogchapter.com/welcome/event/chapter-ride-weird-nj-ride-chit-chat-diner/
LOCATION:Chit Chat Diner\, 410 Eagle Rock Ave.\, West Orange\, NJ\, 07052
CATEGORIES:Ride
END:VEVENT
BEGIN:VEVENT
DTSTART;TZID=America/New_York:20250914T110000
DTEND;TZID=America/New_York:20250914T150000
DTSTAMP:20260423T173351
CREATED:20250908T122549Z
LAST-MODIFIED:20250908T122549Z
UID:3667-1757847600-1757862000@www.gardenstatehogchapter.com
SUMMARY:Chapter Ride - Peddler's Village
DESCRIPTION:Road Captain Debbie Ryan will lead a ride back to Peddler’s Village in Buck’s County\, PA.  Riders will depart the Dealership at 11:00AM on Sunday September 14th\, and guests are welcome to join if they sign a waiver.
URL:https://www.gardenstatehogchapter.com/welcome/event/chapter-ride-peddlers-village-2/
LOCATION:Peddler’s Village\, Lahaska\, PA
CATEGORIES:Ride
END:VEVENT
BEGIN:VEVENT
DTSTART;TZID=America/New_York:20250906T080000
DTEND;TZID=America/New_York:20250906T110000
DTSTAMP:20260423T173351
CREATED:20250701T235426Z
LAST-MODIFIED:20250902T204623Z
UID:3593-1757145600-1757156400@www.gardenstatehogchapter.com
SUMMARY:Chapter Ride - Sparta Classic Diner
DESCRIPTION:Road Captain MaryAlice will be leading a ride to Sparta Classic Diner as part of this year’s Diner Challenge\, on Saturday September 6.  Riders will depart the Dealership at 8:00AM\, heading to the diner for breakfast\, followed by a scenic ride through Sussex County.  Guests are welcome if they sign a waiver.
URL:https://www.gardenstatehogchapter.com/welcome/event/chapter-ride-sparta-classic-diner/
LOCATION:Sparta Classic Diner\, 80 Woodport Rd07871\, Sparta\, NJ\, 07871
CATEGORIES:Ride
END:VEVENT
BEGIN:VEVENT
DTSTART;TZID=America/New_York:20250830T103000
DTEND;TZID=America/New_York:20250830T160000
DTSTAMP:20260423T173351
CREATED:20250826T210445Z
LAST-MODIFIED:20250826T211850Z
UID:3647-1756549800-1756569600@www.gardenstatehogchapter.com
SUMMARY:Chapter Ride - Covered Bridge Ride In PA
DESCRIPTION:Road Captain Mark Bishop will be leading a covered bridge ride through PA with a lunch stop/ fuel stop halfway through. KSU on August 30th at 10:30 sharp.  The ride will run approximately 4.5 hours not counting lunch/fuel stops. The Chapter ride will conclude once the group crosses from PA back into NJ\, however there is an option for dinner in Frenchtown for those interested.  
URL:https://www.gardenstatehogchapter.com/welcome/event/chapter-ride-covered-bridge-ride-in-pa/
CATEGORIES:Ride
END:VEVENT
BEGIN:VEVENT
DTSTART;TZID=America/New_York:20250823T103000
DTEND;TZID=America/New_York:20250823T150000
DTSTAMP:20260423T173351
CREATED:20250205T012032Z
LAST-MODIFIED:20250812T195807Z
UID:3512-1755945000-1755961200@www.gardenstatehogchapter.com
SUMMARY:Chapter Ride - Table 9
DESCRIPTION:Head Road Captain Darren will be leading a ride back to the very nice Table 9 in Cortlandt\, NY.  Riders will depart the Dealership at 10:30AM\, and guests are welcome if they sign a waiver.
URL:https://www.gardenstatehogchapter.com/welcome/event/chapter-ride-table-9-4/
LOCATION:Table 9\, 92 Roa Hook Rd\, Cortlandt\, NY\, 10567
CATEGORIES:Ride
END:VEVENT
BEGIN:VEVENT
DTSTART;TZID=America/New_York:20250816T104500
DTEND;TZID=America/New_York:20250816T143000
DTSTAMP:20260423T173351
CREATED:20250812T195510Z
LAST-MODIFIED:20250812T195510Z
UID:3624-1755341100-1755354600@www.gardenstatehogchapter.com
SUMMARY:Chapter Ride - Mountain House Tavern & Grill
DESCRIPTION:Road Captain Pete Gallios will be leading a ride following the August Chapter Meeting to Mountain House Tavern & Grill located in Branchville\, NJ.  Riders will depart the Dealership at 10:45AM for this 62 mile ride\, and guests are welcome if they sign a waiver.
URL:https://www.gardenstatehogchapter.com/welcome/event/chapter-ride-mountain-house-tavern-grill/
LOCATION:Mountain House Tavern & Grill\, 19 US-206\, Branchville\, NJ\, 07826
CATEGORIES:Ride
END:VEVENT
BEGIN:VEVENT
DTSTART;TZID=America/New_York:20250816T090000
DTEND;TZID=America/New_York:20250816T100000
DTSTAMP:20260423T173351
CREATED:20250709T005139Z
LAST-MODIFIED:20250709T005139Z
UID:3604-1755334800-1755338400@www.gardenstatehogchapter.com
SUMMARY:August Chapter Meeting
DESCRIPTION:Please join fellow Chapter members at Garden State H-D for our August meeting.  We will start at 9:00AM on August 16th.  Hope to see you there.
URL:https://www.gardenstatehogchapter.com/welcome/event/august-chapter-meeting-3/
LOCATION:Garden State Harley-Davidson\, 1775 Route 10 East\, Morris Plains\, NJ\, 07950\, United States
CATEGORIES:Meeting
END:VEVENT
BEGIN:VEVENT
DTSTART;TZID=America/New_York:20250810T090000
DTEND;TZID=America/New_York:20250810T150000
DTSTAMP:20260423T173351
CREATED:20250701T234705Z
LAST-MODIFIED:20250709T004801Z
UID:3591-1754816400-1754838000@www.gardenstatehogchapter.com
SUMMARY:Chapter Ride - Coopersburg Diner
DESCRIPTION:Road Captain Mark Bishop has rescheduled his ride to “The Coop” Coopersburg Diner in Coopersburg\, PA.  Riders will depart the Dealership at 9:00AM on Sunday August 10th\, and guests are welcome if they sign a waiver.
URL:https://www.gardenstatehogchapter.com/welcome/event/chapter-ride-coopersburg-diner-3/
LOCATION:Coopersburg Diner\, 336 N. 3rd Street\, Coopersburg\, PA\, 18036
CATEGORIES:Ride
END:VEVENT
BEGIN:VEVENT
DTSTART;TZID=America/New_York:20250809T103000
DTEND;TZID=America/New_York:20250809T143000
DTSTAMP:20260423T173351
CREATED:20250702T000130Z
LAST-MODIFIED:20250702T000130Z
UID:3597-1754735400-1754749800@www.gardenstatehogchapter.com
SUMMARY:Chapter Ride - Apple Valley Family Restaurant
DESCRIPTION:Road Captain Russ Hall has rescheduled his Apple Valley ride for August 9th.  Riders will depart the Dealership at 10:30AM to head to Milford\, PA\, and guests are welcome if they sign a waiver.
URL:https://www.gardenstatehogchapter.com/welcome/event/chapter-ride-apple-valley-family-restaurant-4/
LOCATION:Apple Valley Restaurant\, 104 Rt. 6\, Milford\, PA\, 18337
CATEGORIES:Ride
END:VEVENT
BEGIN:VEVENT
DTSTART;TZID=America/New_York:20250803T080000
DTEND;TZID=America/New_York:20250803T113000
DTSTAMP:20260423T173351
CREATED:20250701T234110Z
LAST-MODIFIED:20250701T235501Z
UID:3589-1754208000-1754220600@www.gardenstatehogchapter.com
SUMMARY:Chapter Ride - Jefferson Diner Breakfast Ride
DESCRIPTION:Road Captain Mark Durenberger is rescheduling the breakfast ride to Jefferson Diner.  Riders will depart the Dealership on August 3rd at 8:00AM and will head to Jefferson Diner during the route\, which will continue on to Ringwood and Wanaque\, NJ before heading back to the Dealership along Kinnelon Road.  Guests are welcome if they sign a waiver.
URL:https://www.gardenstatehogchapter.com/welcome/event/chapter-ride-jefferson-diner-breakfast-ride/
LOCATION:Jefferson Diner\, 5 Bowling Green Pkwy # 12\, Lake Hopatcong\, NJ\, 07849
CATEGORIES:Ride
END:VEVENT
BEGIN:VEVENT
DTSTART;TZID=America/New_York:20250802T104500
DTEND;TZID=America/New_York:20250802T170000
DTSTAMP:20260423T173351
CREATED:20250729T233752Z
LAST-MODIFIED:20250729T233752Z
UID:3620-1754131500-1754154000@www.gardenstatehogchapter.com
SUMMARY:Chapter Ride - Tick Tock Diner
DESCRIPTION:Director Rich will be leading a ride to the legendary Tick Tock Diner in Clifton\, NJ on Saturday\, August 2nd.  Riders will depart the Dealership at 10:45AM\, and guests are welcome if they sign a waiver.
URL:https://www.gardenstatehogchapter.com/welcome/event/chapter-ride-tick-tock-diner/
LOCATION:Tick Tock Diner\, 281 Allwood Road\, Clifton\, NJ\, 07012
CATEGORIES:Ride
END:VEVENT
BEGIN:VEVENT
DTSTART;TZID=America/New_York:20250726T113000
DTEND;TZID=America/New_York:20250726T153000
DTSTAMP:20260423T173351
CREATED:20250722T232733Z
LAST-MODIFIED:20250722T233709Z
UID:3614-1753529400-1753543800@www.gardenstatehogchapter.com
SUMMARY:Chapter Ride - Mt. Fuji Steakhouse
DESCRIPTION:Please join Road Captain (and Chapter Photographer) Dr. Jax on a ride up to Mt. Fuji Steakhouse.  Riders will depart the Dealership on Saturday\, July 26th at 11:30AM\, so please arrive earlier for the pre-ride instructions.  Guests are welcome if they sign a waiver. \nFrom Dr. Jax: Back by popular demand\, Dr. Jax is bringing us another scenic and savory ride to Mount Fuji Restaurant in Hillburn\, NY!  This was a big hit last year\, and it’s easy to see why—delicious food\, funny entertainment\, a jaw-dropping view\, and a route that winds through the stunning roads of Harriman State Park.  As an extra bonus\, given the restaurant’s beautiful\, picturesque setting\, Dr. Jax will be offering personal portraits after lunch for anyone who wants a photo with the background of their choosing.  Come for the ride\, stay for the food\, and leave with memories (and pictures) to last a lifetime.  It’s gonna be a great ride—you don’t want to miss it!
URL:https://www.gardenstatehogchapter.com/welcome/event/chapter-ride-mt-fuji-steakhouse-2/
LOCATION:Mt. Fuji Steakhouse\, 296 Old State Route 17\, Hillburn\, NY\, 10931
CATEGORIES:Ride
END:VEVENT
BEGIN:VEVENT
DTSTART;TZID=America/New_York:20250719T100000
DTEND;TZID=America/New_York:20250719T143000
DTSTAMP:20260423T173351
CREATED:20250719T001605Z
LAST-MODIFIED:20250719T001605Z
UID:3612-1752919200-1752935400@www.gardenstatehogchapter.com
SUMMARY:Chapter Ride - Pop-Up to Riverside Bar & Grill
DESCRIPTION:Road Captain MaryAlice is offering up a pop-up ride for tomorrow\, July 19th\, heading to Riverside Bar and Grill in Easton\, PA.        Riverside Bar Website  \nRiders will depart the Dealership at 10:00AM with Russell sweeping. \nAs this has just “popped-up”\, normal pre-ride preparation has not been completed\, so no guarantees about road conditions and lack of U-turns\, however a big adventure is quite possible. \nSorry for the short notice\, but we hope some Chapter members are available.
URL:https://www.gardenstatehogchapter.com/welcome/event/chapter-ride-pop-up-to-riverside-bar-grill/
LOCATION:Riverside Bar & Grill\, 5801 North Delaware Drive\, Easton\, PA\, 18040
CATEGORIES:Ride
END:VEVENT
BEGIN:VEVENT
DTSTART;TZID=America/New_York:20250712T110000
DTEND;TZID=America/New_York:20250712T140000
DTSTAMP:20260423T173351
CREATED:20250701T233329Z
LAST-MODIFIED:20250709T000711Z
UID:3587-1752318000-1752328800@www.gardenstatehogchapter.com
SUMMARY:Chapter Ride - Chimney Rock Inn
DESCRIPTION:Head Road Captain Darren Paxton will be leading a ride to Chimney Rock Inn on July 12th\, following the Chapter Meeting.  Riders will depart the Dealership at 11:00AM\, and guests are welcome if they sign a waiver.
URL:https://www.gardenstatehogchapter.com/welcome/event/chapter-ride-destination-tbd-3/
LOCATION:Chimney Rock Inn Bound Brook\, 800 Thompson Ave.\, Bound Brook\, NJ\, 08805
CATEGORIES:Ride
END:VEVENT
BEGIN:VEVENT
DTSTART;TZID=America/New_York:20250712T090000
DTEND;TZID=America/New_York:20250712T100000
DTSTAMP:20260423T173351
CREATED:20250609T234347Z
LAST-MODIFIED:20250609T234347Z
UID:3582-1752310800-1752314400@www.gardenstatehogchapter.com
SUMMARY:July Chapter Meeting
DESCRIPTION:We will be hosting the July Chapter Meeting a week early\, due to missing the one in June.  Location is Garden State Harley-Davidson\, time is 9:00AM.  See you there.
URL:https://www.gardenstatehogchapter.com/welcome/event/july-chapter-meeting-3/
LOCATION:Garden State Harley-Davidson\, 1775 Route 10 East\, Morris Plains\, NJ\, 07950\, United States
CATEGORIES:Meeting
END:VEVENT
BEGIN:VEVENT
DTSTART;TZID=America/New_York:20250705T103000
DTEND;TZID=America/New_York:20250705T130000
DTSTAMP:20260423T173351
CREATED:20250609T233904Z
LAST-MODIFIED:20250609T233904Z
UID:3580-1751711400-1751720400@www.gardenstatehogchapter.com
SUMMARY:Chapter Ride - Frank's Pizza Hopatcong
DESCRIPTION:Road Captain / Director Rich Seitz is leading a ride back to Frank’s Pizza in Hopatcong\, NJ on July 5th.  Riders will depart the Dealership at 10:30AM\, and guests are welcome if they sign a waiver.
URL:https://www.gardenstatehogchapter.com/welcome/event/chapter-ride-franks-pizza-hopatcong/
LOCATION:Frank’s Pizza\, 50 Hopatchung Rd\, Hopatcong\, NJ\, 07843
CATEGORIES:Ride
END:VEVENT
BEGIN:VEVENT
DTSTART;TZID=America/New_York:20250621T110000
DTEND;TZID=America/New_York:20250621T140000
DTSTAMP:20260423T173351
CREATED:20250609T232913Z
LAST-MODIFIED:20250610T234509Z
UID:3577-1750503600-1750514400@www.gardenstatehogchapter.com
SUMMARY:Chapter Ride - Brownstone Pancake Factory - Englewood Cliffs
DESCRIPTION:Road Captain Pete Gallios is leading a Diner Challenge ride to the Brownstone Pancake Factory in Englewood Cliffs\, NJ.  Riders will depart the Dealership at 11:00AM on Saturday June 21\, and guests are welcome if they sign a waiver.
URL:https://www.gardenstatehogchapter.com/welcome/event/chapter-ride-brownstone-pancake-factory-englewood-cliffs/
LOCATION:Brownstone Pancake Factory\, 717 E. Palisade Ave\, Englewood Cliffs\, NJ\, 07632
CATEGORIES:Ride
END:VEVENT
END:VCALENDAR