BEGIN:VCALENDAR
VERSION:2.0
PRODID:-//Garden State Hog Chapter - ECPv6.15.17.1//NONSGML v1.0//EN
CALSCALE:GREGORIAN
METHOD:PUBLISH
X-WR-CALNAME:Garden State Hog Chapter
X-ORIGINAL-URL:https://www.gardenstatehogchapter.com/welcome
X-WR-CALDESC:Events for Garden State Hog Chapter
REFRESH-INTERVAL;VALUE=DURATION:PT1H
X-Robots-Tag:noindex
X-PUBLISHED-TTL:PT1H
BEGIN:VTIMEZONE
TZID:America/New_York
BEGIN:DAYLIGHT
TZOFFSETFROM:-0500
TZOFFSETTO:-0400
TZNAME:EDT
DTSTART:20180311T070000
END:DAYLIGHT
BEGIN:STANDARD
TZOFFSETFROM:-0400
TZOFFSETTO:-0500
TZNAME:EST
DTSTART:20181104T060000
END:STANDARD
BEGIN:DAYLIGHT
TZOFFSETFROM:-0500
TZOFFSETTO:-0400
TZNAME:EDT
DTSTART:20190310T070000
END:DAYLIGHT
BEGIN:STANDARD
TZOFFSETFROM:-0400
TZOFFSETTO:-0500
TZNAME:EST
DTSTART:20191103T060000
END:STANDARD
BEGIN:DAYLIGHT
TZOFFSETFROM:-0500
TZOFFSETTO:-0400
TZNAME:EDT
DTSTART:20200308T070000
END:DAYLIGHT
BEGIN:STANDARD
TZOFFSETFROM:-0400
TZOFFSETTO:-0500
TZNAME:EST
DTSTART:20201101T060000
END:STANDARD
BEGIN:DAYLIGHT
TZOFFSETFROM:-0500
TZOFFSETTO:-0400
TZNAME:EDT
DTSTART:20210314T070000
END:DAYLIGHT
BEGIN:STANDARD
TZOFFSETFROM:-0400
TZOFFSETTO:-0500
TZNAME:EST
DTSTART:20211107T060000
END:STANDARD
BEGIN:DAYLIGHT
TZOFFSETFROM:-0500
TZOFFSETTO:-0400
TZNAME:EDT
DTSTART:20220313T070000
END:DAYLIGHT
BEGIN:STANDARD
TZOFFSETFROM:-0400
TZOFFSETTO:-0500
TZNAME:EST
DTSTART:20221106T060000
END:STANDARD
BEGIN:DAYLIGHT
TZOFFSETFROM:-0500
TZOFFSETTO:-0400
TZNAME:EDT
DTSTART:20230312T070000
END:DAYLIGHT
BEGIN:STANDARD
TZOFFSETFROM:-0400
TZOFFSETTO:-0500
TZNAME:EST
DTSTART:20231105T060000
END:STANDARD
BEGIN:DAYLIGHT
TZOFFSETFROM:-0500
TZOFFSETTO:-0400
TZNAME:EDT
DTSTART:20240310T070000
END:DAYLIGHT
BEGIN:STANDARD
TZOFFSETFROM:-0400
TZOFFSETTO:-0500
TZNAME:EST
DTSTART:20241103T060000
END:STANDARD
BEGIN:DAYLIGHT
TZOFFSETFROM:-0500
TZOFFSETTO:-0400
TZNAME:EDT
DTSTART:20250309T070000
END:DAYLIGHT
BEGIN:STANDARD
TZOFFSETFROM:-0400
TZOFFSETTO:-0500
TZNAME:EST
DTSTART:20251102T060000
END:STANDARD
BEGIN:DAYLIGHT
TZOFFSETFROM:-0500
TZOFFSETTO:-0400
TZNAME:EDT
DTSTART:20260308T070000
END:DAYLIGHT
BEGIN:STANDARD
TZOFFSETFROM:-0400
TZOFFSETTO:-0500
TZNAME:EST
DTSTART:20261101T060000
END:STANDARD
END:VTIMEZONE
BEGIN:VEVENT
DTSTART;TZID=America/New_York:20250427T100000
DTEND;TZID=America/New_York:20250427T130000
DTSTAMP:20260423T190656
CREATED:20250316T141632Z
LAST-MODIFIED:20250316T141632Z
UID:3525-1745748000-1745758800@www.gardenstatehogchapter.com
SUMMARY:Cone Crushers - Riding Skills
DESCRIPTION:Join Safety Director Russell for Cone Crushers on April 27th from 10AM to 1PM.  Please register on the following link…  https://tinyurl.com/2vytn4xf \nLocation is 10 Park Avenue Morristown\, NJ 07960\, corner of Rt. 510 & Park Ave.
URL:https://www.gardenstatehogchapter.com/welcome/event/cone-crushers-riding-skills/
LOCATION:Cone Camp\, 10 Park Ave.\, Morristown\, NJ\, 07960
CATEGORIES:Training
END:VEVENT
BEGIN:VEVENT
DTSTART;TZID=America/New_York:20230422T083000
DTEND;TZID=America/New_York:20230422T120000
DTSTAMP:20260423T190656
CREATED:20230223T013359Z
LAST-MODIFIED:20230405T235055Z
UID:2948-1682152200-1682164800@www.gardenstatehogchapter.com
SUMMARY:Cone Crusher Skills - Registration Needed
DESCRIPTION:https://tinyurl.com/Cone-Crusher-April-22-2023 \nRoad Captain Rich Seitz will lead registered riders to the course\, departing the Dealership at 8:30.
URL:https://www.gardenstatehogchapter.com/welcome/event/cone-crusher-skills-registration-needed/
LOCATION:Cone Camp\, 10 Park Ave.\, Morristown\, NJ\, 07960
CATEGORIES:Training
END:VEVENT
BEGIN:VEVENT
DTSTART;TZID=America/New_York:20230318T090000
DTEND;TZID=America/New_York:20230319T170000
DTSTAMP:20260423T190656
CREATED:20230208T004219Z
LAST-MODIFIED:20230208T004219Z
UID:2941-1679130000-1679245200@www.gardenstatehogchapter.com
SUMMARY:Accident Scene Management Class - SOLD OUT!
DESCRIPTION:Accident Scene Management class for those who have registered and paid.  Location is 2 Burnham Road in Morris Plains\, NJ.
URL:https://www.gardenstatehogchapter.com/welcome/event/accident-scene-management-class-sold-out/
LOCATION:NJ
CATEGORIES:Training
END:VEVENT
BEGIN:VEVENT
DTSTART;TZID=America/New_York:20220306T090000
DTEND;TZID=America/New_York:20220306T170000
DTSTAMP:20260423T190656
CREATED:20220102T160722Z
LAST-MODIFIED:20220102T160722Z
UID:2675-1646557200-1646586000@www.gardenstatehogchapter.com
SUMMARY:Accident Scene Management Class
DESCRIPTION:Imagine that you and a few of your friends are taking a motorcycle ride. All of a sudden a fellow rider who happens to have a passenger hits a pothole and goes down. The rider is unconscious and not breathing and the passenger\, is bleeding badly from the left leg. Would you know what to do to help these riders and minimize further injuries until help arrives? \nIf the answer is no\, become the help until help arrives by attending the Motorcycle Accident Scene Management (ASM) program on March 5th OR 6th\, 2021 \nASM was established in 1996\, is leading the way in Motorcycle Trauma First Response. ASM has become the largest motorcycle trauma training organization in the world! \nThis is a hand’s on\, one day; course that has been accredited by the NJ Board of Health & the American Nurses Credentialing Center. This is a certification program that teaches non-medically and medically trained people what to do at a motorcycle accident. \nFellow motorcycle riders are often the first on the scene of a motorcycle accident and can make the difference of life or death. The purpose of the ASM Program is to enhance the survival rate and reduce severity of injuries for the injured riders of all motorized vehicles. ASM expects to decrease the chance of rescuer injury due to inappropriate actions at the accident scene. They also expect to educate motorists how to protect themselves legally and financially should an accident occur. \nRegister at: https://tinyurl.com/ASM-March-2022 \nThe program is directed toward specifics issues related to traffic safety and motorcycle related crashes including the assessment and treatment of the injured as well as how to safely administer care. They use the simple acronyms such as PACT and ABCSS of Trauma to help the responder recall priorities \nP – Prevent Further Injury (Scene Safety) \nA – Assess the Situation (to gather information for 911 call) \nC – Contact the EMS (do not delay – do this while doing step one and two if you have a cell phone signal and do not have to leave the scene to call for help) \nT – Treat the injured with Life Sustaining Care (using the ABCSS of Trauma to prioritize) \nA – Airway (determine if the person is breathing. Lift jaw keeping neck straight if you do not believe the person is breathing). \nB – Breathing (if the person is not breathing on their own keep the jaw lifted and using a breathing barrier\, give two breaths initially then one every 6-8 seconds). \nC – Circulation (in trauma a loss of circulation comes from bleeding. Look for and treat obvious external bleeding using Direct Pressure\, Elevation and a Pressure Point or Tourniquet (limbs only) if necessary. \nS – Shock (consider internal bleeding – elevate legs\, cover the person for warmth and stay calm. Do not give them anything to drink even if they ask). \nS – Spinal Immobilization (hold the person’s next still until the Emergency workers arrive and take over for you) \nThe motorcycle is the mechanism of injury for this program. What is learned may be used in many situations and it is my opinion\, there is no other program that does as good of a job as this one. \nNJ Rescue Riders does not make a dime by hosting this program\, but do so because we believe it is important. All ASM classes that we have hosted have sold out. So\, if you want to become the one who knows what to do\, don’t wait\, register today at: https://tinyurl.com/ASM-March-2022
URL:https://www.gardenstatehogchapter.com/welcome/event/accident-scene-management-class/
LOCATION:Garden State Harley-Davidson\, 1775 Route 10 East\, Morris Plains\, NJ\, 07950\, United States
CATEGORIES:Training
END:VEVENT
BEGIN:VEVENT
DTSTART;TZID=America/New_York:20220305T090000
DTEND;TZID=America/New_York:20220305T170000
DTSTAMP:20260423T190656
CREATED:20220102T160547Z
LAST-MODIFIED:20220102T160807Z
UID:2673-1646470800-1646499600@www.gardenstatehogchapter.com
SUMMARY:Accident Scene Management Class
DESCRIPTION:Imagine that you and a few of your friends are taking a motorcycle ride. All of a sudden a fellow rider who happens to have a passenger hits a pothole and goes down. The rider is unconscious and not breathing and the passenger\, is bleeding badly from the left leg. Would you know what to do to help these riders and minimize further injuries until help arrives? \nIf the answer is no\, become the help until help arrives by attending the Motorcycle Accident Scene Management (ASM) program on March 5th OR 6th\, 2021 \nASM was established in 1996\, is leading the way in Motorcycle Trauma First Response. ASM has become the largest motorcycle trauma training organization in the world! \nThis is a hand’s on\, one day; course that has been accredited by the NJ Board of Health & the American Nurses Credentialing Center. This is a certification program that teaches non-medically and medically trained people what to do at a motorcycle accident. \nFellow motorcycle riders are often the first on the scene of a motorcycle accident and can make the difference of life or death. The purpose of the ASM Program is to enhance the survival rate and reduce severity of injuries for the injured riders of all motorized vehicles. ASM expects to decrease the chance of rescuer injury due to inappropriate actions at the accident scene. They also expect to educate motorists how to protect themselves legally and financially should an accident occur. \nRegister at: https://tinyurl.com/ASM-March-2022 \nThe program is directed toward specifics issues related to traffic safety and motorcycle related crashes including the assessment and treatment of the injured as well as how to safely administer care. They use the simple acronyms such as PACT and ABCSS of Trauma to help the responder recall priorities \nP – Prevent Further Injury (Scene Safety) \nA – Assess the Situation (to gather information for 911 call) \nC – Contact the EMS (do not delay – do this while doing step one and two if you have a cell phone signal and do not have to leave the scene to call for help) \nT – Treat the injured with Life Sustaining Care (using the ABCSS of Trauma to prioritize) \nA – Airway (determine if the person is breathing. Lift jaw keeping neck straight if you do not believe the person is breathing). \nB – Breathing (if the person is not breathing on their own keep the jaw lifted and using a breathing barrier\, give two breaths initially then one every 6-8 seconds). \nC – Circulation (in trauma a loss of circulation comes from bleeding. Look for and treat obvious external bleeding using Direct Pressure\, Elevation and a Pressure Point or Tourniquet (limbs only) if necessary. \nS – Shock (consider internal bleeding – elevate legs\, cover the person for warmth and stay calm. Do not give them anything to drink even if they ask). \nS – Spinal Immobilization (hold the person’s next still until the Emergency workers arrive and take over for you) \nThe motorcycle is the mechanism of injury for this program. What is learned may be used in many situations and it is my opinion\, there is no other program that does as good of a job as this one. \nNJ Rescue Riders does not make a dime by hosting this program\, but do so because we believe it is important. All ASM classes that we have hosted have sold out. So\, if you want to become the one who knows what to do\, don’t wait\, register today at: https://tinyurl.com/ASM-March-2022
URL:https://www.gardenstatehogchapter.com/welcome/event/accident-scene-management-3/
LOCATION:Garden State Harley-Davidson\, 1775 Route 10 East\, Morris Plains\, NJ\, 07950\, United States
CATEGORIES:Training
END:VEVENT
BEGIN:VEVENT
DTSTART;TZID=America/New_York:20200307T090000
DTEND;TZID=America/New_York:20200307T170000
DTSTAMP:20260423T190656
CREATED:20191027T194535Z
LAST-MODIFIED:20191027T194535Z
UID:2262-1583571600-1583600400@www.gardenstatehogchapter.com
SUMMARY:Accident Scene Management
DESCRIPTION:Registered Chapter members learning skills to properly handle an accident scene\, including first aid and traffic control.
URL:https://www.gardenstatehogchapter.com/welcome/event/accident-scene-management-2/
LOCATION:Florham Park First Aid Squad\, 60 Felch Road\, Florham Park\, NJ\, 07932\, United States
CATEGORIES:Training
END:VEVENT
BEGIN:VEVENT
DTSTART;TZID=America/New_York:20190516T183000
DTEND;TZID=America/New_York:20190516T193000
DTSTAMP:20260423T190656
CREATED:20190509T133037Z
LAST-MODIFIED:20190510T004103Z
UID:2088-1558031400-1558035000@www.gardenstatehogchapter.com
SUMMARY:Charity Ride Support Meeting
DESCRIPTION:Chapter members are encouraged to join in a discussion reviewing what is needed to pull off a large scale Dealership Charity ride.  Over 60 minutes\, we will discuss lessons learned for parking\, registration / Chapter table and pit crew.  Dinner at Hibernia Diner to follow for those interested.
URL:https://www.gardenstatehogchapter.com/welcome/event/charity-rides-support-review/
LOCATION:Garden State Harley-Davidson\, 1775 Route 10 East\, Morris Plains\, NJ\, 07950\, United States
CATEGORIES:Training
END:VEVENT
BEGIN:VEVENT
DTSTART;TZID=America/New_York:20190223T100000
DTEND;TZID=America/New_York:20190223T130000
DTSTAMP:20260423T190656
CREATED:20190217T145141Z
LAST-MODIFIED:20190217T154934Z
UID:1965-1550916000-1550926800@www.gardenstatehogchapter.com
SUMMARY:Stop The Bleed Training - SOLD OUT
DESCRIPTION:
URL:https://www.gardenstatehogchapter.com/welcome/event/stop-the-bleeding-training/
LOCATION:Florham Park First Aid Squad\, 60 Felch Road\, Florham Park\, NJ\, 07932\, United States
CATEGORIES:Training
END:VEVENT
END:VCALENDAR