BEGIN:VCALENDAR
VERSION:2.0
PRODID:-//Garden State Hog Chapter - ECPv6.15.17.1//NONSGML v1.0//EN
CALSCALE:GREGORIAN
METHOD:PUBLISH
X-WR-CALNAME:Garden State Hog Chapter
X-ORIGINAL-URL:https://www.gardenstatehogchapter.com/welcome
X-WR-CALDESC:Events for Garden State Hog Chapter
REFRESH-INTERVAL;VALUE=DURATION:PT1H
X-Robots-Tag:noindex
X-PUBLISHED-TTL:PT1H
BEGIN:VTIMEZONE
TZID:America/New_York
BEGIN:DAYLIGHT
TZOFFSETFROM:-0500
TZOFFSETTO:-0400
TZNAME:EDT
DTSTART:20220313T070000
END:DAYLIGHT
BEGIN:STANDARD
TZOFFSETFROM:-0400
TZOFFSETTO:-0500
TZNAME:EST
DTSTART:20221106T060000
END:STANDARD
BEGIN:DAYLIGHT
TZOFFSETFROM:-0500
TZOFFSETTO:-0400
TZNAME:EDT
DTSTART:20230312T070000
END:DAYLIGHT
BEGIN:STANDARD
TZOFFSETFROM:-0400
TZOFFSETTO:-0500
TZNAME:EST
DTSTART:20231105T060000
END:STANDARD
BEGIN:DAYLIGHT
TZOFFSETFROM:-0500
TZOFFSETTO:-0400
TZNAME:EDT
DTSTART:20240310T070000
END:DAYLIGHT
BEGIN:STANDARD
TZOFFSETFROM:-0400
TZOFFSETTO:-0500
TZNAME:EST
DTSTART:20241103T060000
END:STANDARD
BEGIN:DAYLIGHT
TZOFFSETFROM:-0500
TZOFFSETTO:-0400
TZNAME:EDT
DTSTART:20250309T070000
END:DAYLIGHT
BEGIN:STANDARD
TZOFFSETFROM:-0400
TZOFFSETTO:-0500
TZNAME:EST
DTSTART:20251102T060000
END:STANDARD
END:VTIMEZONE
BEGIN:VEVENT
DTSTART;TZID=America/New_York:20240527T100000
DTEND;TZID=America/New_York:20240527T143000
DTSTAMP:20260423T201626
CREATED:20240514T233740Z
LAST-MODIFIED:20240526T184928Z
UID:3316-1716804000-1716820200@www.gardenstatehogchapter.com
SUMMARY:CANCELLED - Chapter Ride - Memorial Day Ride
DESCRIPTION:Due to weather forecast for tomorrow\, this ride has been cancelled. \nRoad Captain Herb Olbrich will lead a return ride to the impressive Brigadier General William C. Doyle Memorial Cemetery in Wrightstown\, NJ.  Riders will depart the Dealership at 10AM.  Guests are welcome to join if they sign a waiver.
URL:https://www.gardenstatehogchapter.com/welcome/event/chapter-ride-memorial-day-ride-to-brigadier-general-william-c-doyle-memorial-cemetary/
LOCATION:Brigadier General William C. Doyle Memorial Cemetery\, 350 Province Line Road\, Wrightstown\, NJ\, 08562
CATEGORIES:Ride
END:VEVENT
BEGIN:VEVENT
DTSTART;TZID=America/New_York:20240518T080000
DTEND;TZID=America/New_York:20240524T170000
DTSTAMP:20260423T201626
CREATED:20240401T223553Z
LAST-MODIFIED:20240401T223553Z
UID:3294-1716019200-1716570000@www.gardenstatehogchapter.com
SUMMARY:Nashville Overnight Trip
DESCRIPTION:Road Captain Rich Seitz will lead the way to Nashville\, TN for an epic overnight trip.  Chapter members and guests who have joined at least 3 Chapter Rides this year of 50+ miles will be departing from the Dealership at 8AM.  The riders return on Friday 
URL:https://www.gardenstatehogchapter.com/welcome/event/nashville-overnight-trip/
LOCATION:NY
CATEGORIES:Ride
END:VEVENT
BEGIN:VEVENT
DTSTART;TZID=America/New_York:20240511T110000
DTEND;TZID=America/New_York:20240511T150000
DTSTAMP:20260423T201626
CREATED:20240508T001340Z
LAST-MODIFIED:20240508T001340Z
UID:3312-1715425200-1715439600@www.gardenstatehogchapter.com
SUMMARY:Chapter Ride - Round Valley Reservoir & Willie McBride's
DESCRIPTION:Head Road Captain Barbara Gould will be leading a ride down south to Round Valley Reservoir\, and to the Irish restaurant Willie McBride’s in Branchburg.  Riders will depart the Dealership after the Chapter Meeting\, at 11AM.  Guests are welcome to join if they sign a waiver.
URL:https://www.gardenstatehogchapter.com/welcome/event/chapter-ride-round-valley-reservoir-willie-mcbrides/
LOCATION:Willie McBride’s\, 1270 Eastern Turnpike\, Branchburg\, NJ\, 08876
CATEGORIES:Ride
END:VEVENT
BEGIN:VEVENT
DTSTART;TZID=America/New_York:20240504T090000
DTEND;TZID=America/New_York:20240504T140000
DTSTAMP:20260423T201626
CREATED:20240207T002350Z
LAST-MODIFIED:20240314T002252Z
UID:3243-1714813200-1714831200@www.gardenstatehogchapter.com
SUMMARY:Celebrate The Children Charity Ride
DESCRIPTION:Charity ride in support of the Celebrate the Children school in Denville\, NJ.
URL:https://www.gardenstatehogchapter.com/welcome/event/celebrate-the-children-charity-ride-to-be-confirmed/
LOCATION:Garden State Harley-Davidson\, 1775 Route 10 East\, Morris Plains\, NJ\, 07950\, United States
CATEGORIES:Ride
END:VEVENT
BEGIN:VEVENT
DTSTART;TZID=America/New_York:20240427T103000
DTEND;TZID=America/New_York:20240427T150000
DTSTAMP:20260423T201626
CREATED:20240306T011449Z
LAST-MODIFIED:20240306T011449Z
UID:3271-1714213800-1714230000@www.gardenstatehogchapter.com
SUMMARY:Chapter Ride - Blairstown Inn
DESCRIPTION:Road Captain Mark Chizmadia will lead the way to The Blairstown Inn.  Riders will depart the Dealership at 10:30\, and guests are welcome to join if they sign a waiver.
URL:https://www.gardenstatehogchapter.com/welcome/event/chapter-ride-blairstown-inn-2/
LOCATION:Blairstown Inn\, 70 NJ-94\, Blairstown\, NJ\, 07825
CATEGORIES:Ride
END:VEVENT
BEGIN:VEVENT
DTSTART;TZID=America/New_York:20240421T090000
DTEND;TZID=America/New_York:20240421T170000
DTSTAMP:20260423T201626
CREATED:20240306T011153Z
LAST-MODIFIED:20240417T001916Z
UID:3269-1713690000-1713718800@www.gardenstatehogchapter.com
SUMMARY:Chapter Ride - Woodstock\, Bethel\, NY
DESCRIPTION:Road Captain Debbie Ryan will lead a ride to Woodstock NY as a great tune up for the Nashville ride.  Riders will depart the Dealership at 9:00\, and guests are welcome if they sign a waiver.  The group will stop at the site of the music festival & monument\, and then go over to Museum. There is a cafe/cafeteria (cashless) ~ menu looks fine and for those museum goers they can pay to visit; approximately $22 a ticket. The route will be avoid highway on the way up to Bethel.  It is a beautiful area for riding.
URL:https://www.gardenstatehogchapter.com/welcome/event/chapter-ride-woodstock-ny/
LOCATION:Museum at Bethel Woods\, 200 Hurd Rd.\, Bethel\, NY\, 12720
CATEGORIES:Ride
END:VEVENT
BEGIN:VEVENT
DTSTART;TZID=America/New_York:20240420T110000
DTEND;TZID=America/New_York:20240420T150000
DTSTAMP:20260423T201626
CREATED:20240306T010910Z
LAST-MODIFIED:20240401T221151Z
UID:3267-1713610800-1713625200@www.gardenstatehogchapter.com
SUMMARY:Chapter Ride - Artie's Bar & Grill
DESCRIPTION:Doug Ryan will be Road Captain for the Chapter ride to Artie’s Bar & Grill in Frenchtown\, NJ.  Riders will depart the Dealership at 11:00\, and guests are welcome if they sign a waiver.
URL:https://www.gardenstatehogchapter.com/welcome/event/chapter-ride-arties-bar-grill-2/
LOCATION:Artie’s Bar and Grill\, 1121 State Rt. 12\, Frenchtown\, NJ\, 08825
CATEGORIES:Ride
END:VEVENT
BEGIN:VEVENT
DTSTART;TZID=America/New_York:20240414T110000
DTEND;TZID=America/New_York:20240414T153000
DTSTAMP:20260423T201626
CREATED:20240306T010524Z
LAST-MODIFIED:20240403T010901Z
UID:3264-1713092400-1713108600@www.gardenstatehogchapter.com
SUMMARY:Chapter Ride - Rockaway River Barn
DESCRIPTION:Garden State HOG will take the long way round to Rockaway River Barn on Green Pond Road.  Road Captain Mark Durenberger leads the way.  Riders will depart the Dealership at 11:00\, and guests are welcome if they sign a waiver.
URL:https://www.gardenstatehogchapter.com/welcome/event/chapter-ride-moores-tavern/
LOCATION:Rockaway River Barn\, 11 Green Pond Road\, Rockaway\, NJ\, 07866
CATEGORIES:Ride
END:VEVENT
BEGIN:VEVENT
DTSTART;TZID=America/New_York:20240413T110000
DTEND;TZID=America/New_York:20240413T150000
DTSTAMP:20260423T201626
CREATED:20240306T010058Z
LAST-MODIFIED:20240401T220559Z
UID:3262-1713006000-1713020400@www.gardenstatehogchapter.com
SUMMARY:Chapter Ride - Marley's Gotham Grill
DESCRIPTION:We’re starting the Wing Challenge early\, and a great place to kick it off is Marley’s in Hackettstown\, NJ.  Director Russell is our Road Captain\, and riders will depart the Dealership at 11:00\, and guests are welcome if they sign a waiver.
URL:https://www.gardenstatehogchapter.com/welcome/event/chapter-ride-marleys-gotham-grill-3/
LOCATION:Marley’s Gotham Grill\, 169 Main Street\, Hackettstown\, NJ\, 07840\, United States
CATEGORIES:Ride
END:VEVENT
BEGIN:VEVENT
DTSTART;TZID=America/New_York:20240407T110000
DTEND;TZID=America/New_York:20240407T150000
DTSTAMP:20260423T201626
CREATED:20240306T005639Z
LAST-MODIFIED:20240401T220308Z
UID:3260-1712487600-1712502000@www.gardenstatehogchapter.com
SUMMARY:Chapter Ride - Riverside Bar & Grill
DESCRIPTION:Road Captain MaryAlice will lead this Chapter ride to Riverside Bar & Grill in Easton\, PA.  Riders will depart the Dealership at 11:00\, and guests are welcome if they sign a waiver.
URL:https://www.gardenstatehogchapter.com/welcome/event/chapter-ride-riverside-bar-grill/
LOCATION:Riverside Bar & Grill\, 5801 North Delaware Drive\, Easton\, PA\, 18040
CATEGORIES:Ride
END:VEVENT
BEGIN:VEVENT
DTSTART;TZID=America/New_York:20240406T113000
DTEND;TZID=America/New_York:20240406T150000
DTSTAMP:20260423T201626
CREATED:20240306T005446Z
LAST-MODIFIED:20240401T215842Z
UID:3258-1712403000-1712415600@www.gardenstatehogchapter.com
SUMMARY:Chapter Ride - Nomad Pizza
DESCRIPTION:Our first Chapter Ride of the 2024 Season.  Dr. Jax will lead the way back to Nomad Pizza in Princeton\, NJ.  Riders will depart the Dealership at 11:30\, and guests are welcome if they sign a waiver.
URL:https://www.gardenstatehogchapter.com/welcome/event/chapter-ride-nomad-pizza-2/
LOCATION:Nomad Pizza\, 301 N. Harrison St.\, Princeton\, NJ\, 08540
CATEGORIES:Ride
END:VEVENT
BEGIN:VEVENT
DTSTART;TZID=America/New_York:20231111T103000
DTEND;TZID=America/New_York:20231111T133000
DTSTAMP:20260423T201626
CREATED:20230926T233226Z
LAST-MODIFIED:20231002T234101Z
UID:3185-1699698600-1699709400@www.gardenstatehogchapter.com
SUMMARY:Chapter Ride - Veteran's Day
DESCRIPTION:Road Captain Herb Olbrich will lead a ride on Veteran’s Day to honor those who have paid the ultimate price for our Country.  Lunch following at Taphouse Grille in Hackettstown.
URL:https://www.gardenstatehogchapter.com/welcome/event/chapter-ride-veterans-day/
LOCATION:Taphouse Grille\, 1930 Rt. 57\, Hackettstown\, NJ\, 07840
CATEGORIES:Ride
END:VEVENT
BEGIN:VEVENT
DTSTART;TZID=America/New_York:20231104T103000
DTEND;TZID=America/New_York:20231104T143000
DTSTAMP:20260423T201626
CREATED:20231007T140703Z
LAST-MODIFIED:20231007T140703Z
UID:3204-1699093800-1699108200@www.gardenstatehogchapter.com
SUMMARY:Chapter Ride - Rhodes North Tavern
DESCRIPTION:Road Captain Joe G. will lead a ride up to Sloatsburg\, NY and Rhodes North Tavern.  Riders will depart the Dealership at 10:30AM\, and guests are welcome if they sign a waiver.
URL:https://www.gardenstatehogchapter.com/welcome/event/chapter-ride-rhodes-north-tavern/
LOCATION:Rhodes Tavern North\, 40 Orange Turnpike\, Sloutsburg\, NY\, 10974
CATEGORIES:Ride
END:VEVENT
BEGIN:VEVENT
DTSTART;TZID=America/New_York:20231027T193000
DTEND;TZID=America/New_York:20231027T210000
DTSTAMP:20260423T201626
CREATED:20231011T000530Z
LAST-MODIFIED:20231011T000530Z
UID:3206-1698435000-1698440400@www.gardenstatehogchapter.com
SUMMARY:Chapter Ride - Weird NJ Tour
DESCRIPTION:Road Captain Dr. Jax will lead a weird\, yet wonderful\, tour of area NJ spots.  This is a Friday evening trek\, which departs the Dealership at 7:30PM on October 27th.
URL:https://www.gardenstatehogchapter.com/welcome/event/chapter-ride-weird-nj-tour/
LOCATION:NY
CATEGORIES:Ride
END:VEVENT
BEGIN:VEVENT
DTSTART;TZID=America/New_York:20231015T103000
DTEND;TZID=America/New_York:20231015T150000
DTSTAMP:20260423T201626
CREATED:20230906T001907Z
LAST-MODIFIED:20230926T233503Z
UID:3165-1697365800-1697382000@www.gardenstatehogchapter.com
SUMMARY:Chapter Ride - Lambertville Station
DESCRIPTION:Road Captain MaryAlice will lead a ride to Lambertville\, NJ to visit the Lambertville Station.  Riders will depart the Dealership at 10:30AM on Sunday October 15th\, and guests are welcome to join if they sign a waiver.
URL:https://www.gardenstatehogchapter.com/welcome/event/chapter-ride-lambertville-station/
LOCATION:Lambertville Station\, 11 Bridge Street\, Lambertville\, New Jersey\, 08530
CATEGORIES:Ride
END:VEVENT
BEGIN:VEVENT
DTSTART;TZID=America/New_York:20231014T103000
DTEND;TZID=America/New_York:20231014T140000
DTSTAMP:20260423T201626
CREATED:20230927T000440Z
LAST-MODIFIED:20231013T165530Z
UID:3190-1697279400-1697292000@www.gardenstatehogchapter.com
SUMMARY:CANCELLED!  Chapter Ride - Frank's Pizza - Pizza Challenge
DESCRIPTION:Due to the liquid sunshine forecast for the ride time\, we are cancelling this event. \nRoad Captain Rich Seitz will lead a ride to Hopatcong and Frank’s Pizza\, part of the Pizza Challenge!  Riders will depart the Dealership at 10:30\, and guests are welcome if they sign a waiver.
URL:https://www.gardenstatehogchapter.com/welcome/event/chapter-ride-franks-pizza-pizza-challenge/
LOCATION:Frank’s Pizza\, 50 Hopatchung Rd\, Hopatcong\, NJ\, 07843
CATEGORIES:Ride
END:VEVENT
BEGIN:VEVENT
DTSTART;TZID=America/New_York:20231008T103000
DTEND;TZID=America/New_York:20231008T143000
DTSTAMP:20260423T201626
CREATED:20230920T001026Z
LAST-MODIFIED:20231002T234610Z
UID:3183-1696761000-1696775400@www.gardenstatehogchapter.com
SUMMARY:Forever Friends - Ride to the Ride
DESCRIPTION:Join Chapter members in support of a great cause – Motorcycle Awareness.  The Chapter is happy to support the Forever Friends team again\, on October 8th.  Chapter Members are invited to ride together to the Charity Ride\, leaving the Dealership at 10:30.  Guests are welcome if they sign a waiver. \nhttp://www.foreverfriendsmotorcycleawareness.org/bike-run-event/
URL:https://www.gardenstatehogchapter.com/welcome/event/forever-friends-ride-to-the-ride-2/
LOCATION:Sussex County Fairgrounds\, 37 Plains Road\, Augusta\, NJ\, 07822
CATEGORIES:Ride
END:VEVENT
BEGIN:VEVENT
DTSTART;TZID=America/New_York:20231007T110000
DTEND;TZID=America/New_York:20231007T143000
DTSTAMP:20260423T201626
CREATED:20230919T235748Z
LAST-MODIFIED:20231006T200539Z
UID:3180-1696676400-1696689000@www.gardenstatehogchapter.com
SUMMARY:CANCELLED... Chapter Ride - Nomad Pizza
DESCRIPTION:Due to the rainy forecast for tomorrow\, this ride is cancelled. \nRoad Captain Jax Gallios will lead a Pizza Challenge ride to Nomad Pizza in Princeton\, NJ.  Riders will depart the Dealership at 11AM\, and guests are welcome if they sign a waiver.
URL:https://www.gardenstatehogchapter.com/welcome/event/chapter-ride-nomad-pizza/
LOCATION:Nomad Pizza\, 301 N. Harrison St.\, Princeton\, NJ\, 08540
CATEGORIES:Ride
END:VEVENT
BEGIN:VEVENT
DTSTART;TZID=America/New_York:20231001T100000
DTEND;TZID=America/New_York:20231001T160000
DTSTAMP:20260423T201626
CREATED:20230823T000919Z
LAST-MODIFIED:20230926T233535Z
UID:3148-1696154400-1696176000@www.gardenstatehogchapter.com
SUMMARY:Chapter Ride - Pizza Marathon (4 Stops)
DESCRIPTION:Head Road Captain Doug Ryan will lead some hungry Chapter Members on a 4 Pizza Challenge Stop challenge.  The stops will be: \n\nKrispy Krust Pizza\nCoal Fired Pizza\nBrooklyn Square\nThe Sawmill\n\nRiders will depart the Dealership at 10AM\, and guests are welcome if they sign a waiver.
URL:https://www.gardenstatehogchapter.com/welcome/event/chapter-ride-pizza-marathon-4-stops/
LOCATION:NY
CATEGORIES:Ride
END:VEVENT
BEGIN:VEVENT
DTSTART;TZID=America/New_York:20230930T150000
DTEND;TZID=America/New_York:20230930T163000
DTSTAMP:20260423T201626
CREATED:20230906T002752Z
LAST-MODIFIED:20230930T090025Z
UID:3167-1696086000-1696091400@www.gardenstatehogchapter.com
SUMMARY:Chapter Ride Change - Pop Up Ride
DESCRIPTION:Due to the lingering (depressing) rain\, the Pour House ride this morning is being replaced with a pop up ride this afternoon.  Riders will now depart the Dealership at 3PM\, and guests are welcome if they sign a waiver.
URL:https://www.gardenstatehogchapter.com/welcome/event/chapter-ride-the-pour-house/
LOCATION:The Pour House\, 1014 Route 390\, Mountainhome\, PA\, 18342
CATEGORIES:Ride
END:VEVENT
BEGIN:VEVENT
DTSTART;TZID=America/New_York:20230917T100000
DTEND;TZID=America/New_York:20230917T133000
DTSTAMP:20260423T201626
CREATED:20230405T234649Z
LAST-MODIFIED:20230829T235556Z
UID:2972-1694944800-1694957400@www.gardenstatehogchapter.com
SUMMARY:Chapter Ride - OMG Burger
DESCRIPTION:Road Captain Mark Durenberger will lead a ride to OMG Burger in Long Valley\, NJ.  This is a reschedule due to a rainy weekend in April.  Riders and guests who sign a waiver will depart the Dealership at 10:00AM.  
URL:https://www.gardenstatehogchapter.com/welcome/event/chapter-ride-omg-burger/
LOCATION:OMG Burger & Brew\, 141 Schooleys Mountain Road\, Long Valley\, NJ\, 07853
CATEGORIES:Ride
END:VEVENT
BEGIN:VEVENT
DTSTART;TZID=America/New_York:20230910T090000
DTEND;TZID=America/New_York:20230910T153000
DTSTAMP:20260423T201626
CREATED:20230823T001855Z
LAST-MODIFIED:20230911T221956Z
UID:3152-1694336400-1694359800@www.gardenstatehogchapter.com
SUMMARY:Chapter Ride - Woodstock
DESCRIPTION:Road Captain Debbie Ryan will lead a scenic ride up to Woodstock\, NY.  Riders will depart the Dealership at 9AM\, and guests are welcome if they sign a waiver.
URL:https://www.gardenstatehogchapter.com/welcome/event/chapter-ride-woodstock/
LOCATION:NY
CATEGORIES:Ride
END:VEVENT
BEGIN:VEVENT
DTSTART;TZID=America/New_York:20230909T103000
DTEND;TZID=America/New_York:20230909T140000
DTSTAMP:20260423T201626
CREATED:20230823T000428Z
LAST-MODIFIED:20230823T000428Z
UID:3146-1694255400-1694268000@www.gardenstatehogchapter.com
SUMMARY:Chapter Ride - Marley's Gotham Grill
DESCRIPTION:Road Captain MaryAlice Breuninger will lead a ride to the Chapter favorite Marley’s Gotham Grill in Hackettstown\, NJ.  Riders will depart the Dealership at 10:30\, and guests are welcome if they sign a waiver.
URL:https://www.gardenstatehogchapter.com/welcome/event/chapter-ride-marleys-gotham-grill-2/
LOCATION:Marley’s Gotham Grill\, 169 Main Street\, Hackettstown\, NJ\, 07840\, United States
CATEGORIES:Ride
END:VEVENT
BEGIN:VEVENT
DTSTART;TZID=America/New_York:20230902T103000
DTEND;TZID=America/New_York:20230902T143000
DTSTAMP:20260423T201626
CREATED:20230823T000134Z
LAST-MODIFIED:20230830T003028Z
UID:3143-1693650600-1693665000@www.gardenstatehogchapter.com
SUMMARY:Chapter Ride - Sugar Loaf Taphouse
DESCRIPTION:Road Captain Russ Hall will lead a ride to Sugar Loaf Taphouse in Chester\, NY.  Riders will depart the Dealership at 10:30\, and guests are welcome if they sign a waiver.
URL:https://www.gardenstatehogchapter.com/welcome/event/chapter-ride-sugar-loaf-tavern/
LOCATION:Sugar Loaf Taphouse\, 1368 Kings Highway\, Chester\, NY\, 10918
CATEGORIES:Ride
END:VEVENT
BEGIN:VEVENT
DTSTART;TZID=America/New_York:20230819T110000
DTEND;TZID=America/New_York:20230819T143000
DTSTAMP:20260423T201626
CREATED:20230724T235402Z
LAST-MODIFIED:20230724T235402Z
UID:3119-1692442800-1692455400@www.gardenstatehogchapter.com
SUMMARY:Chapter Ride - Buck Hill Brewery
DESCRIPTION:Road Captain Barbara Gould will lead a scenic ride back to Buck Hill Brewery in Blairstown\, NJ.  Riders will depart the Dealership at 11AM (following the Chapter Meeting)\, and guests are welcome if they sign a waiver.
URL:https://www.gardenstatehogchapter.com/welcome/event/chapter-ride-buck-hill-brewery-3/
LOCATION:Buck Hill Brewery\, 45 State Route 94\, Blairstown\, NJ\, 07825
CATEGORIES:Ride
END:VEVENT
BEGIN:VEVENT
DTSTART;TZID=America/New_York:20230813T103000
DTEND;TZID=America/New_York:20230813T143000
DTSTAMP:20260423T201626
CREATED:20230724T234553Z
LAST-MODIFIED:20230808T231221Z
UID:3114-1691922600-1691937000@www.gardenstatehogchapter.com
SUMMARY:Chapter Ride - The Jefferson House
DESCRIPTION:Road Captain Herb Olbrich will lead a ride to The Jefferson House in Lake Hopatcong (next to the lake\, I assume).  Riders will depart the Dealership at 10:30AM\, and guests are welcome if they sign a waiver.  
URL:https://www.gardenstatehogchapter.com/welcome/event/chapter-ride-grounds-for-sculpture-hamilton-nj/
LOCATION:Jefferson House\, 139 Nolans Point Road\, Lake Hopatcong\, NJ\, 07849
CATEGORIES:Ride
END:VEVENT
BEGIN:VEVENT
DTSTART;TZID=America/New_York:20230812T083000
DTEND;TZID=America/New_York:20230812T140000
DTSTAMP:20260423T201626
CREATED:20230724T232908Z
LAST-MODIFIED:20230804T174147Z
UID:3108-1691829000-1691848800@www.gardenstatehogchapter.com
SUMMARY:Chapter Ride - Peddler's Village
DESCRIPTION:Road Captain Debbie Ryan will lead a ride back to the popular destination of Peddler’s Village in Lahaska\, PA.  Due to early lunch requirements\, Riders will depart the Dealership at 8:30\, and guests are welcome to join if they sign a waiver.
URL:https://www.gardenstatehogchapter.com/welcome/event/chapter-ride-peddlers-village/
LOCATION:Peddler’s Village\, Lahaska\, PA
CATEGORIES:Ride
END:VEVENT
BEGIN:VEVENT
DTSTART;TZID=America/New_York:20230808T174500
DTEND;TZID=America/New_York:20230808T193000
DTSTAMP:20260423T201626
CREATED:20230724T233606Z
LAST-MODIFIED:20230724T233606Z
UID:3112-1691516700-1691523000@www.gardenstatehogchapter.com
SUMMARY:August Bike Night
DESCRIPTION:Head Road Captain Doug Ryan will lead riders over to Mr. Crabby’s on Rt. 10 for another installment of Bike Night.  Riders will depart the Dealership at 5:45PM\, or feel free to ride straight to Mr. Crabby’s if you can’t make the meetup time.
URL:https://www.gardenstatehogchapter.com/welcome/event/august-bike-night/
LOCATION:Mr. Crabby’s\, 399 NJ-10 E\, Randolph\, NJ\, 07869
CATEGORIES:Ride
END:VEVENT
BEGIN:VEVENT
DTSTART;TZID=America/New_York:20230806T100000
DTEND;TZID=America/New_York:20230806T150000
DTSTAMP:20260423T201626
CREATED:20230724T233226Z
LAST-MODIFIED:20230724T233226Z
UID:3110-1691316000-1691334000@www.gardenstatehogchapter.com
SUMMARY:Chapter Ride - Gun Run - Hawthorne Gun Club
DESCRIPTION:Road Captain Joe G. will lead a ride back to the fan favorite Hawthorne Gun Club for some target practice.  Riders will depart the Dealership at 10:00.  This is a Chapter Member only event.
URL:https://www.gardenstatehogchapter.com/welcome/event/chapter-ride-gun-run-hawthorne-gun-club/
LOCATION:Hawthorne Gun Club\, 296 Wagaraw Rd\, Hawthorne\, New Jersey\, 07506
CATEGORIES:Ride
END:VEVENT
BEGIN:VEVENT
DTSTART;TZID=America/New_York:20230805T090000
DTEND;TZID=America/New_York:20230805T143000
DTSTAMP:20260423T201626
CREATED:20230621T003325Z
LAST-MODIFIED:20230729T002725Z
UID:3094-1691226000-1691245800@www.gardenstatehogchapter.com
SUMMARY:Chapter Ride - Shawangunk Mountains
DESCRIPTION:Road Captain Barbara Gould will lead an epic ride up to the Shawangunk Mountains.  There will be an early departure from the Dealership at 9AM\, and guests are welcome to join if they sign a waiver.
URL:https://www.gardenstatehogchapter.com/welcome/event/chapter-ride-shawangunk-mountains/
LOCATION:NY
CATEGORIES:Ride
END:VEVENT
END:VCALENDAR