BEGIN:VCALENDAR
VERSION:2.0
PRODID:-//Garden State Hog Chapter - ECPv6.15.17.1//NONSGML v1.0//EN
CALSCALE:GREGORIAN
METHOD:PUBLISH
X-ORIGINAL-URL:https://www.gardenstatehogchapter.com/welcome
X-WR-CALDESC:Events for Garden State Hog Chapter
REFRESH-INTERVAL;VALUE=DURATION:PT1H
X-Robots-Tag:noindex
X-PUBLISHED-TTL:PT1H
BEGIN:VTIMEZONE
TZID:UTC
BEGIN:STANDARD
TZOFFSETFROM:+0000
TZOFFSETTO:+0000
TZNAME:UTC
DTSTART:20140101T000000
END:STANDARD
END:VTIMEZONE
BEGIN:VTIMEZONE
TZID:America/New_York
BEGIN:DAYLIGHT
TZOFFSETFROM:-0500
TZOFFSETTO:-0400
TZNAME:EDT
DTSTART:20140309T070000
END:DAYLIGHT
BEGIN:STANDARD
TZOFFSETFROM:-0400
TZOFFSETTO:-0500
TZNAME:EST
DTSTART:20141102T060000
END:STANDARD
BEGIN:DAYLIGHT
TZOFFSETFROM:-0500
TZOFFSETTO:-0400
TZNAME:EDT
DTSTART:20150308T070000
END:DAYLIGHT
BEGIN:STANDARD
TZOFFSETFROM:-0400
TZOFFSETTO:-0500
TZNAME:EST
DTSTART:20151101T060000
END:STANDARD
BEGIN:DAYLIGHT
TZOFFSETFROM:-0500
TZOFFSETTO:-0400
TZNAME:EDT
DTSTART:20160313T070000
END:DAYLIGHT
BEGIN:STANDARD
TZOFFSETFROM:-0400
TZOFFSETTO:-0500
TZNAME:EST
DTSTART:20161106T060000
END:STANDARD
END:VTIMEZONE
BEGIN:VEVENT
DTSTART;TZID=UTC:20160611T120000
DTEND;TZID=UTC:20160611T140000
DTSTAMP:20260425T001806
CREATED:20160309T053226Z
LAST-MODIFIED:20160606T181052Z
UID:376-1465646400-1465653600@www.gardenstatehogchapter.com
SUMMARY:Sopranos Ride
DESCRIPTION:Join Road Captain Joe Gennarelli for a ride to Holsten’s located at 1063 Broad St\, Bloomfield\, NJ 07003. \nMap
URL:https://www.gardenstatehogchapter.com/welcome/event/sopranos-ride/
LOCATION:Garden State Harley-Davidson\, 1775 Route 10 East\, Morris Plains\, NJ\, 07950\, United States
CATEGORIES:Ride
END:VEVENT
BEGIN:VEVENT
DTSTART;TZID=UTC:20160604T080000
DTEND;TZID=UTC:20160604T150000
DTSTAMP:20260425T001806
CREATED:20160309T050319Z
LAST-MODIFIED:20160416T073832Z
UID:365-1465027200-1465052400@www.gardenstatehogchapter.com
SUMMARY:Ruff Riders NJSPCA Ride
DESCRIPTION: 
URL:https://www.gardenstatehogchapter.com/welcome/event/ruff-riders-njspca-ride-2/
LOCATION:Garden State Harley-Davidson\, 1775 Route 10 East\, Morris Plains\, NJ\, 07950\, United States
CATEGORIES:Ride
END:VEVENT
BEGIN:VEVENT
DTSTART;TZID=UTC:20160528T080000
DTEND;TZID=UTC:20160528T120000
DTSTAMP:20260425T001806
CREATED:20160402T053814Z
LAST-MODIFIED:20160402T053814Z
UID:396-1464422400-1464436800@www.gardenstatehogchapter.com
SUMMARY:Memorial Day Parade Ride
DESCRIPTION:We will be supporting the dealership by participating in the Morris Plains Memorial Day Parade. We will go for a lunch ride after the parade.
URL:https://www.gardenstatehogchapter.com/welcome/event/memorial-day-parade-ride/
LOCATION:Garden State Harley-Davidson\, 1775 Route 10 East\, Morris Plains\, NJ\, 07950\, United States
CATEGORIES:Ride
END:VEVENT
BEGIN:VEVENT
DTSTART;TZID=UTC:20160522T100000
DTEND;TZID=UTC:20160522T160000
DTSTAMP:20260425T001806
CREATED:20160416T073336Z
LAST-MODIFIED:20160513T034630Z
UID:409-1463911200-1463932800@www.gardenstatehogchapter.com
SUMMARY:Motorcyclopedia Ride - Billy Joe's Ribworks
DESCRIPTION:Join Road Captain David Austin to Motorcyclopedia located at 250 Lake St\, Newburgh\, NY 12550 then lunch at Billy Joe’s Ribworks. \nWebsite \nMap
URL:https://www.gardenstatehogchapter.com/welcome/event/motorcyclopedia-ride/
LOCATION:Garden State Harley-Davidson\, 1775 Route 10 East\, Morris Plains\, NJ\, 07950\, United States
CATEGORIES:Ride
END:VEVENT
BEGIN:VEVENT
DTSTART;TZID=UTC:20160521T080000
DTEND;TZID=UTC:20160521T150000
DTSTAMP:20260425T001806
CREATED:20160309T050712Z
LAST-MODIFIED:20160416T072934Z
UID:366-1463817600-1463842800@www.gardenstatehogchapter.com
SUMMARY:Puppy Rescue Mission Ride
DESCRIPTION: 
URL:https://www.gardenstatehogchapter.com/welcome/event/puppy-rescue-mission-ride/
LOCATION:Garden State Harley-Davidson\, 1775 Route 10 East\, Morris Plains\, NJ\, 07950\, United States
CATEGORIES:Ride
END:VEVENT
BEGIN:VEVENT
DTSTART;TZID=UTC:20160514T113000
DTEND;TZID=UTC:20160514T150000
DTSTAMP:20260425T001806
CREATED:20160512T141137Z
LAST-MODIFIED:20160514T173608Z
UID:415-1463225400-1463238000@www.gardenstatehogchapter.com
SUMMARY:LOH Ride
DESCRIPTION:Karen will be leading a ride to El Bandido\, Middletown NY\,  for the Ladies of HOG members. All members are welcome to come along for the ride.
URL:https://www.gardenstatehogchapter.com/welcome/event/loh-ride/
LOCATION:Garden State Harley-Davidson\, 1775 Route 10 East\, Morris Plains\, NJ\, 07950\, United States
CATEGORIES:Ride
END:VEVENT
BEGIN:VEVENT
DTSTART;TZID=UTC:20160501T100000
DTEND;TZID=UTC:20160501T140000
DTSTAMP:20260425T001806
CREATED:20160416T072258Z
LAST-MODIFIED:20160416T072409Z
UID:404-1462096800-1462111200@www.gardenstatehogchapter.com
SUMMARY:Quaker Steak & Lube Ride
DESCRIPTION:Join Road Captain Kevin MacDevette  Quaker Steak & Lube located at 1304 US Route 22\, Phillipsburg\, NJ 08865. \nWebsite \nMap
URL:https://www.gardenstatehogchapter.com/welcome/event/quaker-steak-lube-ride/
LOCATION:Garden State Harley-Davidson\, 1775 Route 10 East\, Morris Plains\, NJ\, 07950\, United States
CATEGORIES:Ride
END:VEVENT
BEGIN:VEVENT
DTSTART;TZID=UTC:20160424T110000
DTEND;TZID=UTC:20160424T150000
DTSTAMP:20260425T001806
CREATED:20160309T052241Z
LAST-MODIFIED:20160402T223642Z
UID:373-1461495600-1461510000@www.gardenstatehogchapter.com
SUMMARY:Pennings Farm Market Ride
DESCRIPTION:Head Road Catain Russ Hall will be leading a ride to Pennings Farm Market. \nMap \n 
URL:https://www.gardenstatehogchapter.com/welcome/event/pennington-farms/
LOCATION:Garden State Harley-Davidson\, 1775 Route 10 East\, Morris Plains\, NJ\, 07950\, United States
CATEGORIES:Ride
END:VEVENT
BEGIN:VEVENT
DTSTART;TZID=UTC:20160417T100000
DTEND;TZID=UTC:20160417T140000
DTSTAMP:20260425T001806
CREATED:20160309T053818Z
LAST-MODIFIED:20160309T053818Z
UID:379-1460887200-1460901600@www.gardenstatehogchapter.com
SUMMARY:Irish Cottage Inn Ride
DESCRIPTION:Join Head Road Captain Russ Hall for a scenic ride to the Irish Cottage Inn.
URL:https://www.gardenstatehogchapter.com/welcome/event/irish-cottage-inn-ride/
LOCATION:Garden State Harley-Davidson\, 1775 Route 10 East\, Morris Plains\, NJ\, 07950\, United States
CATEGORIES:Ride
END:VEVENT
BEGIN:VEVENT
DTSTART;TZID=UTC:20160416T110000
DTEND;TZID=UTC:20160416T140000
DTSTAMP:20260425T001806
CREATED:20160309T051205Z
LAST-MODIFIED:20160415T164521Z
UID:367-1460804400-1460815200@www.gardenstatehogchapter.com
SUMMARY:New Member Ride - Hot Dog Johnny's
DESCRIPTION:Russ Hall/Keith Ward to lead a ride to Hot Dog Johnny’s.
URL:https://www.gardenstatehogchapter.com/welcome/event/new-member-ride-hot-dog-johnnies/
LOCATION:Garden State Harley-Davidson\, 1775 Route 10 East\, Morris Plains\, NJ\, 07950\, United States
CATEGORIES:Ride
END:VEVENT
BEGIN:VEVENT
DTSTART;TZID=America/New_York:20151101T090000
DTEND;TZID=America/New_York:20151101T150000
DTSTAMP:20260425T001806
CREATED:20150929T185413Z
LAST-MODIFIED:20150929T185557Z
UID:294-1446368400-1446390000@www.gardenstatehogchapter.com
SUMMARY:Ruff Riders NJSPCA Ride
DESCRIPTION:More details to follow.
URL:https://www.gardenstatehogchapter.com/welcome/event/ruff-riders-njspca-ride/
LOCATION:Garden State Harley-Davidson\, 1775 Route 10 East\, Morris Plains\, NJ\, 07950\, United States
CATEGORIES:Ride
END:VEVENT
BEGIN:VEVENT
DTSTART;TZID=UTC:20151018T110000
DTEND;TZID=UTC:20151018T140000
DTSTAMP:20260425T001806
CREATED:20150929T185003Z
LAST-MODIFIED:20151014T140856Z
UID:292-1445166000-1445176800@www.gardenstatehogchapter.com
SUMMARY:Barnstormer BBQ
DESCRIPTION:Road Captain Kevin MacDevette will be leading a ride to Barnstormer BBQ located at 1076 Rte 9W\, Fort Montgomery\, NY 10922. \nMap
URL:https://www.gardenstatehogchapter.com/welcome/event/barnstormer-bbq/
LOCATION:Garden State Harley-Davidson\, 1775 Route 10 East\, Morris Plains\, NJ\, 07950\, United States
CATEGORIES:Ride
END:VEVENT
BEGIN:VEVENT
DTSTART;TZID=America/New_York:20151010T100000
DTEND;TZID=America/New_York:20151010T140000
DTSTAMP:20260425T001806
CREATED:20150929T183825Z
LAST-MODIFIED:20150929T183825Z
UID:288-1444471200-1444485600@www.gardenstatehogchapter.com
SUMMARY:Leaf Peeping Ride
DESCRIPTION:Head Road Captain Russ Hall will be leading a ride to Irish Cottage Inn located at 602 NJ-23\, Franklin\, NJ 07416. This should be a nice ride to see some Fall Foliage in North NJ. \nMap
URL:https://www.gardenstatehogchapter.com/welcome/event/leaf-peeping-ride/
LOCATION:Garden State Harley-Davidson\, 1775 Route 10 East\, Morris Plains\, NJ\, 07950\, United States
CATEGORIES:Ride
END:VEVENT
BEGIN:VEVENT
DTSTART;TZID=America/New_York:20151004T090000
DTEND;TZID=America/New_York:20151004T150000
DTSTAMP:20260425T001806
CREATED:20150929T183434Z
LAST-MODIFIED:20150929T183434Z
UID:287-1443949200-1443970800@www.gardenstatehogchapter.com
SUMMARY:Riders for Rare Diseases
DESCRIPTION:Road Captain Joe Gennarelli will be leading a ride to Riders of Rare Diseases.
URL:https://www.gardenstatehogchapter.com/welcome/event/riders-for-rare-diseases/
LOCATION:Garden State Harley-Davidson\, 1775 Route 10 East\, Morris Plains\, NJ\, 07950\, United States
CATEGORIES:Ride
END:VEVENT
BEGIN:VEVENT
DTSTART;TZID=America/New_York:20150927T100000
DTEND;TZID=America/New_York:20150927T140000
DTSTAMP:20260425T001806
CREATED:20150922T065505Z
LAST-MODIFIED:20150922T065505Z
UID:282-1443348000-1443362400@www.gardenstatehogchapter.com
SUMMARY:Quaker Steak & Lube
DESCRIPTION:Road Captain Kevin MacDevette will be leading a ride to Quaker Steak and Lube located at 1304 US 22\, Phillipsburg NJ.
URL:https://www.gardenstatehogchapter.com/welcome/event/quaker-steak-lube/
LOCATION:Garden State Harley-Davidson\, 1775 Route 10 East\, Morris Plains\, NJ\, 07950\, United States
CATEGORIES:Ride
END:VEVENT
BEGIN:VEVENT
DTSTART;TZID=America/New_York:20150926T100000
DTEND;TZID=America/New_York:20150926T150000
DTSTAMP:20260425T001806
CREATED:20150803T005224Z
LAST-MODIFIED:20150929T191637Z
UID:224-1443261600-1443279600@www.gardenstatehogchapter.com
SUMMARY:Woodstock\, NY
DESCRIPTION:Road Captain Gerry Molitor will be leading a ride to Woodstaock NY.\nno images were found
URL:https://www.gardenstatehogchapter.com/welcome/event/gerry-ride/
LOCATION:Garden State Harley-Davidson\, 1775 Route 10 East\, Morris Plains\, NJ\, 07950\, United States
CATEGORIES:Ride
END:VEVENT
BEGIN:VEVENT
DTSTART;TZID=America/New_York:20150919T110000
DTEND;TZID=America/New_York:20150919T140000
DTSTAMP:20260425T001806
CREATED:20150718T171206Z
LAST-MODIFIED:20150929T190951Z
UID:213-1442660400-1442671200@www.gardenstatehogchapter.com
SUMMARY:Iron Horse Calvary - Yumi Run
DESCRIPTION:Director Byrne will be leading the ride following the General Membership meeting.\n\n\n\n		\n		[Show slideshow]
URL:https://www.gardenstatehogchapter.com/welcome/event/iron-horse-calvary/
LOCATION:Garden State Harley-Davidson\, 1775 Route 10 East\, Morris Plains\, NJ\, 07950\, United States
CATEGORIES:Ride
END:VEVENT
BEGIN:VEVENT
DTSTART;TZID=America/New_York:20150918T090000
DTEND;TZID=America/New_York:20150918T170000
DTSTAMP:20260425T001806
CREATED:20150718T171407Z
LAST-MODIFIED:20150718T171407Z
UID:214-1442566800-1442595600@www.gardenstatehogchapter.com
SUMMARY:NJ HOG Rally - Day Trip
DESCRIPTION:
URL:https://www.gardenstatehogchapter.com/welcome/event/nj-hog-rally-day-trip/
LOCATION:Garden State Harley-Davidson\, 1775 Route 10 East\, Morris Plains\, NJ\, 07950\, United States
CATEGORIES:Ride
END:VEVENT
BEGIN:VEVENT
DTSTART;TZID=America/New_York:20150829T090000
DTEND;TZID=America/New_York:20150829T150000
DTSTAMP:20260425T001806
CREATED:20150806T034849Z
LAST-MODIFIED:20150806T034849Z
UID:236-1440838800-1440860400@www.gardenstatehogchapter.com
SUMMARY:Ralph Bonin Benefit Ride
DESCRIPTION:Garden State Harley-Davidson is sponsoring a Benefit ride for Ralph Bonin and his family. See the flyer below.
URL:https://www.gardenstatehogchapter.com/welcome/event/ralph-bonin-benefit-ride/
LOCATION:Garden State Harley-Davidson\, 1775 Route 10 East\, Morris Plains\, NJ\, 07950\, United States
CATEGORIES:Ride
END:VEVENT
BEGIN:VEVENT
DTSTART;TZID=America/New_York:20150823T103000
DTEND;TZID=America/New_York:20150823T140000
DTSTAMP:20260425T001806
CREATED:20150616T021318Z
LAST-MODIFIED:20150616T021318Z
UID:176-1440325800-1440338400@www.gardenstatehogchapter.com
SUMMARY:Lackawaxen Inn
DESCRIPTION:Road Captain Keith Ward will be leading a ride to The Laxawaxen Inn located at 188 Scenic Dr\, Lackawaxen\, PA 18435. \nMap
URL:https://www.gardenstatehogchapter.com/welcome/event/lackawaxen-inn/
LOCATION:Garden State Harley-Davidson\, 1775 Route 10 East\, Morris Plains\, NJ\, 07950\, United States
CATEGORIES:Ride
END:VEVENT
BEGIN:VEVENT
DTSTART;TZID=America/New_York:20150822T100000
DTEND;TZID=America/New_York:20150822T140000
DTSTAMP:20260425T001806
CREATED:20150803T004707Z
LAST-MODIFIED:20150803T004707Z
UID:223-1440237600-1440252000@www.gardenstatehogchapter.com
SUMMARY:Sussex County Ride
DESCRIPTION:Head Road Captain Russ Hall will be leading a scenic ride from the dealership though beautiful Sussex County NJ.
URL:https://www.gardenstatehogchapter.com/welcome/event/sussex-county-ride/
LOCATION:Garden State Harley-Davidson\, 1775 Route 10 East\, Morris Plains\, NJ\, 07950\, United States
CATEGORIES:Ride
END:VEVENT
BEGIN:VEVENT
DTSTART;TZID=America/New_York:20150816T100000
DTEND;TZID=America/New_York:20150816T120000
DTSTAMP:20260425T001806
CREATED:20150803T004427Z
LAST-MODIFIED:20150803T004427Z
UID:222-1439719200-1439726400@www.gardenstatehogchapter.com
SUMMARY:Road Captains Ride
DESCRIPTION:Head Road Captain Russ Hall has called for a Road Captain Ride. All Road Captains are asked to attend.
URL:https://www.gardenstatehogchapter.com/welcome/event/road-captains-ride/
LOCATION:Garden State Harley-Davidson\, 1775 Route 10 East\, Morris Plains\, NJ\, 07950\, United States
CATEGORIES:Ride
END:VEVENT
BEGIN:VEVENT
DTSTART;TZID=America/New_York:20150809T110000
DTEND;TZID=America/New_York:20150809T130000
DTSTAMP:20260425T001806
CREATED:20150803T004040Z
LAST-MODIFIED:20150814T173306Z
UID:221-1439118000-1439125200@www.gardenstatehogchapter.com
SUMMARY:Barnsider Tavern
DESCRIPTION:Road Captain Keith Ward will lead a ride to  the Barnsider Tavern located 1372 Kings Highway\, Sugarloaf NY.\nMap \n\n\n\n		\n		[Show slideshow]
URL:https://www.gardenstatehogchapter.com/welcome/event/barnsider-tavern/
LOCATION:Garden State Harley-Davidson\, 1775 Route 10 East\, Morris Plains\, NJ\, 07950\, United States
CATEGORIES:Ride
END:VEVENT
BEGIN:VEVENT
DTSTART;TZID=America/New_York:20150808T093000
DTEND;TZID=America/New_York:20150808T130000
DTSTAMP:20260425T001806
CREATED:20150803T003417Z
LAST-MODIFIED:20150803T003520Z
UID:220-1439026200-1439038800@www.gardenstatehogchapter.com
SUMMARY:Grandma's
DESCRIPTION:Road Captain Gerry Molitor will lead a ride to Grandma’s Italian restaurant located at 3525 Crompond Rd\, Cortlandt Manor\, NY. \nMap
URL:https://www.gardenstatehogchapter.com/welcome/event/grandmas/
LOCATION:Garden State Harley-Davidson\, 1775 Route 10 East\, Morris Plains\, NJ\, 07950\, United States
CATEGORIES:Ride
END:VEVENT
BEGIN:VEVENT
DTSTART;TZID=America/New_York:20150802T110000
DTEND;TZID=America/New_York:20150802T140000
DTSTAMP:20260425T001806
CREATED:20150730T042012Z
LAST-MODIFIED:20150730T042436Z
UID:218-1438513200-1438524000@www.gardenstatehogchapter.com
SUMMARY:Apple Valley Family Restaurant
DESCRIPTION:Join Road Captain John Medina to The Apple Valley Family Restaurant in Milford PA. \n 
URL:https://www.gardenstatehogchapter.com/welcome/event/apple-valley-family-restaurant/
LOCATION:Garden State Harley-Davidson\, 1775 Route 10 East\, Morris Plains\, NJ\, 07950\, United States
CATEGORIES:Ride
END:VEVENT
BEGIN:VEVENT
DTSTART;TZID=America/New_York:20150801T110000
DTEND;TZID=America/New_York:20150801T150000
DTSTAMP:20260425T001806
CREATED:20150616T020247Z
LAST-MODIFIED:20150616T020247Z
UID:173-1438426800-1438441200@www.gardenstatehogchapter.com
SUMMARY:Mt. Airy Lodge & Casino
DESCRIPTION:Join Road Captains Gerry and Byrne to a ride to Mt Airy Lodge and Casino located at 312 Woodland Rd. Mount Pocono\, PA 18344. \nMap
URL:https://www.gardenstatehogchapter.com/welcome/event/mt-airy-lodge-casino/
LOCATION:Garden State Harley-Davidson\, 1775 Route 10 East\, Morris Plains\, NJ\, 07950\, United States
CATEGORIES:Ride
END:VEVENT
BEGIN:VEVENT
DTSTART;TZID=America/New_York:20150726T090000
DTEND;TZID=America/New_York:20150726T150000
DTSTAMP:20260425T001806
CREATED:20150609T042657Z
LAST-MODIFIED:20150715T055343Z
UID:160-1437901200-1437922800@www.gardenstatehogchapter.com
SUMMARY:Elk's Miracle Run
DESCRIPTION:The chapter will be participating int he Elk’s Miracle Run. \nThere is a $20 fee per person.
URL:https://www.gardenstatehogchapter.com/welcome/event/elks-miracle-run/
LOCATION:Garden State Harley-Davidson\, 1775 Route 10 East\, Morris Plains\, NJ\, 07950\, United States
CATEGORIES:Ride
END:VEVENT
BEGIN:VEVENT
DTSTART;TZID=America/New_York:20150725T110000
DTEND;TZID=America/New_York:20150725T170000
DTSTAMP:20260425T001806
CREATED:20150609T041242Z
LAST-MODIFIED:20150620T183126Z
UID:158-1437822000-1437843600@www.gardenstatehogchapter.com
SUMMARY:Motorcyclepedia/Ribworks
DESCRIPTION:Road Captain Keith Ward will be leading a ride to Newburgh NY. The group will be going to Motorcyclepedia and Billy Joe’s Ribworks. \nThey are located at 250 Lake St\, Newburgh\, NY 12550 and 26 Front St\, Newburgh\, NY 12550. \nMotorcyclepedia Map  Billy Joe’s Ribworks Map \nThere is an $11 admission fee for the museam.
URL:https://www.gardenstatehogchapter.com/welcome/event/motorcyclepediaribworks/
LOCATION:Garden State Harley-Davidson\, 1775 Route 10 East\, Morris Plains\, NJ\, 07950\, United States
CATEGORIES:Ride
END:VEVENT
BEGIN:VEVENT
DTSTART;TZID=America/New_York:20150719T110000
DTEND;TZID=America/New_York:20150719T150000
DTSTAMP:20260425T001806
CREATED:20150715T055003Z
LAST-MODIFIED:20150715T055003Z
UID:208-1437303600-1437318000@www.gardenstatehogchapter.com
SUMMARY:Boat House
DESCRIPTION:road Captain Russ Hall will be leading a ride to the Boat House located at 1040 Co Rd 521\, Swartswood\, NJ. 07877.
URL:https://www.gardenstatehogchapter.com/welcome/event/boat-house/
LOCATION:Garden State Harley-Davidson\, 1775 Route 10 East\, Morris Plains\, NJ\, 07950\, United States
CATEGORIES:Ride
END:VEVENT
BEGIN:VEVENT
DTSTART;TZID=America/New_York:20150712T080000
DTEND;TZID=America/New_York:20150712T150000
DTSTAMP:20260425T001806
CREATED:20150609T035012Z
LAST-MODIFIED:20150609T035012Z
UID:154-1436688000-1436713200@www.gardenstatehogchapter.com
SUMMARY:Hunterdon H.O.G.
DESCRIPTION:We will be joining our sister chapter Hunterdon H.O.G. for a ride of Hunterdon County.
URL:https://www.gardenstatehogchapter.com/welcome/event/hunterdon-h-o-g/
LOCATION:Garden State Harley-Davidson\, 1775 Route 10 East\, Morris Plains\, NJ\, 07950\, United States
CATEGORIES:Ride
END:VEVENT
END:VCALENDAR