BEGIN:VCALENDAR
VERSION:2.0
PRODID:-//Garden State Hog Chapter - ECPv6.15.17.1//NONSGML v1.0//EN
CALSCALE:GREGORIAN
METHOD:PUBLISH
X-ORIGINAL-URL:https://www.gardenstatehogchapter.com/welcome
X-WR-CALDESC:Events for Garden State Hog Chapter
REFRESH-INTERVAL;VALUE=DURATION:PT1H
X-Robots-Tag:noindex
X-PUBLISHED-TTL:PT1H
BEGIN:VTIMEZONE
TZID:America/New_York
BEGIN:DAYLIGHT
TZOFFSETFROM:-0500
TZOFFSETTO:-0400
TZNAME:EDT
DTSTART:20150308T070000
END:DAYLIGHT
BEGIN:STANDARD
TZOFFSETFROM:-0400
TZOFFSETTO:-0500
TZNAME:EST
DTSTART:20151101T060000
END:STANDARD
BEGIN:DAYLIGHT
TZOFFSETFROM:-0500
TZOFFSETTO:-0400
TZNAME:EDT
DTSTART:20160313T070000
END:DAYLIGHT
BEGIN:STANDARD
TZOFFSETFROM:-0400
TZOFFSETTO:-0500
TZNAME:EST
DTSTART:20161106T060000
END:STANDARD
BEGIN:DAYLIGHT
TZOFFSETFROM:-0500
TZOFFSETTO:-0400
TZNAME:EDT
DTSTART:20170312T070000
END:DAYLIGHT
BEGIN:STANDARD
TZOFFSETFROM:-0400
TZOFFSETTO:-0500
TZNAME:EST
DTSTART:20171105T060000
END:STANDARD
BEGIN:DAYLIGHT
TZOFFSETFROM:-0500
TZOFFSETTO:-0400
TZNAME:EDT
DTSTART:20180311T070000
END:DAYLIGHT
BEGIN:STANDARD
TZOFFSETFROM:-0400
TZOFFSETTO:-0500
TZNAME:EST
DTSTART:20181104T060000
END:STANDARD
END:VTIMEZONE
BEGIN:VEVENT
DTSTART;TZID=America/New_York:20170827T130000
DTEND;TZID=America/New_York:20170827T160000
DTSTAMP:20260424T180206
CREATED:20170825T155316Z
LAST-MODIFIED:20170825T155316Z
UID:879-1503838800-1503849600@www.gardenstatehogchapter.com
SUMMARY:Stonewood Tavern
DESCRIPTION:Head Road Captain\, David Austin\, will be leading a ride to: \nStonewood Tavern\n239 Route 206\nAndover NJ 07821 \nCheck out their menu at www.stonewoodtavernnj.com\nMeet at Garden State Harley-Davidson. Kickstands up at 1PM\nHope to see you there!” \nThis is a closed member ride\, guests may attend but will have to complete a rider release form. The assigned road captain will provide the release form.
URL:https://www.gardenstatehogchapter.com/welcome/event/stonewood-tavern/
LOCATION:Garden State Harley-Davidson\, 1775 Route 10 East\, Morris Plains\, NJ\, 07950\, United States
CATEGORIES:Ride
END:VEVENT
BEGIN:VEVENT
DTSTART;TZID=America/New_York:20170826T110000
DTEND;TZID=America/New_York:20170826T143000
DTSTAMP:20260424T180206
CREATED:20170315T233717Z
LAST-MODIFIED:20170708T040913Z
UID:582-1503745200-1503757800@www.gardenstatehogchapter.com
SUMMARY:Emerald Point
DESCRIPTION:Assigned Road Captain David McGinniss will be leading a ride to Emerald Point located at 40 Sterling Rd\, Greenwood Lake\, NY 10925. This ride will taking a longer route via Green Pond Road\, Route 23\, Route 515\, Route 94 and 17a.  \nThis is a closed member ride\, guests may attend but will have to sign a rider release form.
URL:https://www.gardenstatehogchapter.com/welcome/event/emerald-point/
LOCATION:Garden State Harley-Davidson\, 1775 Route 10 East\, Morris Plains\, NJ\, 07950\, United States
CATEGORIES:Ride
END:VEVENT
BEGIN:VEVENT
DTSTART;TZID=America/New_York:20170819T113000
DTEND;TZID=America/New_York:20170819T170000
DTSTAMP:20260424T180206
CREATED:20170609T004325Z
LAST-MODIFIED:20170818T023903Z
UID:719-1503142200-1503162000@www.gardenstatehogchapter.com
SUMMARY:Hudson Valley Ribfest
DESCRIPTION:Head Road Captain David Austin will be leading a ride to the Hudson Valley Ribfest located at 249 Libertyville Rd\, New Paltz\, NY 12561\nGeneral Admission $7\nONLINE or PURCHASE AT THE GATE\nRain or Shine Event \nIncluded in your entry fee is parking\, musical entertainment\, entry to the contest areas and free same day re-entry.  All kinds of delicious food from BBQ\, to Mexican and Jamaican along with Beer\, Wine\, Soda and Water available for purchase. \nMore information can be found here http://hudsonvalleyribfest.org/ \n \n  \nThis is a closed member ride\, any guests will have to sign a Rider Release form which can be obtained from the road captain on the ride.
URL:https://www.gardenstatehogchapter.com/welcome/event/hudson-valley-ribfest-2/
LOCATION:Garden State Harley-Davidson\, 1775 Route 10 East\, Morris Plains\, NJ\, 07950\, United States
CATEGORIES:Ride
END:VEVENT
BEGIN:VEVENT
DTSTART;TZID=America/New_York:20170813T130000
DTEND;TZID=America/New_York:20170813T160000
DTSTAMP:20260424T180206
CREATED:20170811T201531Z
LAST-MODIFIED:20170811T202451Z
UID:863-1502629200-1502640000@www.gardenstatehogchapter.com
SUMMARY:El Bandido
DESCRIPTION:Join Road Captain Karen Austin for a ride to El Bandido restaurant located at 536 E. Main Street\, Middletown NY.
URL:https://www.gardenstatehogchapter.com/welcome/event/el-bandito-2/
LOCATION:Garden State Harley-Davidson\, 1775 Route 10 East\, Morris Plains\, NJ\, 07950\, United States
CATEGORIES:Ride
END:VEVENT
BEGIN:VEVENT
DTSTART;TZID=America/New_York:20170806T100000
DTEND;TZID=America/New_York:20170806T130000
DTSTAMP:20260424T180206
CREATED:20170708T040426Z
LAST-MODIFIED:20170729T030610Z
UID:835-1502013600-1502024400@www.gardenstatehogchapter.com
SUMMARY:Gun Run
DESCRIPTION:Road Captain Joe Gennarelli will be leading a ride to the Hawthorne Gun Club located at 296 Wagaraw Rd\, Hawthorne\, NJ 07506.   \n \nFrom Joe\n \nOn August 6th we will be heading to the Hawthorne Gun Club for our annual gun run.  The cost will be $5.00 per shooter.  If you’ve been to a public range recently you know this is a fraction of what it would cost for an hour.  The range has covered ports and there will be several certified instructors on hand (including me) to assist any new or newer shooters.  All safety rules apply\, the most basic being:\n     1.  Always keep the firearm pointed in a safe direction (downrange).\n     2.  Keep the firearm unloaded until you are ready to use it.\n     3.  Keep your finger outside of the trigger guard until you are ready to fire.\nThere will be at least one Range Safety Officer on hand to make sure all safety rules are followed. \nWhen traveling you should keep your ammunition in a separate saddlebag from your firearm.\nHawthorne has several other rules which we will follow such as no magnums and no rapid firing.  The range will supply targets.  If you do not have a safety flag to indicate your firearm is unloaded we will provide them.  This has always been a fun day for those who attend.  \nAfterward we will travel a short distance to the Fair Lawn Promenade on Route 208 where we will have a choice of several food venues.   \n\n\nIf you have any questions I can be reached at jgonhd@aol.com.   \n  \n\nJoe Gennarelli\n \n \n \nThis is a closed member ride. Guests will have to complete a Rider Release form which can be obtained from the assigned road captain.
URL:https://www.gardenstatehogchapter.com/welcome/event/gun-run-3/
LOCATION:Garden State Harley-Davidson\, 1775 Route 10 East\, Morris Plains\, NJ\, 07950\, United States
CATEGORIES:Ride
END:VEVENT
BEGIN:VEVENT
DTSTART;TZID=America/New_York:20170805T090000
DTEND;TZID=America/New_York:20170805T150000
DTSTAMP:20260424T180206
CREATED:20170404T233151Z
LAST-MODIFIED:20170627T130050Z
UID:640-1501923600-1501945200@www.gardenstatehogchapter.com
SUMMARY:First Responders Ride
DESCRIPTION:First Responders Appreciation Ride Route 061717 \nExit rear of Dealership.\nLeft onto Candlewood Dr.\nRight onto Prospect Ave.\nLeft onto Tabor Road\nAt light\, left onto Tabor Rd./53 South\nRight onto Littleton Rd./202 South\nStay in left lane.\nLeft onto Speedwell Ave./202 South\nRight onto Hanover Ave. /650 (Becomes W. Hanover Ave./650)\nRight onto Sussex Tpke./617\nLeft onto Calais Rd.\nCross Dover/Chester Rd./513 onto Pleasant Hill Rd.\nAt stop\, cross Park Ave.\nContinue on Pleasant Hill Rd. (Becomes Ironia Rd.)\nAt stop\, left onto Pleasant Hill Rd.\nRight onto Furnace Rd.\nRight onto Hillside Rd.\nCross 206 onto Four Bridges Rd.\nAt stop\, left onto Bartley Rd./625\nAt stop\, right onto East Mill Rd./513 South (becomes Califon/Chester Rd.)\nLeft onto Main St./512 East\nCross bridge. Bear right onto Academy St./512 (Becomes Fairmount Rd. West)\nAt light\, cross 517 onto Fairmount Rd. East/512\nLeft onto Pottersville Rd./512.\nCross 206 onto Pottersville Rd.\nAt end\, right onto Main St.\nAt end\, left onto Mendham Rd./647 North (Becomes Roxiticus Rd.)\nRight onto Mendham Rd. West/510 (Becomes Main St./510)\nLeft onto Cold Hill Rd.\nLeft onto Woodland Rd. (Becomes Brookside Rd.)\nCross Sussex Tpke./617 onto W. Hanover Rd./650\nLeft onto Speedwell Ave./202 North\nRight onto Littleton Rd./202 Go under trestle.\nStay in the left lane. Left onto Tabor Rd./53\nRight onto Tabor Rd.\nRight onto Prospect Ave.\nLeft onto Candlewood Dr.\nRight into rear of Dealership.
URL:https://www.gardenstatehogchapter.com/welcome/event/first-responders-ride/
LOCATION:NJ
CATEGORIES:Ride
END:VEVENT
BEGIN:VEVENT
DTSTART;TZID=America/New_York:20170730T110000
DTEND;TZID=America/New_York:20170730T153000
DTSTAMP:20260424T180206
CREATED:20170609T004059Z
LAST-MODIFIED:20170715T150120Z
UID:717-1501412400-1501428600@www.gardenstatehogchapter.com
SUMMARY:The Ride that Shall Not be Named
DESCRIPTION:Safety Officer Russ Hall – leading a ride that can not be named\, for fear that it will be subjected to the jinx. \n  \nThis is a closed membership ride\, guests will have to sign a ride release form obtained from the road captain.
URL:https://www.gardenstatehogchapter.com/welcome/event/the-ride-that-shall-not-be-named/
LOCATION:Garden State Harley-Davidson\, 1775 Route 10 East\, Morris Plains\, NJ\, 07950\, United States
CATEGORIES:Ride
END:VEVENT
BEGIN:VEVENT
DTSTART;TZID=America/New_York:20170729T110000
DTEND;TZID=America/New_York:20170729T140000
DTSTAMP:20260424T180206
CREATED:20170609T003739Z
LAST-MODIFIED:20170728T013005Z
UID:715-1501326000-1501336800@www.gardenstatehogchapter.com
SUMMARY:Amwell Family Diner
DESCRIPTION:Road Captain Joe G. will be leading a ride to the Amwell Family Diner located at – 400 NJ-31\, Ringoes\, NJ 08551 \nHere is a link to pictures of the Diner – Pics \nThis is a closed membership ride\, guests will have to sign a ride release form obtained from the road captain.
URL:https://www.gardenstatehogchapter.com/welcome/event/amwell-family-diner/
LOCATION:Garden State Harley-Davidson\, 1775 Route 10 East\, Morris Plains\, NJ\, 07950\, United States
CATEGORIES:Ride
END:VEVENT
BEGIN:VEVENT
DTSTART;TZID=America/New_York:20170722T100000
DTEND;TZID=America/New_York:20170722T150000
DTSTAMP:20260424T180206
CREATED:20170427T005227Z
LAST-MODIFIED:20170427T005227Z
UID:666-1500717600-1500735600@www.gardenstatehogchapter.com
SUMMARY:Ride for Autism - CelebratetheChildren.org
DESCRIPTION:
URL:https://www.gardenstatehogchapter.com/welcome/event/ride-for-autism-celebratethechildren-org/
LOCATION:Garden State Harley-Davidson\, 1775 Route 10 East\, Morris Plains\, NJ\, 07950\, United States
CATEGORIES:Ride
END:VEVENT
BEGIN:VEVENT
DTSTART;TZID=America/New_York:20170715T113000
DTEND;TZID=America/New_York:20170715T140000
DTSTAMP:20260424T180206
CREATED:20170609T003426Z
LAST-MODIFIED:20170708T035940Z
UID:713-1500118200-1500127200@www.gardenstatehogchapter.com
SUMMARY:The Lantern
DESCRIPTION:Road Captain Keith Ward – 1138 Ringwood Ave\, Haskell\, NJ 07420 \n  \nThis is a closed membership ride\, guests will have to sign a ride release form obtained from the road captain.
URL:https://www.gardenstatehogchapter.com/welcome/event/the-lantern/
LOCATION:Garden State Harley-Davidson\, 1775 Route 10 East\, Morris Plains\, NJ\, 07950\, United States
CATEGORIES:Ride
END:VEVENT
BEGIN:VEVENT
DTSTART;TZID=America/New_York:20170709T110000
DTEND;TZID=America/New_York:20170709T153000
DTSTAMP:20260424T180206
CREATED:20170609T003134Z
LAST-MODIFIED:20170706T024516Z
UID:711-1499598000-1499614200@www.gardenstatehogchapter.com
SUMMARY:Riverside Bar and Grill
DESCRIPTION:Road Captain Rich Kaltenstein – will be leading a ride to the Riverside Bar and Grill located at 5801 N Delaware Dr\, Easton\, PA 18040. \n  \nThis is a closed member ride\, guests will need to sign a ride waiver form with the road captain.
URL:https://www.gardenstatehogchapter.com/welcome/event/riverside-bar-and-grill/
LOCATION:Garden State Harley-Davidson\, 1775 Route 10 East\, Morris Plains\, NJ\, 07950\, United States
CATEGORIES:Ride
END:VEVENT
BEGIN:VEVENT
DTSTART;TZID=America/New_York:20170708T103000
DTEND;TZID=America/New_York:20170708T150000
DTSTAMP:20260424T180206
CREATED:20170510T014330Z
LAST-MODIFIED:20170706T023959Z
UID:694-1499509800-1499526000@www.gardenstatehogchapter.com
SUMMARY:The Are We There Yet Ride to the Chatterbox
DESCRIPTION:Road Captain David McGinniss will be leading a ride to The Chatterbox located at 1 NJ-15\, Augusta\, NJ 07822. This will be a long ride to a destination that is not that far away. There will be some highway riding on our way to The Chatterbox via NY. \n  \nThis is  a closed member ride\, guests that participate will have to sign a ride release form with the road captain on the ride.
URL:https://www.gardenstatehogchapter.com/welcome/event/chatterbox-2/
LOCATION:Garden State Harley-Davidson\, 1775 Route 10 East\, Morris Plains\, NJ\, 07950\, United States
CATEGORIES:Ride
END:VEVENT
BEGIN:VEVENT
DTSTART;TZID=America/New_York:20170701T113000
DTEND;TZID=America/New_York:20170701T143000
DTSTAMP:20260424T180206
CREATED:20170630T124748Z
LAST-MODIFIED:20170630T124748Z
UID:814-1498908600-1498919400@www.gardenstatehogchapter.com
SUMMARY:Mystery Ride
DESCRIPTION:If weather permits\, Director Karen Austin will be leading a Mystery Ride to an unknown destination.
URL:https://www.gardenstatehogchapter.com/welcome/event/mystery-ride/
LOCATION:Garden State Harley-Davidson\, 1775 Route 10 East\, Morris Plains\, NJ\, 07950\, United States
CATEGORIES:Ride
END:VEVENT
BEGIN:VEVENT
DTSTART;TZID=America/New_York:20170625T133000
DTEND;TZID=America/New_York:20170625T150000
DTSTAMP:20260424T180206
CREATED:20170609T002316Z
LAST-MODIFIED:20170609T002316Z
UID:707-1498397400-1498402800@www.gardenstatehogchapter.com
SUMMARY:Denville Dog and Grill
DESCRIPTION:Head Road Captain David Austin
URL:https://www.gardenstatehogchapter.com/welcome/event/denville-dog-and-grill/
LOCATION:Garden State Harley-Davidson\, 1775 Route 10 East\, Morris Plains\, NJ\, 07950\, United States
CATEGORIES:Ride
END:VEVENT
BEGIN:VEVENT
DTSTART;TZID=America/New_York:20170624T110000
DTEND;TZID=America/New_York:20170624T140000
DTSTAMP:20260424T180206
CREATED:20170404T233006Z
LAST-MODIFIED:20170505T004333Z
UID:638-1498302000-1498312800@www.gardenstatehogchapter.com
SUMMARY:Kinchleys
DESCRIPTION:Road Captain Joe Gennarelli \nThis is a closed member ride\, guests may attend but will have to sign a rider release form.
URL:https://www.gardenstatehogchapter.com/welcome/event/kinchleys-2/
LOCATION:Garden State Harley-Davidson\, 1775 Route 10 East\, Morris Plains\, NJ\, 07950\, United States
CATEGORIES:Ride
END:VEVENT
BEGIN:VEVENT
DTSTART;TZID=America/New_York:20170618T090000
DTEND;TZID=America/New_York:20170618T110000
DTSTAMP:20260424T180206
CREATED:20170130T022319Z
LAST-MODIFIED:20170617T194111Z
UID:550-1497776400-1497783600@www.gardenstatehogchapter.com
SUMMARY:Annual Father's Day Breakfast Ride
DESCRIPTION:Annual Fathers Day Breakfast Ride to Rhodes North Tavern\, Sloatsburg\, NY.\nThis is a family event. Attendees can ride or drive. . We will meet  at the restaurant at 9:00am. \nwww.rhodesnorth.com/ \nMap \n 
URL:https://www.gardenstatehogchapter.com/welcome/event/annual-fathers-day-breakfast-ride/
LOCATION:Rhodes Tavern North\, 40 Orange Turnpike\, Sloutsburg\, NY\, 10974
CATEGORIES:Ride
END:VEVENT
BEGIN:VEVENT
DTSTART;TZID=America/New_York:20170610T110000
DTEND;TZID=America/New_York:20170610T150000
DTSTAMP:20260424T180206
CREATED:20170510T012534Z
LAST-MODIFIED:20170609T005747Z
UID:690-1497092400-1497106800@www.gardenstatehogchapter.com
SUMMARY:Dr. Strange Ride - Carriage House
DESCRIPTION:Road Captain David McGinniss will be leading a ride to the Carriage House located at 3351 Rt-97\, Barryville\, NY 12719. We will be traveling the same road as was seen in the movie Dr. Strange. \nWe will be traveling 53 to 23 to 515 to 94 to 1A to 1 to 6 to 42 to 97.  \nThis is a closed member ride\, guests may attend but will have to sign a rider release form.
URL:https://www.gardenstatehogchapter.com/welcome/event/dr-strange-ride-carriage-house/
LOCATION:Garden State Harley-Davidson\, 1775 Route 10 East\, Morris Plains\, NJ\, 07950\, United States
CATEGORIES:Ride
END:VEVENT
BEGIN:VEVENT
DTSTART;TZID=America/New_York:20170603T083000
DTEND;TZID=America/New_York:20170603T170000
DTSTAMP:20260424T180206
CREATED:20170127T040809Z
LAST-MODIFIED:20170531T213351Z
UID:527-1496478600-1496509200@www.gardenstatehogchapter.com
SUMMARY:Veteran's Haven North Ride
DESCRIPTION: Veterans Haven Ride\nMeet at Garden State Harley-Davidson. Kickstands up\, at 9AM\, for ride to Williams. \nTheir ride departs at 11AM. Approx. 50 miles. 1 1/2 hours. $25 rider. $5 passenger. \nThis is a closed member ride up to the event start site\, guests may attend but will have to sign a rider release form.
URL:https://www.gardenstatehogchapter.com/welcome/event/veterans-haven-north-ride/
LOCATION:NJ
CATEGORIES:Ride
END:VEVENT
BEGIN:VEVENT
DTSTART;TZID=America/New_York:20170527T073000
DTEND;TZID=America/New_York:20170527T110000
DTSTAMP:20260424T180206
CREATED:20170130T021918Z
LAST-MODIFIED:20170523T120304Z
UID:548-1495870200-1495882800@www.gardenstatehogchapter.com
SUMMARY:Morris Plains Memorial Day Parade
DESCRIPTION:We are looking for a record number of bikes to represent our Chapter and Dealership. Ride to be led by Head Road Captain\, David Austin. \nMeet at the Dealership at 7:30AM. Kickstands up at 8:00AM. \nThis is a closed member ride\, guests may attend but will have to sign a rider release form.
URL:https://www.gardenstatehogchapter.com/welcome/event/morris-plains-memorial-day-parade/
LOCATION:Garden State Harley-Davidson\, 1775 Route 10 East\, Morris Plains\, NJ\, 07950\, United States
CATEGORIES:Ride
END:VEVENT
BEGIN:VEVENT
DTSTART;TZID=America/New_York:20170520T113000
DTEND;TZID=America/New_York:20170520T150000
DTSTAMP:20260424T180206
CREATED:20170315T233425Z
LAST-MODIFIED:20170519T020016Z
UID:578-1495279800-1495292400@www.gardenstatehogchapter.com
SUMMARY:Long Valley Brew Pub
DESCRIPTION:Long Valley Brew Pub located at 1 Fairmount Rd\, Long Valley\, NJ 07853 \n  \nThis is a closed member ride\, guests may attend but will have to sign a rider release form.
URL:https://www.gardenstatehogchapter.com/welcome/event/long-valley-brew-pub/
LOCATION:Garden State Harley-Davidson\, 1775 Route 10 East\, Morris Plains\, NJ\, 07950\, United States
CATEGORIES:Ride
END:VEVENT
BEGIN:VEVENT
DTSTART;TZID=America/New_York:20170430T113000
DTEND;TZID=America/New_York:20170430T143000
DTSTAMP:20260424T180206
CREATED:20170315T233600Z
LAST-MODIFIED:20170428T022141Z
UID:580-1493551800-1493562600@www.gardenstatehogchapter.com
SUMMARY:Walpack Inn
DESCRIPTION:Assigned Road Captain David Austin \nThe Walpack Inn – 7 National Park Service Rd 615\, Wallpack Center\, NJ 07881 \nwww.thewalpackinn.com \nMap
URL:https://www.gardenstatehogchapter.com/welcome/event/walpack-inn-2/
LOCATION:Garden State Harley-Davidson\, 1775 Route 10 East\, Morris Plains\, NJ\, 07950\, United States
CATEGORIES:Ride
END:VEVENT
BEGIN:VEVENT
DTSTART;TZID=America/New_York:20170429T110000
DTEND;TZID=America/New_York:20170429T140000
DTSTAMP:20260424T180206
CREATED:20170404T232504Z
LAST-MODIFIED:20170424T180607Z
UID:636-1493463600-1493474400@www.gardenstatehogchapter.com
SUMMARY:Ride to the Border - El Bandido Ride
DESCRIPTION:Director Karen Austin will be leading a ride to El Bandido restaurant located at 536 E. Main Street\, Middletown NY. \nThis will be a  70 mile ride over High Point to Middletown. Avoiding all highways except Route 23.\nRide is approximately 2 hours long. \n  \nThis is a closed chapter ride. \nYou don’t need no stinkin’ badges\, but you need to  bring your chapter membership card.
URL:https://www.gardenstatehogchapter.com/welcome/event/el-bandito/
LOCATION:Garden State Harley-Davidson\, 1775 Route 10 East\, Morris Plains\, NJ\, 07950\, United States
CATEGORIES:Ride
END:VEVENT
BEGIN:VEVENT
DTSTART;TZID=America/New_York:20170423T103000
DTEND;TZID=America/New_York:20170423T153000
DTSTAMP:20260424T180206
CREATED:20170315T233205Z
LAST-MODIFIED:20170401T003930Z
UID:575-1492943400-1492961400@www.gardenstatehogchapter.com
SUMMARY:Quaker Steak
DESCRIPTION:Assigned Road Captain Kevin MacDevette  \nQuaker Steak & Lube located at 1304 US Route 22\, Phillipsburg\, NJ 08865. \nWebsite \nMap
URL:https://www.gardenstatehogchapter.com/welcome/event/quaker-steak/
LOCATION:Garden State Harley-Davidson\, 1775 Route 10 East\, Morris Plains\, NJ\, 07950\, United States
CATEGORIES:Ride
END:VEVENT
BEGIN:VEVENT
DTSTART;TZID=America/New_York:20170415T120000
DTEND;TZID=America/New_York:20170415T150000
DTSTAMP:20260424T180206
CREATED:20170315T232807Z
LAST-MODIFIED:20170329T151308Z
UID:570-1492257600-1492268400@www.gardenstatehogchapter.com
SUMMARY:Fink's Barbecue
DESCRIPTION:Assigned Road Captain Russ Hall \nJoin us for a ride to Fink’s Barbecue located at 32 Orange Ave\, Suffern\, NY 10901. Their website is www.finksbbqroadhouse.com.
URL:https://www.gardenstatehogchapter.com/welcome/event/finks-barbecue/
LOCATION:Garden State Harley-Davidson\, 1775 Route 10 East\, Morris Plains\, NJ\, 07950\, United States
CATEGORIES:Ride
END:VEVENT
BEGIN:VEVENT
DTSTART;TZID=America/New_York:20170402T110000
DTEND;TZID=America/New_York:20170402T170000
DTSTAMP:20260424T180206
CREATED:20170218T062313Z
LAST-MODIFIED:20170325T205556Z
UID:557-1491130800-1491152400@www.gardenstatehogchapter.com
SUMMARY:AMA Spring Kickoff
DESCRIPTION:There will be a ride leaving from the dealership at 11:am \nAMA DISTRICT II Kick-OFF PARTY \nSunday April 2\, 2017\nManville VFW\n600 Washington Ave\nManville\, NJ \n1-5 PM Inside Rain/Shine\nFood-Soda-Water\nKICK BACK BAND\nVendors\n$15.00 plus CASH BAR
URL:https://www.gardenstatehogchapter.com/welcome/event/ama-spring-kickoff/
LOCATION:Garden State Harley-Davidson\, 1775 Route 10 East\, Morris Plains\, NJ\, 07950\, United States
CATEGORIES:Ride
END:VEVENT
BEGIN:VEVENT
DTSTART;TZID=America/New_York:20161001T090000
DTEND;TZID=America/New_York:20161001T150000
DTSTAMP:20260424T180206
CREATED:20160906T125944Z
LAST-MODIFIED:20160906T125944Z
UID:478-1475312400-1475334000@www.gardenstatehogchapter.com
SUMMARY:Hunterdon County HOG Charity Run
DESCRIPTION:We will be leaving from the dealership at 9AM to go down to Williams Harley Davidson. Pre-Register before 9/17 for a discount and a collectible here.
URL:https://www.gardenstatehogchapter.com/welcome/event/hunterdon-county-hog-charity-run/
LOCATION:Garden State Harley-Davidson\, 1775 Route 10 East\, Morris Plains\, NJ\, 07950\, United States
CATEGORIES:Ride
END:VEVENT
BEGIN:VEVENT
DTSTART;TZID=America/New_York:20160925T100000
DTEND;TZID=America/New_York:20160925T150000
DTSTAMP:20260424T180206
CREATED:20150530T231615Z
LAST-MODIFIED:20160922T022626Z
UID:139-1474797600-1474815600@www.gardenstatehogchapter.com
SUMMARY:Alaska Pete's Roadhouse Grille
DESCRIPTION:Road Captain David Austin will be leading a ride to Alaska Pete’s Roadhouse Grille on Sunday. Menu is available on the website. \nWebsite \nRide to the restaurant is 84 miles\, approximately 2 hours. Route goes over High Point. Crosses the Delaware in NY (no toll). Follows 209 South\, in PA\, along the Delaware. Combination of highway and country roads. \nMap
URL:https://www.gardenstatehogchapter.com/welcome/event/bethel-ny/
LOCATION:Garden State Harley-Davidson\, 1775 Route 10 East\, Morris Plains\, NJ\, 07950\, United States
CATEGORIES:Ride
END:VEVENT
BEGIN:VEVENT
DTSTART;TZID=America/New_York:20160924T110000
DTEND;TZID=America/New_York:20160924T150000
DTSTAMP:20260424T180206
CREATED:20160906T124833Z
LAST-MODIFIED:20160906T124833Z
UID:476-1474714800-1474729200@www.gardenstatehogchapter.com
SUMMARY:Keith Ward Surprise Ride
DESCRIPTION:Come join Road Captain Keith Ward for a ride to a surprise destination.
URL:https://www.gardenstatehogchapter.com/welcome/event/keith-ward-surprise-ride/
LOCATION:Garden State Harley-Davidson\, 1775 Route 10 East\, Morris Plains\, NJ\, 07950\, United States
CATEGORIES:Ride
END:VEVENT
BEGIN:VEVENT
DTSTART;TZID=America/New_York:20160918T090000
DTEND;TZID=America/New_York:20160918T150000
DTSTAMP:20260424T180206
CREATED:20160811T172805Z
LAST-MODIFIED:20160917T134323Z
UID:466-1474189200-1474210800@www.gardenstatehogchapter.com
SUMMARY:AMA Corn Boil - Canceled
DESCRIPTION:The ride has been canceled due to rain. \nHead Road Captain will lead a ride to the Corn Boil from the dealership at 9:am. The ride will go to the launch site at Williams Harley Davidson Rt 22 West Lebanon for sign in\, there will be coffee and doughnuts. The end site will be Eagles\, 350 Woodside Lane\, Bridgewater NJ. $15 dollar fee. \nhttp://www.amadistrictii.com
URL:https://www.gardenstatehogchapter.com/welcome/event/ama-corn-boil-2/
LOCATION:Garden State Harley-Davidson\, 1775 Route 10 East\, Morris Plains\, NJ\, 07950\, United States
CATEGORIES:Ride
END:VEVENT
BEGIN:VEVENT
DTSTART;TZID=America/New_York:20160917T110000
DTEND;TZID=America/New_York:20160917T150000
DTSTAMP:20260424T180206
CREATED:20160830T002358Z
LAST-MODIFIED:20160830T002358Z
UID:469-1474110000-1474124400@www.gardenstatehogchapter.com
SUMMARY:Iron Horse Calvary - Yumi Run
DESCRIPTION:Director Byrne will be leading the ride.
URL:https://www.gardenstatehogchapter.com/welcome/event/iron-horse-calvary-yumi-run/
LOCATION:Garden State Harley-Davidson\, 1775 Route 10 East\, Morris Plains\, NJ\, 07950\, United States
CATEGORIES:Ride
END:VEVENT
END:VCALENDAR