BEGIN:VCALENDAR
VERSION:2.0
PRODID:-//Garden State Hog Chapter - ECPv6.15.17.1//NONSGML v1.0//EN
CALSCALE:GREGORIAN
METHOD:PUBLISH
X-WR-CALNAME:Garden State Hog Chapter
X-ORIGINAL-URL:https://www.gardenstatehogchapter.com/welcome
X-WR-CALDESC:Events for Garden State Hog Chapter
REFRESH-INTERVAL;VALUE=DURATION:PT1H
X-Robots-Tag:noindex
X-PUBLISHED-TTL:PT1H
BEGIN:VTIMEZONE
TZID:America/New_York
BEGIN:DAYLIGHT
TZOFFSETFROM:-0500
TZOFFSETTO:-0400
TZNAME:EDT
DTSTART:20160313T070000
END:DAYLIGHT
BEGIN:STANDARD
TZOFFSETFROM:-0400
TZOFFSETTO:-0500
TZNAME:EST
DTSTART:20161106T060000
END:STANDARD
BEGIN:DAYLIGHT
TZOFFSETFROM:-0500
TZOFFSETTO:-0400
TZNAME:EDT
DTSTART:20170312T070000
END:DAYLIGHT
BEGIN:STANDARD
TZOFFSETFROM:-0400
TZOFFSETTO:-0500
TZNAME:EST
DTSTART:20171105T060000
END:STANDARD
BEGIN:DAYLIGHT
TZOFFSETFROM:-0500
TZOFFSETTO:-0400
TZNAME:EDT
DTSTART:20180311T070000
END:DAYLIGHT
BEGIN:STANDARD
TZOFFSETFROM:-0400
TZOFFSETTO:-0500
TZNAME:EST
DTSTART:20181104T060000
END:STANDARD
BEGIN:DAYLIGHT
TZOFFSETFROM:-0500
TZOFFSETTO:-0400
TZNAME:EDT
DTSTART:20190310T070000
END:DAYLIGHT
BEGIN:STANDARD
TZOFFSETFROM:-0400
TZOFFSETTO:-0500
TZNAME:EST
DTSTART:20191103T060000
END:STANDARD
END:VTIMEZONE
BEGIN:VEVENT
DTSTART;TZID=America/New_York:20181013T090000
DTEND;TZID=America/New_York:20181013T140000
DTSTAMP:20260424T142031
CREATED:20180610T183430Z
LAST-MODIFIED:20180920T223324Z
UID:1753-1539421200-1539439200@www.gardenstatehogchapter.com
SUMMARY:Pigs in the Park - Morris County Parks Police Ride
DESCRIPTION:Morris County Park Police PBA 264 is bringing back the famous “Pigs In The Park Motorcyle Rally”.\nPre-registration will begin April 1st\, 2018 at 7:00am on this website and will include a t-shirt for Pre-registration only. For those who would like to attend but did not pre-register\, you can register the day of the event at Garden State Harley. Registration will begin on October 13\, 2018 at 9:00 a.m. with kickstands up at 11:00 a.m. The ride will conclude at Lewis Morris County Park in Morris Township. The rain date will be October 14\, 2018 with the same time schedule. Tee-Shirts can also be purchased at the EVENT!!!
URL:https://www.gardenstatehogchapter.com/welcome/event/pigs-in-the-park-morris-county-parks-police-ride/
LOCATION:Garden State Harley-Davidson\, 1775 Route 10 East\, Morris Plains\, NJ\, 07950\, United States
CATEGORIES:Ride
END:VEVENT
BEGIN:VEVENT
DTSTART;TZID=America/New_York:20181006T103000
DTEND;TZID=America/New_York:20181006T143000
DTSTAMP:20260424T142031
CREATED:20180929T101736Z
LAST-MODIFIED:20181004T022731Z
UID:1851-1538821800-1538836200@www.gardenstatehogchapter.com
SUMMARY:Fall Foliage Chapter Run
DESCRIPTION:Road Captain Russ Hall will lead a ride to the Black Dirt region of New York on Saturday October 6th.  Riders will depart the Dealership at 10:30.  Lunch spot will be Smokey Joe’s Tavern in Vernon\, NJ.  Enjoy!
URL:https://www.gardenstatehogchapter.com/welcome/event/chapter-ride-to-north-jersey-motorcycle-skills-competition/
LOCATION:Smokey’s Brick Oven Tavern\, 2 Vernon Crossing Rd.\, Sussex\, NJ\, 07462\, United States
CATEGORIES:Ride
END:VEVENT
BEGIN:VEVENT
DTSTART;TZID=America/New_York:20180929T090000
DTEND;TZID=America/New_York:20180929T160000
DTSTAMP:20260424T142031
CREATED:20180610T182914Z
LAST-MODIFIED:20180920T223520Z
UID:1751-1538211600-1538236800@www.gardenstatehogchapter.com
SUMMARY:Eric Blohm Foundation Ride
DESCRIPTION:3rd annual Eric C. Blohm Foundation Ride.  Link to pre-register below.
URL:https://www.gardenstatehogchapter.com/welcome/event/eric-blohm-foundation-ride/
LOCATION:Garden State Harley-Davidson\, 1775 Route 10 East\, Morris Plains\, NJ\, 07950\, United States
CATEGORIES:Ride
END:VEVENT
BEGIN:VEVENT
DTSTART;TZID=America/New_York:20180923T100000
DTEND;TZID=America/New_York:20180923T180000
DTSTAMP:20260424T142031
CREATED:20180513T131608Z
LAST-MODIFIED:20180920T223626Z
UID:1727-1537696800-1537725600@www.gardenstatehogchapter.com
SUMMARY:Forever Friends Ride
DESCRIPTION:The Chapter will gather at Garden State H-D before departing at 10AM for Skylands Stadium\, which is where the Forever Friends ride registration and ride launch is taking place. Registration ends at Noon\, and the ride is from 12:30 to 2PM. The event is expected to complete at 6PM. Cost is $25 per person.
URL:https://www.gardenstatehogchapter.com/welcome/event/forever-friends-ride/
LOCATION:Garden State Harley-Davidson\, 1775 Route 10 East\, Morris Plains\, NJ\, 07950\, United States
CATEGORIES:Ride
END:VEVENT
BEGIN:VEVENT
DTSTART;TZID=America/New_York:20180922T120000
DTEND;TZID=America/New_York:20180922T150000
DTSTAMP:20260424T142031
CREATED:20180920T025153Z
LAST-MODIFIED:20180920T025154Z
UID:1830-1537617600-1537628400@www.gardenstatehogchapter.com
SUMMARY:Chapter Ride - Shannon Rose
DESCRIPTION:Chapter ride to the Shannon Rose Irish Pub.  Head Road Captain David Austin will lead riders following our General Chapter meeting on Saturday September 22.  Kickstands up at Noon!
URL:https://www.gardenstatehogchapter.com/welcome/event/chapter-ride-shannon-rose/
LOCATION:Shannon Rose Irish Pub\, 1200 NJ-17\, Ramsey\, NJ\, 07446\, United States
CATEGORIES:Ride
END:VEVENT
BEGIN:VEVENT
DTSTART;TZID=America/New_York:20180916T100000
DTEND;TZID=America/New_York:20180916T150000
DTSTAMP:20260424T142031
CREATED:20180916T012641Z
LAST-MODIFIED:20180916T013303Z
UID:1826-1537092000-1537110000@www.gardenstatehogchapter.com
SUMMARY:Chapter Ride to The Lackawaxen Inn
DESCRIPTION:Road Captain Keith Ward will lead a ride to The Lackawaxen Inn on Sunday September 16th.  Kickstands up at 10AM.
URL:https://www.gardenstatehogchapter.com/welcome/event/chapter-ride-to-the-lackawaxen-inn/
LOCATION:The Lackawaxen Inn\, 188 Scenic Drive\, Lackawaxen\, PA\, 18435
CATEGORIES:Ride
END:VEVENT
BEGIN:VEVENT
DTSTART;TZID=America/New_York:20180915T090000
DTEND;TZID=America/New_York:20180915T160000
DTSTAMP:20260424T142031
CREATED:20180331T210902Z
LAST-MODIFIED:20180905T154917Z
UID:1612-1537002000-1537027200@www.gardenstatehogchapter.com
SUMMARY:Sgt. Peter J. Kamper Memorial Ride
DESCRIPTION:  \n  \nPeter J. Kamper\, Jr. Memorial Ride Route    \nRide Date: 09/15/18. Route approx. 55 miles.  Ride time approx. 2 hrs. \nStarting and ending at Garden State Harley-Davidson\, 1775 State Route 10\, Morris Plains NJ  \n  \nPolice Departments: Morris Plains; Parsippany-Troy Hills; Denville; Rockaway Boro; West Milford; Ringwood; Wanaque; Pompton Lakes; Wayne; Riverdale; Hanover Township \n  \nExit rear of Dealership \nL onto Candlewood Dr. \nR onto Prospect Ave \nL onto Tabor Rd. to light \nR onto Tabor Rd./53 into Denville \nBear L onto W. Main St. \nStraight onto 46 W \nBear R onto Rt 80 W \nTake exit 37 to light \nL onto Green Pond Rd./513 to end \nR onto Rt 23 S          \nL onto Echo Lake Rd. to end \nL onto Macopin Rd \nR onto Westbrook Rd. to end \nR onto Ringwood Ave./511 \nL onto Wanaque Ave. \nL onto Lenox Ave. \nL onto Ramapo Ave. \nR onto Lakeside Ave. to end \nR onto Terhune Dr./202 \nR onto Hamburg Tpke. \nL onto 287 S \nR onto Rt 10 W \nR onto Tabor Rd. to light \nL onto Tabor Rd./53 to light \nL onto Tabor Rd. \nR onto Prospect Ave \nL onto Candlewood Dr.  \nR into rear of Dealership
URL:https://www.gardenstatehogchapter.com/welcome/event/sgt-peter-j-kamper-memorial-ride/
LOCATION:Garden State Harley-Davidson\, 1775 Route 10 East\, Morris Plains\, NJ\, 07950\, United States
CATEGORIES:Ride
END:VEVENT
BEGIN:VEVENT
DTSTART;TZID=America/New_York:20180901T120000
DTEND;TZID=America/New_York:20180901T150000
DTSTAMP:20260424T142031
CREATED:20180727T114239Z
LAST-MODIFIED:20180820T011257Z
UID:1786-1535803200-1535814000@www.gardenstatehogchapter.com
SUMMARY:Chapter Ride to Un-named\, Cursed\, Brew Pub in Long Valley
DESCRIPTION:Head Road Captain David Austin will be leading a ride Saturday September 1st\, returning to the scene of our end of season dinner last Fall. By naming this cursed brew pub in Long Valley brings rain and cancellation\, so let’s heed our past experiences. \nKickstands up at Noon. Non-members are welcome to join for the ride\, by signing a release.
URL:https://www.gardenstatehogchapter.com/welcome/event/chapter-ride-to-un-named-brew-pub-in-long-valley/
LOCATION:Long Valley Brew Pub\, 1 Fairmont Road\, Long Valley\, NJ\, 07853\, United States
CATEGORIES:Ride
END:VEVENT
BEGIN:VEVENT
DTSTART;TZID=America/New_York:20180826T100000
DTEND;TZID=America/New_York:20180826T150000
DTSTAMP:20260424T142031
CREATED:20180513T130047Z
LAST-MODIFIED:20180820T005427Z
UID:1721-1535277600-1535295600@www.gardenstatehogchapter.com
SUMMARY:Chapter Gun Run to Hawthorne Gun Club\, Hawthorne\, NJ
DESCRIPTION:Road Captain Joe Gennarelli will lead a ride to Hawthorne Gun Club. Riders will depart from Garden State H-D at 10AM.
URL:https://www.gardenstatehogchapter.com/welcome/event/chapter-gun-run-to-hawthorne-gun-club-hawthorne-nj/
LOCATION:Hawthorne Gun Club\, 296 Wagaraw Rd\, Hawthorne\, New Jersey\, 07506
CATEGORIES:Ride
END:VEVENT
BEGIN:VEVENT
DTSTART;TZID=America/New_York:20180825T110000
DTEND;TZID=America/New_York:20180825T143000
DTSTAMP:20260424T142031
CREATED:20180610T180452Z
LAST-MODIFIED:20180820T004553Z
UID:1742-1535194800-1535207400@www.gardenstatehogchapter.com
SUMMARY:Chapter Ride to Marley's Gotham Grill
DESCRIPTION:Head Road Captain David Austin will lead Chapter members on a ride August 25th\, winding up in Hackettstown at Marley’s Gotham Grill. The ride departs Garden State H-D at 11AM.
URL:https://www.gardenstatehogchapter.com/welcome/event/marleys-gotham-grill/
LOCATION:Marley’s Gotham Grill\, 169 Main Street\, Hackettstown\, NJ\, 07840\, United States
CATEGORIES:Ride
END:VEVENT
BEGIN:VEVENT
DTSTART;TZID=America/New_York:20180818T120000
DTEND;TZID=America/New_York:20180818T163000
DTSTAMP:20260424T142031
CREATED:20180513T131008Z
LAST-MODIFIED:20180818T025815Z
UID:1724-1534593600-1534609800@www.gardenstatehogchapter.com
SUMMARY:Cancelled - Chapter Ride to Hudson Valley Ribfest
DESCRIPTION:Sadly this ride has been cancelled due to weather.
URL:https://www.gardenstatehogchapter.com/welcome/event/chapter-ride-to-hudson-valley-ribfest/
LOCATION:Ulster County Fairgrounds\, 249 Libertyville Rd\, New Paltz\, New York\, 12561
CATEGORIES:Ride
END:VEVENT
BEGIN:VEVENT
DTSTART;TZID=America/New_York:20180721T120000
DTEND;TZID=America/New_York:20180721T153000
DTSTAMP:20260424T142031
CREATED:20180513T125007Z
LAST-MODIFIED:20180717T022252Z
UID:1719-1532174400-1532187000@www.gardenstatehogchapter.com
SUMMARY:Chapter Ride to El Bandido
DESCRIPTION:After our Chapter Meeting\, Karen Austin will be leading a Chapter Ride to El Bandido in Middletown NY.   Riders will depart from Garden State H-D at Noon.
URL:https://www.gardenstatehogchapter.com/welcome/event/chapter-ride-to-eat-bbq/
LOCATION:El Bandido\, 536 E. Main Street\, Middletown\, NY\, 10940\, United States
CATEGORIES:Ride
END:VEVENT
BEGIN:VEVENT
DTSTART;TZID=America/New_York:20180714T090000
DTEND;TZID=America/New_York:20180714T133000
DTSTAMP:20260424T142031
CREATED:20180512T153523Z
LAST-MODIFIED:20180709T113236Z
UID:1658-1531558800-1531575000@www.gardenstatehogchapter.com
SUMMARY:Ride For Autism - Celebrate The Children Ride
DESCRIPTION:Route Details for the Celebrate the Children Ride:\nCelebrate the Children 7/14/18 Leaving from:\n Garden State Harley-Davidson\, 1775 Rt. 10E. Morris Plains NJ 07950\n1 hr. 45 min. 57 miles.\nMorris Plains; Randolph; Roxbury; Mt. Arlington; Hopatcong Borough; Jefferson; West Milford; Kinnelon; Boonton Twp; Denville. \nExit back of Dealership\nL onto Candlewood Dr.\nR onto Prospect Ave.\nL onto Tabor Rd. to Light\nL onto Tabor Rd./53\nR onto Littleton Rd./202\nR onto Franklin Pl.\nR onto Mountain Way\nL onto Grannis Ave. Becomes Old Dover Rd.\nBear L onto Union Hill Rd. Becomes Casterline Rd. Becomes Openaki Rd.\nL onto Mountainside Dr.\nL onto Everdale Rd.\nL onto Millbrook Ave.\nR onto Sussex Tpke.\nL onto Calais Rd. Cross Dover-Chester Rd. Becomes Pleasant Hill Rd.\nR onto Park Ave\nL onto Righter Rd.\nR onto Hillside Ave. Cross Rt. 10\n L onto Main St.\nR onto Commerce Blvd. Cross Rt. 46. Becomes Howard Blvd./615\nBecomes Espanong Rd./615. Becomes Weldon Rd.\nR onto Dover-Milton Rd.\nL onto Milton Rd.\nL onto Berkshire Valley Rd./699. Becomes Oak Ridge Rd./699\nR onto Rt. 23 S\nR onto Kinnelon Rd./618. Becomes Powerville Rd./618\nR onto Rockaway Valley Rd. Becomes Diamond Spring Rd./603\nL onto E Main St./53. Becomes Tabor Rd./53.  Go under Rt. 10 to Light\nL onto Tabor Rd.\nR onto Prospect Ave.\nL onto Candlewood Dr.\nR into back of Dealership.
URL:https://www.gardenstatehogchapter.com/welcome/event/ride-for-autism-celebrate-the-children-ride/
LOCATION:Garden State Harley-Davidson\, 1775 Route 10 East\, Morris Plains\, NJ\, 07950\, United States
CATEGORIES:Ride
END:VEVENT
BEGIN:VEVENT
DTSTART;TZID=America/New_York:20180707T113000
DTEND;TZID=America/New_York:20180707T133000
DTSTAMP:20260424T142031
CREATED:20180513T124355Z
LAST-MODIFIED:20180704T211446Z
UID:1716-1530963000-1530970200@www.gardenstatehogchapter.com
SUMMARY:Chapter Ride to Kinchley's Tavern\, Ramsey NJ and Ernie's Ice Creaam\, Mahwah\, NJ
DESCRIPTION:Road Captain Joe Gennarelli will lead a ride to Kinchley’s Tavern in Ramsey\, NJ\, followed by Ernie’s Ice Cream in Mahwah.  Riders will depart Garden State H-D at 11:30AM.  http://erniesicecream.wixsite.com/ernies
URL:https://www.gardenstatehogchapter.com/welcome/event/chapter-ride-to-kinchleys-tavern-ramsey-nj/
LOCATION:Kinchley’s Tavern\, 586 Franklin Turnpike\, Ramsey\, New Jersey\, 07446
CATEGORIES:Ride
END:VEVENT
BEGIN:VEVENT
DTSTART;TZID=America/New_York:20180701T090000
DTEND;TZID=America/New_York:20180701T133000
DTSTAMP:20260424T142031
CREATED:20180513T123725Z
LAST-MODIFIED:20180513T123725Z
UID:1714-1530435600-1530451800@www.gardenstatehogchapter.com
SUMMARY:Chapter Freedom Ride
DESCRIPTION:Head Road Captain David Austin leads a Freedom Ride.  Riders will depart Garden State H-D at 9AM.
URL:https://www.gardenstatehogchapter.com/welcome/event/chapter-freedom-ride/
LOCATION:Garden State Harley-Davidson\, 1775 Route 10 East\, Morris Plains\, NJ\, 07950\, United States
CATEGORIES:Ride
END:VEVENT
BEGIN:VEVENT
DTSTART;TZID=America/New_York:20180630T090000
DTEND;TZID=America/New_York:20180630T133000
DTSTAMP:20260424T142031
CREATED:20180331T095841Z
LAST-MODIFIED:20180331T095841Z
UID:1602-1530349200-1530365400@www.gardenstatehogchapter.com
SUMMARY:Sgt. George Orth Motorcycle Run
DESCRIPTION:
URL:https://www.gardenstatehogchapter.com/welcome/event/sgt-george-orth-motorcycle-run/
LOCATION:Garden State Harley-Davidson\, 1775 Route 10 East\, Morris Plains\, NJ\, 07950\, United States
CATEGORIES:Ride
END:VEVENT
BEGIN:VEVENT
DTSTART;TZID=America/New_York:20180624T130000
DTEND;TZID=America/New_York:20180624T163000
DTSTAMP:20260424T142031
CREATED:20180610T131852Z
LAST-MODIFIED:20180610T131852Z
UID:1739-1529845200-1529857800@www.gardenstatehogchapter.com
SUMMARY:Smokey's Brick Oven Tavern Chapter Ride
DESCRIPTION:Road Captain Karen Austin will lead Chapter riders on a journey to Smokey’s Brick Oven Tavern in Vernon\, NJ.  Riders will depart at 1PM from Garden State H-D.
URL:https://www.gardenstatehogchapter.com/welcome/event/smokeys-brick-oven-tavern-chapter-ride/
LOCATION:Smokey’s Brick Oven Tavern\, 2 Vernon Crossing Rd.\, Sussex\, NJ\, 07462\, United States
CATEGORIES:Ride
END:VEVENT
BEGIN:VEVENT
DTSTART;TZID=America/New_York:20180616T120000
DTEND;TZID=America/New_York:20180616T160000
DTSTAMP:20260424T142031
CREATED:20180512T181859Z
LAST-MODIFIED:20180612T014409Z
UID:1667-1529150400-1529164800@www.gardenstatehogchapter.com
SUMMARY:Chapter Ride to Billy Joe's Ribworks\, Newburgh NY
DESCRIPTION:Head Road Captain David Austin will lead a ride to Billy Joe’s Ribworks.  Riders will depart Garden State H-D at Noon.
URL:https://www.gardenstatehogchapter.com/welcome/event/chapter-ride-to-occ-billy-joes-ribworks-newburgh-ny/
LOCATION:Billy Joe’s Ribworks\, 26 Front St.\, Newburgh\, New York\, 12550
CATEGORIES:Ride
END:VEVENT
BEGIN:VEVENT
DTSTART;TZID=America/New_York:20180610T130000
DTEND;TZID=America/New_York:20180610T153000
DTSTAMP:20260424T142031
CREATED:20180512T181008Z
LAST-MODIFIED:20180610T132322Z
UID:1664-1528635600-1528644600@www.gardenstatehogchapter.com
SUMMARY:Chapter Ride to Smokey's Brick Oven Tavern - Cancelled due to weather
DESCRIPTION:Head Road Captain Karen Austin will lead a ride to Smokey’s Brick Oven Tavern in Sussex\, NJ.  The ride will depart Garden State H-D at 1PM.
URL:https://www.gardenstatehogchapter.com/welcome/event/chapter-ride-to-the-log-cabin-bar-grill-columbia-nj/
LOCATION:Smokey’s Brick Oven Tavern\, 2 Vernon Crossing Rd.\, Sussex\, NJ\, 07462\, United States
CATEGORIES:Ride
END:VEVENT
BEGIN:VEVENT
DTSTART;TZID=America/New_York:20180609T120000
DTEND;TZID=America/New_York:20180609T143000
DTSTAMP:20260424T142031
CREATED:20180512T180241Z
LAST-MODIFIED:20180512T180241Z
UID:1661-1528545600-1528554600@www.gardenstatehogchapter.com
SUMMARY:Chapter Ride to Stonewood Tavern\, Byram NJ
DESCRIPTION:Road Captain Mike Mania will be leading Chapter riders to Stonewood Tavern in Byram Township\, NJ.  The ride will depart from Garden State H-D at Noon.
URL:https://www.gardenstatehogchapter.com/welcome/event/chapter-ride-to-stonewood-tavern-byram-nj/
LOCATION:Stonewood Tavern\, 239 US-206\, Byram Township\, New Jersey\, 07821
CATEGORIES:Ride
END:VEVENT
BEGIN:VEVENT
DTSTART;TZID=America/New_York:20180526T110000
DTEND;TZID=America/New_York:20180526T140000
DTSTAMP:20260424T142031
CREATED:20180512T145338Z
LAST-MODIFIED:20180512T145338Z
UID:1656-1527332400-1527343200@www.gardenstatehogchapter.com
SUMMARY:Chapter Ride - Mystery Ride
DESCRIPTION:Road Captain Russ Hall will lead a ride to ???  Chapter members are invited to meet at the Garden State H-D Dealership.  Kickstands up at 11AM.
URL:https://www.gardenstatehogchapter.com/welcome/event/chapter-ride-mystery-ride/
LOCATION:New York
CATEGORIES:Ride
END:VEVENT
BEGIN:VEVENT
DTSTART;TZID=America/New_York:20180520T110000
DTEND;TZID=America/New_York:20180520T133000
DTSTAMP:20260424T142031
CREATED:20180512T144722Z
LAST-MODIFIED:20180512T144955Z
UID:1652-1526814000-1526823000@www.gardenstatehogchapter.com
SUMMARY:Chapter Ride to Galasso's Pizzeria Inc. French Town NJ
DESCRIPTION:Road Captain John Romeo will lead a ride to Galasso’s Pizzeria Inc. in French Town NJ.  Chapter members are invited to meet at the Garden State H-D Dealership.  Kickstands up at 11AM.
URL:https://www.gardenstatehogchapter.com/welcome/event/chapter-ride-to-galassos-pizzeria-inc-french-town-nj/
LOCATION:Galasso’s Pizzeria\, 48 Bridge St.\, Frenchtown\, New Jersey\, 08825
CATEGORIES:Ride
END:VEVENT
BEGIN:VEVENT
DTSTART;TZID=America/New_York:20180519T120000
DTEND;TZID=America/New_York:20180519T143000
DTSTAMP:20260424T142031
CREATED:20180512T143429Z
LAST-MODIFIED:20180512T143745Z
UID:1647-1526731200-1526740200@www.gardenstatehogchapter.com
SUMMARY:Chapter Ride to Shannon Rose Irish Pub\, Ramsey NJ
DESCRIPTION:Road Captain Karen Austin will lead a ride to Shannon Rose Irish Pub in Ramsey\, NJ.  Chapter members are invited to meet at the Garden State H-D Dealership.  Kickstands up at Noon.
URL:https://www.gardenstatehogchapter.com/welcome/event/chapter-ride-to-shannon-rose-irish-pub-ramsey-nj/
LOCATION:Shannon Rose Irish Pub\, 1200 NJ-17\, Ramsey\, NJ\, 07446\, United States
CATEGORIES:Ride
END:VEVENT
BEGIN:VEVENT
DTSTART;TZID=America/New_York:20171028T110000
DTEND;TZID=America/New_York:20171028T140000
DTSTAMP:20260424T142031
CREATED:20170908T020716Z
LAST-MODIFIED:20170908T020716Z
UID:1032-1509188400-1509199200@www.gardenstatehogchapter.com
SUMMARY:Sopranos Ride
DESCRIPTION:Join Road Captain Joe Gennarelli for a ride to Holsten’s located at 1063 Broad St\, Bloomfield\, NJ 07003. \nMap \n  \nThis is a closed membership ride. Guests are welcome\, but they will need to complete a rider release form obtained from the assigned road captain.
URL:https://www.gardenstatehogchapter.com/welcome/event/sopranos-ride-2/
LOCATION:Garden State Harley-Davidson\, 1775 Route 10 East\, Morris Plains\, NJ\, 07950\, United States
CATEGORIES:Ride
END:VEVENT
BEGIN:VEVENT
DTSTART;TZID=America/New_York:20171014T090000
DTEND;TZID=America/New_York:20171014T110000
DTSTAMP:20260424T142031
CREATED:20170708T041255Z
LAST-MODIFIED:20170908T020012Z
UID:840-1507971600-1507978800@www.gardenstatehogchapter.com
SUMMARY:Cracker Barrel Breakfast
DESCRIPTION:Road Captain Mike Mania will be leading a ride to Cracker Barrel in Mt. Arlington NJ. After the ride members can ride back to the dealership for the Open House. \n  \nThis is a closed membership ride\, guests must sign a ride release form obtained from the road captain.
URL:https://www.gardenstatehogchapter.com/welcome/event/cracker-barrel-breakfast/
LOCATION:Garden State Harley-Davidson\, 1775 Route 10 East\, Morris Plains\, NJ\, 07950\, United States
CATEGORIES:Ride
END:VEVENT
BEGIN:VEVENT
DTSTART;TZID=America/New_York:20171007T110000
DTEND;TZID=America/New_York:20171007T140000
DTSTAMP:20260424T142031
CREATED:20170908T015727Z
LAST-MODIFIED:20170908T015727Z
UID:1025-1507374000-1507384800@www.gardenstatehogchapter.com
SUMMARY:Irish Cottage Inn
DESCRIPTION:Road Captain Russ Hall will be leading a ride to the Irish Cottage Inn at 602 NJ-23\, Franklin\, NJ 07416. The ride will leave at 11:am. \nhttp://www.irishcottageinn.net/indexs.php \n  \nThis is a closed member ride\, guests are welcome but will have to sign a rider release form. The assigned road captain will have the form.
URL:https://www.gardenstatehogchapter.com/welcome/event/irish-cottage-inn/
LOCATION:Garden State Harley-Davidson\, 1775 Route 10 East\, Morris Plains\, NJ\, 07950\, United States
CATEGORIES:Ride
END:VEVENT
BEGIN:VEVENT
DTSTART;TZID=America/New_York:20170930T090000
DTEND;TZID=America/New_York:20170930T150000
DTSTAMP:20260424T142031
CREATED:20170813T135938Z
LAST-MODIFIED:20170813T135938Z
UID:868-1506762000-1506783600@www.gardenstatehogchapter.com
SUMMARY:Eric C Blohm RIde
DESCRIPTION: \n \n 
URL:https://www.gardenstatehogchapter.com/welcome/event/eric-c-blohm-ride/
LOCATION:Garden State Harley-Davidson\, 1775 Route 10 East\, Morris Plains\, NJ\, 07950\, United States
CATEGORIES:Ride
END:VEVENT
BEGIN:VEVENT
DTSTART;TZID=America/New_York:20170916T113000
DTEND;TZID=America/New_York:20170916T150000
DTSTAMP:20260424T142031
CREATED:20160906T130429Z
LAST-MODIFIED:20170830T231330Z
UID:479-1505561400-1505574000@www.gardenstatehogchapter.com
SUMMARY:Motorcylepedia Ride
DESCRIPTION:Join Head Road Captain David Austin to Motorcyclepedia located at 250 Lake St\, Newburgh\, NY 12550 then lunch at  Billy Joe’s Ribworks. \nWebsite \nMap
URL:https://www.gardenstatehogchapter.com/welcome/event/motorcylopedia-ride/
LOCATION:Garden State Harley-Davidson\, 1775 Route 10 East\, Morris Plains\, NJ\, 07950\, United States
CATEGORIES:Ride
END:VEVENT
BEGIN:VEVENT
DTSTART;TZID=America/New_York:20170909T110000
DTEND;TZID=America/New_York:20170909T143000
DTSTAMP:20260424T142031
CREATED:20170908T021639Z
LAST-MODIFIED:20170908T024733Z
UID:1034-1504954800-1504967400@www.gardenstatehogchapter.com
SUMMARY:Smokey's Tavern
DESCRIPTION:Head Road Captain David Austin will be leading a ride to Smokey’s Tavern located at 2 Vernon Crossing Rd\, Vernon Township\, NJ 07462. \nhttp://smokeystavern.com/ \nThis is a closed member ride. Guests are welcome\, but will need to complete a rider waiver form obtained from the road captain.
URL:https://www.gardenstatehogchapter.com/welcome/event/smokeys-tavern/
LOCATION:Garden State Harley-Davidson\, 1775 Route 10 East\, Morris Plains\, NJ\, 07950\, United States
CATEGORIES:Ride
END:VEVENT
BEGIN:VEVENT
DTSTART;TZID=America/New_York:20170902T113000
DTEND;TZID=America/New_York:20170902T150000
DTSTAMP:20260424T142031
CREATED:20170901T132154Z
LAST-MODIFIED:20170901T132154Z
UID:893-1504351800-1504364400@www.gardenstatehogchapter.com
SUMMARY:Shannon Rose Irish Pub
DESCRIPTION:Head Road Captain\, David Austin\, will be leading a ride to Shannon Rose Irish Pub\, 1200 NJ-17\, Ramsey NJ 07446. Kickstands up 11:30AM. For those who would like to drive\, We will be arriving at the restaurant around 12:30PM. Their menu can be viewed at \nHome \n \n  \nThis is a closed membership ride. Guests may attend but they will have to complete a rider release form obtained from the road captain.
URL:https://www.gardenstatehogchapter.com/welcome/event/shannon-rose-irish-pub/
LOCATION:Garden State Harley-Davidson\, 1775 Route 10 East\, Morris Plains\, NJ\, 07950\, United States
CATEGORIES:Ride
END:VEVENT
END:VCALENDAR