BEGIN:VCALENDAR
VERSION:2.0
PRODID:-//Garden State Hog Chapter - ECPv6.15.17.1//NONSGML v1.0//EN
CALSCALE:GREGORIAN
METHOD:PUBLISH
X-WR-CALNAME:Garden State Hog Chapter
X-ORIGINAL-URL:https://www.gardenstatehogchapter.com/welcome
X-WR-CALDESC:Events for Garden State Hog Chapter
REFRESH-INTERVAL;VALUE=DURATION:PT1H
X-Robots-Tag:noindex
X-PUBLISHED-TTL:PT1H
BEGIN:VTIMEZONE
TZID:America/New_York
BEGIN:DAYLIGHT
TZOFFSETFROM:-0500
TZOFFSETTO:-0400
TZNAME:EDT
DTSTART:20170312T070000
END:DAYLIGHT
BEGIN:STANDARD
TZOFFSETFROM:-0400
TZOFFSETTO:-0500
TZNAME:EST
DTSTART:20171105T060000
END:STANDARD
BEGIN:DAYLIGHT
TZOFFSETFROM:-0500
TZOFFSETTO:-0400
TZNAME:EDT
DTSTART:20180311T070000
END:DAYLIGHT
BEGIN:STANDARD
TZOFFSETFROM:-0400
TZOFFSETTO:-0500
TZNAME:EST
DTSTART:20181104T060000
END:STANDARD
BEGIN:DAYLIGHT
TZOFFSETFROM:-0500
TZOFFSETTO:-0400
TZNAME:EDT
DTSTART:20190310T070000
END:DAYLIGHT
BEGIN:STANDARD
TZOFFSETFROM:-0400
TZOFFSETTO:-0500
TZNAME:EST
DTSTART:20191103T060000
END:STANDARD
BEGIN:DAYLIGHT
TZOFFSETFROM:-0500
TZOFFSETTO:-0400
TZNAME:EDT
DTSTART:20200308T070000
END:DAYLIGHT
BEGIN:STANDARD
TZOFFSETFROM:-0400
TZOFFSETTO:-0500
TZNAME:EST
DTSTART:20201101T060000
END:STANDARD
END:VTIMEZONE
BEGIN:VEVENT
DTSTART;TZID=America/New_York:20190824T103000
DTEND;TZID=America/New_York:20190824T140000
DTSTAMP:20260424T120041
CREATED:20190728T131947Z
LAST-MODIFIED:20190819T113552Z
UID:2166-1566642600-1566655200@www.gardenstatehogchapter.com
SUMMARY:Chapter Ride to Fresco Mexican\, Chester
DESCRIPTION:Road Captain John Romeo will lead a ride to Fresco Mexican in Chester\, NJ\, taking the long way there.  Riders will depart the Dealership at 10:30\, and guests are welcome to join if they sign a waiver.
URL:https://www.gardenstatehogchapter.com/welcome/event/chapter-ride-destination-tbd/
LOCATION:Fresco Mexican\, 137 E\, 2581\, Main St.\, Chester\, NJ\, 07930
CATEGORIES:Ride
END:VEVENT
BEGIN:VEVENT
DTSTART;TZID=America/New_York:20190817T120000
DTEND;TZID=America/New_York:20190817T170000
DTSTAMP:20260424T120041
CREATED:20190616T134838Z
LAST-MODIFIED:20190616T134838Z
UID:2135-1566043200-1566061200@www.gardenstatehogchapter.com
SUMMARY:Hudson Valley Ribfest Chapter Ride
DESCRIPTION:Head Road Captain David Austin will lead a ride to the Hudson Valley Ribfest located at the Ulster County Fairgrounds.  Riders will depart the Dealership at Noon.  Guests are welcome\, however required to sign a waiver.
URL:https://www.gardenstatehogchapter.com/welcome/event/hudson-valley-ribfest-chapter-ride/
LOCATION:Ulster County Fairgrounds\, 249 Libertyville Rd\, New Paltz\, New York\, 12561
CATEGORIES:Ride
END:VEVENT
BEGIN:VEVENT
DTSTART;TZID=America/New_York:20190810T090000
DTEND;TZID=America/New_York:20190810T140000
DTSTAMP:20260424T120041
CREATED:20190605T013522Z
LAST-MODIFIED:20190605T013522Z
UID:2110-1565427600-1565445600@www.gardenstatehogchapter.com
SUMMARY:Sgt. Peter Kamper Special Olympics Ride
DESCRIPTION:Benefit ride in the honor of Sgt. Peter Kamper\, to benefit Special Olympics.  Pre-register at Eventbrite.com\, or at Garden State H-D starting at 9AM.  Ride departs at 11AM.  Food and music upon return.  Riders $20\, Passengers $15\, Non-Riders $10.  First 50 riders to register receive a free t-shirt.
URL:https://www.gardenstatehogchapter.com/welcome/event/sgt-peter-kamper-special-olympics-ride/
LOCATION:Garden State Harley-Davidson\, 1775 Route 10 East\, Morris Plains\, NJ\, 07950\, United States
CATEGORIES:Ride
ATTACH;FMTTYPE=image/jpeg:https://www.gardenstatehogchapter.com/wp-content/uploads/2019/06/2019-Peter-Kamper.jpg
END:VEVENT
BEGIN:VEVENT
DTSTART;TZID=America/New_York:20190803T110000
DTEND;TZID=America/New_York:20190803T150000
DTSTAMP:20260424T120041
CREATED:20190725T005209Z
LAST-MODIFIED:20190725T005209Z
UID:2163-1564830000-1564844400@www.gardenstatehogchapter.com
SUMMARY:Pennings Farm Market Chapter Ride
DESCRIPTION:Road Captain Joe Gennarelli will lead riders up to Pennings Farm Market near Warwick\, NY.  The ride leaves the Dealership at 11AM\, and guests are welcome if they sign a waiver.  
URL:https://www.gardenstatehogchapter.com/welcome/event/pennings-farm-market-chapter-ride/
LOCATION:Chapter Ride – Pennings Farm Market\, 161 State Route 94 South\, Warwick\, NY\, 10990
CATEGORIES:Ride
END:VEVENT
BEGIN:VEVENT
DTSTART;TZID=America/New_York:20190727T110000
DTEND;TZID=America/New_York:20190727T143000
DTSTAMP:20260424T120041
CREATED:20190725T003505Z
LAST-MODIFIED:20190725T003505Z
UID:2160-1564225200-1564237800@www.gardenstatehogchapter.com
SUMMARY:Stoney Brook Grille Chapter Ride
DESCRIPTION:Head Road Captain David Austin leads Chapter members on a ride down to Branchburg to visit Stoney Brook Grille.  Departure time from the Dealership is 11AM\, and guests are welcome to join if they sign a waiver.
URL:https://www.gardenstatehogchapter.com/welcome/event/stoney-brook-grille-chapter-ride/
LOCATION:Stoney Brook Grille\, 1285 Rt. 28\, Branchburg\, NJ\, 08876
CATEGORIES:Ride
END:VEVENT
BEGIN:VEVENT
DTSTART;TZID=America/New_York:20190714T103000
DTEND;TZID=America/New_York:20190714T150000
DTSTAMP:20260424T120041
CREATED:20190605T223539Z
LAST-MODIFIED:20190616T135252Z
UID:2119-1563100200-1563116400@www.gardenstatehogchapter.com
SUMMARY:Chapter Ride\, Gun Range and Lunch Outing
DESCRIPTION:Road Captain Joe Gennarelli will lead a ride on July 14th to Hawthorne Gun Range\, followed by lunch.  Further details tbd.  Riders will meet at Garden State H-D.
URL:https://www.gardenstatehogchapter.com/welcome/event/chapter-ride-gun-range-and-lunch-outing/
LOCATION:Hawthorne Gun Club\, 296 Wagaraw Rd\, Hawthorne\, New Jersey\, 07506
CATEGORIES:Ride
END:VEVENT
BEGIN:VEVENT
DTSTART;TZID=America/New_York:20190706T120000
DTEND;TZID=America/New_York:20190706T150000
DTSTAMP:20260424T120041
CREATED:20190605T223857Z
LAST-MODIFIED:20190627T011216Z
UID:2121-1562414400-1562425200@www.gardenstatehogchapter.com
SUMMARY:Chapter Ride to Smokey's Brick Oven Tavern - Vernon\, NJ
DESCRIPTION:Road Captain Karen Austin will lead a ride to Smokey’s Brick Oven Tavern in Vernon\, NJ.  Riders will meet at Garden State H-D and depart at Noon.  Guests are welcome\, however will be required to sign a waiver.
URL:https://www.gardenstatehogchapter.com/welcome/event/chapter-ride-to-smokeys-brick-oven-tavern-vernon-nj/
LOCATION:Smokey’s Brick Oven Tavern\, 2 Vernon Crossing Rd.\, Sussex\, NJ\, 07462\, United States
CATEGORIES:Ride
END:VEVENT
BEGIN:VEVENT
DTSTART;TZID=America/New_York:20190629T110000
DTEND;TZID=America/New_York:20190629T150000
DTSTAMP:20260424T120041
CREATED:20190604T020049Z
LAST-MODIFIED:20190604T020049Z
UID:2107-1561806000-1561820400@www.gardenstatehogchapter.com
SUMMARY:Chapter Ride to Publick House
DESCRIPTION:Road Captain Russell Breuninger will lead a ride to The Publick House in Chester\, NJ on June 29.  Riders will depart from Garden State H-D at 11AM.  Guests are welcome\, but will be required to sign a waiver.
URL:https://www.gardenstatehogchapter.com/welcome/event/chapter-ride-to-publick-house/
LOCATION:The Publick House\, 111 Main Street\, Chester\, New Jersey\, 07930
CATEGORIES:Ride
END:VEVENT
BEGIN:VEVENT
DTSTART;TZID=America/New_York:20190623T093000
DTEND;TZID=America/New_York:20190623T133000
DTSTAMP:20260424T120041
CREATED:20190616T133546Z
LAST-MODIFIED:20190616T133546Z
UID:2133-1561282200-1561296600@www.gardenstatehogchapter.com
SUMMARY:Long Valley Brew Pub Chapter Ride
DESCRIPTION:Road Captain Patrick Hansen will lead a ride to Long Valley Brew Pub on June 23rd\, departing the Dealership at 9:30.  Guests are welcome to join\, but will be required to sign a waiver.
URL:https://www.gardenstatehogchapter.com/welcome/event/long-valley-brew-pub-chapter-ride/
LOCATION:Long Valley Brew Pub\, 1 Fairmont Road\, Long Valley\, NJ\, 07853\, United States
CATEGORIES:Ride
END:VEVENT
BEGIN:VEVENT
DTSTART;TZID=America/New_York:20190615T120000
DTEND;TZID=America/New_York:20190615T163000
DTSTAMP:20260424T120041
CREATED:20190418T233806Z
LAST-MODIFIED:20190418T233806Z
UID:2060-1560600000-1560616200@www.gardenstatehogchapter.com
SUMMARY:Chapter Ride to Billy Joe's Ribworks in Newburgh\, NY
DESCRIPTION:Chapter members are invited to join Head Road Captain David Austin on a scenic ride to Billy Joe’s Ribworks in Newburgh\, NY.  The ride will depart Garden State H-D at Noon.  This is a closed Chapter ride\, however guests are welcome\, but will be required to sign a waiver.  
URL:https://www.gardenstatehogchapter.com/welcome/event/chapter-ride-to-billy-joes-ribworks-in-newburgh-ny/
LOCATION:Billy Joe’s Ribworks\, 26 Front St.\, Newburgh\, New York\, 12550
CATEGORIES:Ride
END:VEVENT
BEGIN:VEVENT
DTSTART;TZID=America/New_York:20190608T103000
DTEND;TZID=America/New_York:20190608T143000
DTSTAMP:20260424T120041
CREATED:20190509T133358Z
LAST-MODIFIED:20190604T020219Z
UID:2090-1559989800-1560004200@www.gardenstatehogchapter.com
SUMMARY:Chapter Ride to Clinton\, NJ - Riley & Jake's
DESCRIPTION:Saturday June 8th Road Captain MaryAlice Breuninger will lead a ride to Riley & Jake’s in Clinton\, NJ.  Riders will depart Garden State H-D at 10:30AM.  Guests are welcome\, however will be required to sign a waiver.
URL:https://www.gardenstatehogchapter.com/welcome/event/chapter-ride-details-under-construction/
LOCATION:Riley & Jake’s\, 1831 Rt. 31\, Clinton\, NJ\, 08809
CATEGORIES:Ride
END:VEVENT
BEGIN:VEVENT
DTSTART;TZID=America/New_York:20190602T090000
DTEND;TZID=America/New_York:20190602T133000
DTSTAMP:20260424T120041
CREATED:20190524T030612Z
LAST-MODIFIED:20190529T024457Z
UID:2095-1559466000-1559482200@www.gardenstatehogchapter.com
SUMMARY:MDA "Ride For Life" Williams Charity Ride - Chapter Ride To Williams
DESCRIPTION:Garden State HOG members are invited to support the MDA by joining a charity ride at Williams H-D on June 2nd.  Road Captains Russell and Mary Alice Breuninger will lead GSHD members to Williams\, leaving Garden State at 9:15.  Registration begins at 10AM at Williams and the ride is scheduled to depart at 11AM.
URL:https://www.gardenstatehogchapter.com/welcome/event/mda-ride-for-life-williams-charity-ride-chapter-ride-to-williams/
LOCATION:Williams H-D\, 1100 US-22\, Lebanon\, NJ\, 08833\, United States
CATEGORIES:Ride
END:VEVENT
BEGIN:VEVENT
DTSTART;TZID=America/New_York:20190601T120000
DTEND;TZID=America/New_York:20190601T153000
DTSTAMP:20260424T120041
CREATED:20190509T005253Z
LAST-MODIFIED:20190509T005253Z
UID:2076-1559390400-1559403000@www.gardenstatehogchapter.com
SUMMARY:Lambertville Station Chapter Ride
DESCRIPTION:Chapter members are invited to join Road Captain John Romeo on a scenic ride to Lambertville Station in Lambertville\, NJ.  The ride will depart Garden State H-D at Noon.  This is a closed Chapter ride\, however guests are welcome\, but will be required to sign a waiver.  
URL:https://www.gardenstatehogchapter.com/welcome/event/lambertville-station-chapter-ride/
LOCATION:Lambertville Station\, 11 Bridge Street\, Lambertville\, New Jersey\, 08530
CATEGORIES:Ride
END:VEVENT
BEGIN:VEVENT
DTSTART;TZID=America/New_York:20190518T090000
DTEND;TZID=America/New_York:20190518T140000
DTSTAMP:20260424T120041
CREATED:20190112T011136Z
LAST-MODIFIED:20190112T011559Z
UID:1925-1558170000-1558188000@www.gardenstatehogchapter.com
SUMMARY:Celebrate the Children 2019
DESCRIPTION:
URL:https://www.gardenstatehogchapter.com/welcome/event/1925/
LOCATION:Garden State Harley-Davidson\, 1775 Route 10 East\, Morris Plains\, NJ\, 07950\, United States
CATEGORIES:Ride
END:VEVENT
BEGIN:VEVENT
DTSTART;TZID=America/New_York:20190511T100000
DTEND;TZID=America/New_York:20190511T133000
DTSTAMP:20260424T120041
CREATED:20190509T004333Z
LAST-MODIFIED:20190509T004333Z
UID:2073-1557568800-1557581400@www.gardenstatehogchapter.com
SUMMARY:Irish Cottage Inn Chapter Ride
DESCRIPTION:Chapter members are invited to join Road Captain Russ Hall on a scenic ride to Irish Cottage Inn in Franklin\, NJ.  The ride will depart Garden State H-D at 10AM.  This is a closed Chapter ride\, however guests are welcome\, but will be required to sign a waiver.  
URL:https://www.gardenstatehogchapter.com/welcome/event/irish-cottage-inn-chapter-ride/
LOCATION:Irish Cottage Inn\, 602 Route 23\, Franklin\, New Jersey\, 07416
CATEGORIES:Ride
END:VEVENT
BEGIN:VEVENT
DTSTART;TZID=America/New_York:20190505T101500
DTEND;TZID=America/New_York:20190505T153000
DTSTAMP:20260424T120041
CREATED:20190418T232422Z
LAST-MODIFIED:20190505T003332Z
UID:2056-1557051300-1557070200@www.gardenstatehogchapter.com
SUMMARY:CANCELLED - Chapter Ride to Cold Spring\, NY
DESCRIPTION:RAINED OUT!!  Chapter members are invited to join Road Captain Keith Ward on a scenic ride Cold Spring Depot\, in Cold Spring\, NY (the restaurant is so good they named the town after it).  The ride will depart Garden State H-D at 10:15AM.  This is a closed Chapter ride\, however guests are welcome\, but will be required to sign a waiver.  
URL:https://www.gardenstatehogchapter.com/welcome/event/chapter-ride-to-cold-springs-ny/
LOCATION:Cold Springs Depot\, 1 Depot Square\, Cold Spring\, NY 10516\, Cold Spring\, New York\, 10516
CATEGORIES:Ride
END:VEVENT
BEGIN:VEVENT
DTSTART;TZID=America/New_York:20190504T120000
DTEND;TZID=America/New_York:20190504T150000
DTSTAMP:20260424T120041
CREATED:20190418T232216Z
LAST-MODIFIED:20190502T222915Z
UID:2054-1556971200-1556982000@www.gardenstatehogchapter.com
SUMMARY:May The Fourth Be With Us - Chapter Ride to Kinchley's Tavern in Ramsey\, NJ
DESCRIPTION:Chapter members are invited to join Road Captain Joe Gennarelli on an epic ride to Kinchley’s Tavern in Ramsey\, NJ.  The ride will depart Garden State H-D at Noon.  This is a closed Chapter ride\, however guests are welcome\, but will be required to sign a waiver.  
URL:https://www.gardenstatehogchapter.com/welcome/event/may-the-fourth-be-with-us-chapter-ride-to-kinchleys-tavern-in-ramsey-nj/
LOCATION:Kinchley’s Tavern\, 586 Franklin Turnpike\, Ramsey\, New Jersey\, 07446
CATEGORIES:Ride
END:VEVENT
BEGIN:VEVENT
DTSTART;TZID=America/New_York:20190428T130000
DTEND;TZID=America/New_York:20190428T153000
DTSTAMP:20260424T120041
CREATED:20190418T231407Z
LAST-MODIFIED:20190428T150526Z
UID:2052-1556456400-1556465400@www.gardenstatehogchapter.com
SUMMARY:CANCELLED - Chapter Ride to Publick House in Chester\, NJ
DESCRIPTION:Rain Cancellation – Chapter members are invited to join Road Captain John Romeo on a scenic ride to Publick House in Chester\, NJ.  The ride will depart Garden State H-D at 1PM.  This is a closed Chapter ride\, however guests are welcome\, but will be required to sign a waiver.  
URL:https://www.gardenstatehogchapter.com/welcome/event/chapter-ride-to-publick-house-in-chester-nj/
LOCATION:The Publick House\, 111 Main Street\, Chester\, New Jersey\, 07930
CATEGORIES:Ride
END:VEVENT
BEGIN:VEVENT
DTSTART;TZID=America/New_York:20190420T103000
DTEND;TZID=America/New_York:20190420T123000
DTSTAMP:20260424T120041
CREATED:20190217T152455Z
LAST-MODIFIED:20190420T113058Z
UID:1976-1555756200-1555763400@www.gardenstatehogchapter.com
SUMMARY:GSHOG Ride Cancelled - Bike Blessing at Williams H-D
DESCRIPTION:Williams H-D Open House event is rain or shine\, however the Chapter Ride there following the Meeting is cancelled.
URL:https://www.gardenstatehogchapter.com/welcome/event/bike-blessing-at-williams-h-d/
LOCATION:Williams H-D\, 1100 US-22\, Lebanon\, NJ\, 08833\, United States
CATEGORIES:Ride
END:VEVENT
BEGIN:VEVENT
DTSTART;TZID=America/New_York:20181020T100000
DTEND;TZID=America/New_York:20181020T133000
DTSTAMP:20260424T120041
CREATED:20180115T183808Z
LAST-MODIFIED:20180920T223125Z
UID:1495-1540029600-1540042200@www.gardenstatehogchapter.com
SUMMARY:Mallory's Army Ride
DESCRIPTION:  \n 
URL:https://www.gardenstatehogchapter.com/welcome/event/mallorys-army-ride/
LOCATION:Garden State Harley-Davidson\, 1775 Route 10 East\, Morris Plains\, NJ\, 07950\, United States
CATEGORIES:Ride
END:VEVENT
BEGIN:VEVENT
DTSTART;TZID=America/New_York:20181013T090000
DTEND;TZID=America/New_York:20181013T140000
DTSTAMP:20260424T120041
CREATED:20180610T183430Z
LAST-MODIFIED:20180920T223324Z
UID:1753-1539421200-1539439200@www.gardenstatehogchapter.com
SUMMARY:Pigs in the Park - Morris County Parks Police Ride
DESCRIPTION:Morris County Park Police PBA 264 is bringing back the famous “Pigs In The Park Motorcyle Rally”.\nPre-registration will begin April 1st\, 2018 at 7:00am on this website and will include a t-shirt for Pre-registration only. For those who would like to attend but did not pre-register\, you can register the day of the event at Garden State Harley. Registration will begin on October 13\, 2018 at 9:00 a.m. with kickstands up at 11:00 a.m. The ride will conclude at Lewis Morris County Park in Morris Township. The rain date will be October 14\, 2018 with the same time schedule. Tee-Shirts can also be purchased at the EVENT!!!
URL:https://www.gardenstatehogchapter.com/welcome/event/pigs-in-the-park-morris-county-parks-police-ride/
LOCATION:Garden State Harley-Davidson\, 1775 Route 10 East\, Morris Plains\, NJ\, 07950\, United States
CATEGORIES:Ride
END:VEVENT
BEGIN:VEVENT
DTSTART;TZID=America/New_York:20181006T103000
DTEND;TZID=America/New_York:20181006T143000
DTSTAMP:20260424T120041
CREATED:20180929T101736Z
LAST-MODIFIED:20181004T022731Z
UID:1851-1538821800-1538836200@www.gardenstatehogchapter.com
SUMMARY:Fall Foliage Chapter Run
DESCRIPTION:Road Captain Russ Hall will lead a ride to the Black Dirt region of New York on Saturday October 6th.  Riders will depart the Dealership at 10:30.  Lunch spot will be Smokey Joe’s Tavern in Vernon\, NJ.  Enjoy!
URL:https://www.gardenstatehogchapter.com/welcome/event/chapter-ride-to-north-jersey-motorcycle-skills-competition/
LOCATION:Smokey’s Brick Oven Tavern\, 2 Vernon Crossing Rd.\, Sussex\, NJ\, 07462\, United States
CATEGORIES:Ride
END:VEVENT
BEGIN:VEVENT
DTSTART;TZID=America/New_York:20180929T090000
DTEND;TZID=America/New_York:20180929T160000
DTSTAMP:20260424T120041
CREATED:20180610T182914Z
LAST-MODIFIED:20180920T223520Z
UID:1751-1538211600-1538236800@www.gardenstatehogchapter.com
SUMMARY:Eric Blohm Foundation Ride
DESCRIPTION:3rd annual Eric C. Blohm Foundation Ride.  Link to pre-register below.
URL:https://www.gardenstatehogchapter.com/welcome/event/eric-blohm-foundation-ride/
LOCATION:Garden State Harley-Davidson\, 1775 Route 10 East\, Morris Plains\, NJ\, 07950\, United States
CATEGORIES:Ride
END:VEVENT
BEGIN:VEVENT
DTSTART;TZID=America/New_York:20180923T100000
DTEND;TZID=America/New_York:20180923T180000
DTSTAMP:20260424T120041
CREATED:20180513T131608Z
LAST-MODIFIED:20180920T223626Z
UID:1727-1537696800-1537725600@www.gardenstatehogchapter.com
SUMMARY:Forever Friends Ride
DESCRIPTION:The Chapter will gather at Garden State H-D before departing at 10AM for Skylands Stadium\, which is where the Forever Friends ride registration and ride launch is taking place. Registration ends at Noon\, and the ride is from 12:30 to 2PM. The event is expected to complete at 6PM. Cost is $25 per person.
URL:https://www.gardenstatehogchapter.com/welcome/event/forever-friends-ride/
LOCATION:Garden State Harley-Davidson\, 1775 Route 10 East\, Morris Plains\, NJ\, 07950\, United States
CATEGORIES:Ride
END:VEVENT
BEGIN:VEVENT
DTSTART;TZID=America/New_York:20180922T120000
DTEND;TZID=America/New_York:20180922T150000
DTSTAMP:20260424T120041
CREATED:20180920T025153Z
LAST-MODIFIED:20180920T025154Z
UID:1830-1537617600-1537628400@www.gardenstatehogchapter.com
SUMMARY:Chapter Ride - Shannon Rose
DESCRIPTION:Chapter ride to the Shannon Rose Irish Pub.  Head Road Captain David Austin will lead riders following our General Chapter meeting on Saturday September 22.  Kickstands up at Noon!
URL:https://www.gardenstatehogchapter.com/welcome/event/chapter-ride-shannon-rose/
LOCATION:Shannon Rose Irish Pub\, 1200 NJ-17\, Ramsey\, NJ\, 07446\, United States
CATEGORIES:Ride
END:VEVENT
BEGIN:VEVENT
DTSTART;TZID=America/New_York:20180916T100000
DTEND;TZID=America/New_York:20180916T150000
DTSTAMP:20260424T120041
CREATED:20180916T012641Z
LAST-MODIFIED:20180916T013303Z
UID:1826-1537092000-1537110000@www.gardenstatehogchapter.com
SUMMARY:Chapter Ride to The Lackawaxen Inn
DESCRIPTION:Road Captain Keith Ward will lead a ride to The Lackawaxen Inn on Sunday September 16th.  Kickstands up at 10AM.
URL:https://www.gardenstatehogchapter.com/welcome/event/chapter-ride-to-the-lackawaxen-inn/
LOCATION:The Lackawaxen Inn\, 188 Scenic Drive\, Lackawaxen\, PA\, 18435
CATEGORIES:Ride
END:VEVENT
BEGIN:VEVENT
DTSTART;TZID=America/New_York:20180915T090000
DTEND;TZID=America/New_York:20180915T160000
DTSTAMP:20260424T120041
CREATED:20180331T210902Z
LAST-MODIFIED:20180905T154917Z
UID:1612-1537002000-1537027200@www.gardenstatehogchapter.com
SUMMARY:Sgt. Peter J. Kamper Memorial Ride
DESCRIPTION:  \n  \nPeter J. Kamper\, Jr. Memorial Ride Route    \nRide Date: 09/15/18. Route approx. 55 miles.  Ride time approx. 2 hrs. \nStarting and ending at Garden State Harley-Davidson\, 1775 State Route 10\, Morris Plains NJ  \n  \nPolice Departments: Morris Plains; Parsippany-Troy Hills; Denville; Rockaway Boro; West Milford; Ringwood; Wanaque; Pompton Lakes; Wayne; Riverdale; Hanover Township \n  \nExit rear of Dealership \nL onto Candlewood Dr. \nR onto Prospect Ave \nL onto Tabor Rd. to light \nR onto Tabor Rd./53 into Denville \nBear L onto W. Main St. \nStraight onto 46 W \nBear R onto Rt 80 W \nTake exit 37 to light \nL onto Green Pond Rd./513 to end \nR onto Rt 23 S          \nL onto Echo Lake Rd. to end \nL onto Macopin Rd \nR onto Westbrook Rd. to end \nR onto Ringwood Ave./511 \nL onto Wanaque Ave. \nL onto Lenox Ave. \nL onto Ramapo Ave. \nR onto Lakeside Ave. to end \nR onto Terhune Dr./202 \nR onto Hamburg Tpke. \nL onto 287 S \nR onto Rt 10 W \nR onto Tabor Rd. to light \nL onto Tabor Rd./53 to light \nL onto Tabor Rd. \nR onto Prospect Ave \nL onto Candlewood Dr.  \nR into rear of Dealership
URL:https://www.gardenstatehogchapter.com/welcome/event/sgt-peter-j-kamper-memorial-ride/
LOCATION:Garden State Harley-Davidson\, 1775 Route 10 East\, Morris Plains\, NJ\, 07950\, United States
CATEGORIES:Ride
END:VEVENT
BEGIN:VEVENT
DTSTART;TZID=America/New_York:20180901T120000
DTEND;TZID=America/New_York:20180901T150000
DTSTAMP:20260424T120041
CREATED:20180727T114239Z
LAST-MODIFIED:20180820T011257Z
UID:1786-1535803200-1535814000@www.gardenstatehogchapter.com
SUMMARY:Chapter Ride to Un-named\, Cursed\, Brew Pub in Long Valley
DESCRIPTION:Head Road Captain David Austin will be leading a ride Saturday September 1st\, returning to the scene of our end of season dinner last Fall. By naming this cursed brew pub in Long Valley brings rain and cancellation\, so let’s heed our past experiences. \nKickstands up at Noon. Non-members are welcome to join for the ride\, by signing a release.
URL:https://www.gardenstatehogchapter.com/welcome/event/chapter-ride-to-un-named-brew-pub-in-long-valley/
LOCATION:Long Valley Brew Pub\, 1 Fairmont Road\, Long Valley\, NJ\, 07853\, United States
CATEGORIES:Ride
END:VEVENT
BEGIN:VEVENT
DTSTART;TZID=America/New_York:20180826T100000
DTEND;TZID=America/New_York:20180826T150000
DTSTAMP:20260424T120041
CREATED:20180513T130047Z
LAST-MODIFIED:20180820T005427Z
UID:1721-1535277600-1535295600@www.gardenstatehogchapter.com
SUMMARY:Chapter Gun Run to Hawthorne Gun Club\, Hawthorne\, NJ
DESCRIPTION:Road Captain Joe Gennarelli will lead a ride to Hawthorne Gun Club. Riders will depart from Garden State H-D at 10AM.
URL:https://www.gardenstatehogchapter.com/welcome/event/chapter-gun-run-to-hawthorne-gun-club-hawthorne-nj/
LOCATION:Hawthorne Gun Club\, 296 Wagaraw Rd\, Hawthorne\, New Jersey\, 07506
CATEGORIES:Ride
END:VEVENT
BEGIN:VEVENT
DTSTART;TZID=America/New_York:20180825T110000
DTEND;TZID=America/New_York:20180825T143000
DTSTAMP:20260424T120041
CREATED:20180610T180452Z
LAST-MODIFIED:20180820T004553Z
UID:1742-1535194800-1535207400@www.gardenstatehogchapter.com
SUMMARY:Chapter Ride to Marley's Gotham Grill
DESCRIPTION:Head Road Captain David Austin will lead Chapter members on a ride August 25th\, winding up in Hackettstown at Marley’s Gotham Grill. The ride departs Garden State H-D at 11AM.
URL:https://www.gardenstatehogchapter.com/welcome/event/marleys-gotham-grill/
LOCATION:Marley’s Gotham Grill\, 169 Main Street\, Hackettstown\, NJ\, 07840\, United States
CATEGORIES:Ride
END:VEVENT
END:VCALENDAR