BEGIN:VCALENDAR
VERSION:2.0
PRODID:-//Garden State Hog Chapter - ECPv6.15.17.1//NONSGML v1.0//EN
CALSCALE:GREGORIAN
METHOD:PUBLISH
X-ORIGINAL-URL:https://www.gardenstatehogchapter.com/welcome
X-WR-CALDESC:Events for Garden State Hog Chapter
REFRESH-INTERVAL;VALUE=DURATION:PT1H
X-Robots-Tag:noindex
X-PUBLISHED-TTL:PT1H
BEGIN:VTIMEZONE
TZID:America/New_York
BEGIN:DAYLIGHT
TZOFFSETFROM:-0500
TZOFFSETTO:-0400
TZNAME:EDT
DTSTART:20190310T070000
END:DAYLIGHT
BEGIN:STANDARD
TZOFFSETFROM:-0400
TZOFFSETTO:-0500
TZNAME:EST
DTSTART:20191103T060000
END:STANDARD
BEGIN:DAYLIGHT
TZOFFSETFROM:-0500
TZOFFSETTO:-0400
TZNAME:EDT
DTSTART:20200308T070000
END:DAYLIGHT
BEGIN:STANDARD
TZOFFSETFROM:-0400
TZOFFSETTO:-0500
TZNAME:EST
DTSTART:20201101T060000
END:STANDARD
BEGIN:DAYLIGHT
TZOFFSETFROM:-0500
TZOFFSETTO:-0400
TZNAME:EDT
DTSTART:20210314T070000
END:DAYLIGHT
BEGIN:STANDARD
TZOFFSETFROM:-0400
TZOFFSETTO:-0500
TZNAME:EST
DTSTART:20211107T060000
END:STANDARD
BEGIN:DAYLIGHT
TZOFFSETFROM:-0500
TZOFFSETTO:-0400
TZNAME:EDT
DTSTART:20220313T070000
END:DAYLIGHT
BEGIN:STANDARD
TZOFFSETFROM:-0400
TZOFFSETTO:-0500
TZNAME:EST
DTSTART:20221106T060000
END:STANDARD
BEGIN:DAYLIGHT
TZOFFSETFROM:-0500
TZOFFSETTO:-0400
TZNAME:EDT
DTSTART:20230312T070000
END:DAYLIGHT
BEGIN:STANDARD
TZOFFSETFROM:-0400
TZOFFSETTO:-0500
TZNAME:EST
DTSTART:20231105T060000
END:STANDARD
END:VTIMEZONE
BEGIN:VEVENT
DTSTART;TZID=America/New_York:20220416T110000
DTEND;TZID=America/New_York:20220416T143000
DTSTAMP:20260424T070839
CREATED:20220409T153202Z
LAST-MODIFIED:20220409T153202Z
UID:2706-1650106800-1650119400@www.gardenstatehogchapter.com
SUMMARY:Chapter Ride to OMG Burger & Brew
DESCRIPTION:Road Captain Patrick Hansen will lead a ride to OMG Burger & Brew in Long Valley\, NJ.  Kickstands up at 11:00 AM.  Guests are welcome to join if they sign a waiver.
URL:https://www.gardenstatehogchapter.com/welcome/event/chapter-ride-to-omg-burger-brew/
LOCATION:OMG Burger & Brew\, 141 Schooleys Mountain Road\, Long Valley\, NJ\, 07853
CATEGORIES:Ride
END:VEVENT
BEGIN:VEVENT
DTSTART;TZID=America/New_York:20220410T093000
DTEND;TZID=America/New_York:20220410T133000
DTSTAMP:20260424T070839
CREATED:20220410T114732Z
LAST-MODIFIED:20220410T114732Z
UID:2712-1649583000-1649597400@www.gardenstatehogchapter.com
SUMMARY:Chapter Ride - Williams H-D Spring Open House
DESCRIPTION:Director Russell Breuninger will lead a ride to Williams H-D to support their Spring Open House.  Guests are welcome if they sign a waiver.
URL:https://www.gardenstatehogchapter.com/welcome/event/chapter-ride-williams-h-d-spring-open-house/
LOCATION:Williams H-D\, 1100 US-22\, Lebanon\, NJ\, 08833\, United States
CATEGORIES:Dealership Event,Ride
END:VEVENT
BEGIN:VEVENT
DTSTART;TZID=America/New_York:20211111T103000
DTEND;TZID=America/New_York:20211111T133000
DTSTAMP:20260424T070839
CREATED:20211009T154416Z
LAST-MODIFIED:20211106T212405Z
UID:2635-1636626600-1636637400@www.gardenstatehogchapter.com
SUMMARY:Veteran's Day Chapter Ride
DESCRIPTION:Herb Olbrich will be leading a ride to the All Veteran’s Memorial at Turkey Brook Park in Budd Lake.  Chapter members and guests who sign a waiver will depart the Dealership at 10:30.  Riders will head to OMG Burger for lunch.
URL:https://www.gardenstatehogchapter.com/welcome/event/veterans-day-chapter-ride/
LOCATION:Northern NJ Veteran’s Memorial Cemetary\, 75 North Church Road\, Sparta\, NJ\, 07871
CATEGORIES:Ride
END:VEVENT
BEGIN:VEVENT
DTSTART;TZID=America/New_York:20211106T113000
DTEND;TZID=America/New_York:20211106T150000
DTSTAMP:20260424T070839
CREATED:20211103T001041Z
LAST-MODIFIED:20211103T001041Z
UID:2648-1636198200-1636210800@www.gardenstatehogchapter.com
SUMMARY:Chapter Ride to Pub 199
DESCRIPTION:Road Captain Patrick Hansen leads the way to Pub 199 in Mt. Arlington\, NJ this Saturday.  Riders\, and guests who sign a waiver\, will depart the Dealership at 11:30.  Please note that Pub 199 is a cash only joint\, however there is an ATM on site.
URL:https://www.gardenstatehogchapter.com/welcome/event/chapter-ride-to-pub-199/
LOCATION:Pub 199\, 199 Howard Boulevard\, Mt. Arlington\, NJ\, 07856
CATEGORIES:Ride
END:VEVENT
BEGIN:VEVENT
DTSTART;TZID=America/New_York:20211030T110000
DTEND;TZID=America/New_York:20211030T150000
DTSTAMP:20260424T070839
CREATED:20211009T153459Z
LAST-MODIFIED:20211029T011402Z
UID:2633-1635591600-1635606000@www.gardenstatehogchapter.com
SUMMARY:CANCELLED - Halloween Chapter Ride
DESCRIPTION:Weather cancellation!!!!!    \nBarbara Gould will be leading a ride along some haunted NJ routes on October 30th.  Chapter members and guests who sign a waiver will depart the Dealership at 11:00
URL:https://www.gardenstatehogchapter.com/welcome/event/halloween-chapter-ride/
LOCATION:NJ
CATEGORIES:Ride
END:VEVENT
BEGIN:VEVENT
DTSTART;TZID=America/New_York:20211024T093000
DTEND;TZID=America/New_York:20211024T150000
DTSTAMP:20260424T070839
CREATED:20210718T132112Z
LAST-MODIFIED:20211009T152715Z
UID:2575-1635067800-1635087600@www.gardenstatehogchapter.com
SUMMARY:Forever Friends Ride to the Ride
DESCRIPTION:Garden State HOG will be supporting the Forever Friends motorcycle awareness ride.  Chapter members will meet at the Dealership for a ride to the ride.
URL:https://www.gardenstatehogchapter.com/welcome/event/forever-friends-ride-to-the-ride/
LOCATION:Sussex County Fairgrounds\, 37 Plains Road\, Augusta\, NJ\, 07822
CATEGORIES:Ride
END:VEVENT
BEGIN:VEVENT
DTSTART;TZID=America/New_York:20211023T110000
DTEND;TZID=America/New_York:20211023T143000
DTSTAMP:20260424T070839
CREATED:20211009T153237Z
LAST-MODIFIED:20211009T153237Z
UID:2631-1634986800-1634999400@www.gardenstatehogchapter.com
SUMMARY:Chapter Ride to Cahoot's
DESCRIPTION:Doug Ryan leads a ride to Cahoot’s in Middlesex\, NJ.  Chapter members and guests who sign a waiver will depart the Dealership at 11AM.
URL:https://www.gardenstatehogchapter.com/welcome/event/chapter-ride-to-cahoots/
LOCATION:Cahoots\, 624 Lincoln Blvd\, Middlesex\, NJ\, 08846
CATEGORIES:Ride
END:VEVENT
BEGIN:VEVENT
DTSTART;TZID=America/New_York:20211016T110000
DTEND;TZID=America/New_York:20211016T150000
DTSTAMP:20260424T070839
CREATED:20211006T004932Z
LAST-MODIFIED:20211006T004932Z
UID:2629-1634382000-1634396400@www.gardenstatehogchapter.com
SUMMARY:Chapter Ride - Billy Joe's Ribworks
DESCRIPTION:Join a very nice ride up the Hudson to Billy Joe’s Ribworks in Newburgh\, NY.  Riders will leave the Dealership at 11AM.  Guests are welcome if they sign a waiver.
URL:https://www.gardenstatehogchapter.com/welcome/event/chapter-ride-billy-joes-ribworks/
LOCATION:Billy Joe’s Ribworks\, 26 Front St.\, Newburgh\, New York\, 12550
CATEGORIES:Ride
END:VEVENT
BEGIN:VEVENT
DTSTART;TZID=America/New_York:20211009T110000
DTEND;TZID=America/New_York:20211009T143000
DTSTAMP:20260424T070839
CREATED:20211006T003959Z
LAST-MODIFIED:20211006T003959Z
UID:2624-1633777200-1633789800@www.gardenstatehogchapter.com
SUMMARY:Chapter Ride - Destination TBD
DESCRIPTION:Chapter members and guests are invited to join a ride Saturday October 9th at 11AM\, leaving the Dealership.  Guests will need to sign a waiver.  
URL:https://www.gardenstatehogchapter.com/welcome/event/chapter-ride-destination-tbd-2/
LOCATION:Garden State Harley-Davidson\, 1775 Route 10 East\, Morris Plains\, NJ\, 07950\, United States
CATEGORIES:Ride
END:VEVENT
BEGIN:VEVENT
DTSTART;TZID=America/New_York:20210911T103000
DTEND;TZID=America/New_York:20210911T143000
DTSTAMP:20260424T070839
CREATED:20210905T014459Z
LAST-MODIFIED:20210905T014459Z
UID:2608-1631356200-1631370600@www.gardenstatehogchapter.com
SUMMARY:9/11 Remembrance Ride
DESCRIPTION:In remembrance of 9/11\, Road Captain Joe Gennarelli will lead a ride on Saturday September 11 to the 9/11 Memorial in Franklin Lakes. Lunch stop will be at Kinchley’s Tavern for pizza in Ramsey.  Kickstands up at 10:30\, leaving the Dealership.
URL:https://www.gardenstatehogchapter.com/welcome/event/9-11-remembrance-ride/
LOCATION:Kinchley’s Tavern\, 586 Franklin Turnpike\, Ramsey\, New Jersey\, 07446
CATEGORIES:Ride
END:VEVENT
BEGIN:VEVENT
DTSTART;TZID=America/New_York:20210826T183000
DTEND;TZID=America/New_York:20210826T193000
DTSTAMP:20260424T070839
CREATED:20210813T003252Z
LAST-MODIFIED:20210813T012920Z
UID:2587-1630002600-1630006200@www.gardenstatehogchapter.com
SUMMARY:Ice Cream Challenge Ride - Taylor's in Chester
DESCRIPTION:The Chapter Ice Cream Challenge makes its way to Chester\, NJ to help folks earn their patch.  Ride departs the Dealership\, and should be a direct route.
URL:https://www.gardenstatehogchapter.com/welcome/event/ice-cream-challenge-taylors-in-chester/
LOCATION:Taylor’s Ice Cream Parlor\, 18 Main Street\, Chester\, NJ\, 07930
CATEGORIES:Ride
END:VEVENT
BEGIN:VEVENT
DTSTART;TZID=America/New_York:20210824T183000
DTEND;TZID=America/New_York:20210824T193000
DTSTAMP:20260424T070839
CREATED:20210813T004826Z
LAST-MODIFIED:20210818T014438Z
UID:2593-1629829800-1629833400@www.gardenstatehogchapter.com
SUMMARY:Ice Cream Challenge Ride - Zita's Homemade
DESCRIPTION:Join the Chapter on a quick evening run to Zita’s in New Providence\, NJ.  The ride leaves the Dealership at 6:30PM and will head directly to ice cream to help folks earn their patch.
URL:https://www.gardenstatehogchapter.com/welcome/event/ice-cream-challenge-ride-zitas-homemade/
LOCATION:Zita’s Homemade Ice Cream\, 1790 Springfield Avenue\, New Providence\, NJ\, 07974
CATEGORIES:Ride
END:VEVENT
BEGIN:VEVENT
DTSTART;TZID=America/New_York:20210822T133000
DTEND;TZID=America/New_York:20210822T150000
DTSTAMP:20260424T070839
CREATED:20210813T004050Z
LAST-MODIFIED:20210813T004050Z
UID:2590-1629639000-1629644400@www.gardenstatehogchapter.com
SUMMARY:Ice Cream Challenge Ride - Home Plate Dairy
DESCRIPTION:The Chapter Ice Cream Challenge makes its way to Stewartsville\, NJ to help folks earn their patch.  Ride departs the Dealership at 1:30.
URL:https://www.gardenstatehogchapter.com/welcome/event/ice-cream-challenge-ride-home-plate-dairy/
LOCATION:Home Plate Dairy\, 2664 State Route 57\, Stewartsville\, NJ\, 08886
CATEGORIES:Ride
END:VEVENT
BEGIN:VEVENT
DTSTART;TZID=America/New_York:20210821T103000
DTEND;TZID=America/New_York:20210821T153000
DTSTAMP:20260424T070839
CREATED:20210813T013440Z
LAST-MODIFIED:20210813T013440Z
UID:2600-1629541800-1629559800@www.gardenstatehogchapter.com
SUMMARY:Chapter Ride - Buck Hill Brewery
DESCRIPTION:Road Captain Barbara Gould leads a ride out west to Buck Hill Brewery in Blairstown\, NJ.  Chapter members and guests who sign waivers will depart from the Dealership at 10:30 following the Chapter Meeting.
URL:https://www.gardenstatehogchapter.com/welcome/event/chapter-ride-buck-hill-brewery/
LOCATION:Buck Hill Brewery\, 45 State Route 94\, Blairstown\, NJ\, 07825
CATEGORIES:Ride
END:VEVENT
BEGIN:VEVENT
DTSTART;TZID=America/New_York:20210807T100000
DTEND;TZID=America/New_York:20210807T153000
DTSTAMP:20260424T070839
CREATED:20210501T110900Z
LAST-MODIFIED:20210707T001218Z
UID:2478-1628330400-1628350200@www.gardenstatehogchapter.com
SUMMARY:Chapter Ride to Apple Valley Restaurant\, Milford PA
DESCRIPTION:Road Captain Russ Hall leads a ride up to Milford\, PA and Apple Valley Restaurant.  Riders will meet at the Dealership\, departing at 10AM.  Guests are welcome with a signed waiver.
URL:https://www.gardenstatehogchapter.com/welcome/event/chapter-ride-to-apple-valley-restaurant-milford-pa/
LOCATION:Apple Valley Restaurant\, 104 Rt. 6\, Milford\, PA\, 18337
CATEGORIES:Ride
END:VEVENT
BEGIN:VEVENT
DTSTART;TZID=America/New_York:20210801T100000
DTEND;TZID=America/New_York:20210801T150000
DTSTAMP:20260424T070839
CREATED:20210707T002840Z
LAST-MODIFIED:20210712T204755Z
UID:2543-1627812000-1627830000@www.gardenstatehogchapter.com
SUMMARY:Members Only Target Shooting Ride
DESCRIPTION:Joe G. will lead a ride to the Hawthorne Gun Club\, which is approximately 30 miles and will take about 40 minutes.  It will be a mix of highway and secondary roads.\n“This is a bring your own event.  The range does not sell ammunition.  There are 15 covered ports and targets are set at 25 yards.  They will supply targets and there is some eye and ear protection available but if you have your own please bring it. It is mandatory.  Magnum cartridges are not allowed.  There will be be a $5.00 guest fee.  This is a fraction of the cost of a public range.  There will be several certified instructors\, including me\, who will be available to assist with new or newer shooters.  Lunch will be at the Fair Lawn Promenade and choices will be Anthony’s Coal fired pizza and wings or Habit Burger.  There is also a Mexican restaurant on site.”
URL:https://www.gardenstatehogchapter.com/welcome/event/members-only-ride/
LOCATION:Hawthorne Gun Club\, 296 Wagaraw Rd\, Hawthorne\, New Jersey\, 07506
CATEGORIES:Ride
END:VEVENT
BEGIN:VEVENT
DTSTART;TZID=America/New_York:20210725T130000
DTEND;TZID=America/New_York:20210725T143000
DTSTAMP:20260424T070839
CREATED:20210707T000937Z
LAST-MODIFIED:20210708T020839Z
UID:2538-1627218000-1627223400@www.gardenstatehogchapter.com
SUMMARY:Chapter Ride to Jimmy's Ice Cream\, Milford\, NJ
DESCRIPTION:Join us on an ice cream run to Jimmy’s in Milford\, NJ.  Riders will meet at the Dealership\, departing at 1PM.  Guests are welcome with a signed waiver.  Road Captain will be Director Russell.
URL:https://www.gardenstatehogchapter.com/welcome/event/chapter-ride-to-jimmys-ice-cream-milford-nj/
LOCATION:Jimmy’s Ice Cream\, 525 Milford Warren Glen Rd\, Milford\, NJ\, 08848
CATEGORIES:Ride
END:VEVENT
BEGIN:VEVENT
DTSTART;TZID=America/New_York:20210717T110000
DTEND;TZID=America/New_York:20210717T150000
DTSTAMP:20260424T070839
CREATED:20210707T000208Z
LAST-MODIFIED:20210708T021119Z
UID:2535-1626519600-1626534000@www.gardenstatehogchapter.com
SUMMARY:Scenic Ride with Picnic Lunch Stop and Gabriel’s Fountain Kitchen & Creamery
DESCRIPTION:We’ll be brown bagging it on a scenic ride around Morris and Somerset Counties\, winding our way to Gabriel’s Fountain Kitchen & Creamery in Martinsville\, NJ.  Riders will meet at the Dealership\, departing at 11AM.  Road Captain is Herb Olbrich.  Guests are welcome with a signed waiver.
URL:https://www.gardenstatehogchapter.com/welcome/event/scenic-ride-with-picnic-lunch-stop-and-gabriels-fountain-kitchen-creamery/
LOCATION:Gabriels Fountain\, 1948 Washington Valley Rd\, Martinsville\, NJ\, 08836
CATEGORIES:Ride
END:VEVENT
BEGIN:VEVENT
DTSTART;TZID=America/New_York:20210710T100000
DTEND;TZID=America/New_York:20210710T143000
DTSTAMP:20260424T070839
CREATED:20210501T102553Z
LAST-MODIFIED:20210529T104347Z
UID:2472-1625911200-1625927400@www.gardenstatehogchapter.com
SUMMARY:Chapter Ride to Pennings Farm\, Warwick NY
DESCRIPTION:Road Captain Joe Gennarelli will lead a ride to Pennings Farm in Warwick\, NY.  Guests are welcome with a signed waiver.  Kickstands up at 10AM.
URL:https://www.gardenstatehogchapter.com/welcome/event/chapter-ride-to-pennings-farm-warwick-ny/
LOCATION:Chapter Ride – Pennings Farm Market\, 161 State Route 94 South\, Warwick\, NY\, 10990
CATEGORIES:Ride
END:VEVENT
BEGIN:VEVENT
DTSTART;TZID=America/New_York:20210620T130000
DTEND;TZID=America/New_York:20210620T143000
DTSTAMP:20260424T070839
CREATED:20210616T003036Z
LAST-MODIFIED:20210616T003036Z
UID:2524-1624194000-1624199400@www.gardenstatehogchapter.com
SUMMARY:Father's Day Ice Cream Ride
DESCRIPTION:Head Road Captain MaryAlice will lead a group on a trip for ice cream.  Riders to meet at GSHD and departure promptly at 1:00.
URL:https://www.gardenstatehogchapter.com/welcome/event/fathers-day-ice-cream-ride/
LOCATION:NJ
CATEGORIES:Ride
END:VEVENT
BEGIN:VEVENT
DTSTART;TZID=America/New_York:20210619T110000
DTEND;TZID=America/New_York:20210619T150000
DTSTAMP:20260424T070839
CREATED:20210501T112150Z
LAST-MODIFIED:20210501T112150Z
UID:2480-1624100400-1624114800@www.gardenstatehogchapter.com
SUMMARY:Chapter Ride to Chimney Rock Inn\, Flemington\, NJ
DESCRIPTION:Road Captain Doug Ryan will lead a ride to Chimney Rock Inn in Flemington\, NJ.  The ride departs Garden State H-D at 11AM.  Guests are welcome with a signed waiver.
URL:https://www.gardenstatehogchapter.com/welcome/event/chapter-ride-to-chimney-rock-inn-flemington-nj/
LOCATION:Chimney Rock Inn\, 41 State Route 31\, Flemington\, NJ\, 08822
CATEGORIES:Ride
END:VEVENT
BEGIN:VEVENT
DTSTART;TZID=America/New_York:20210605T103000
DTEND;TZID=America/New_York:20210605T150000
DTSTAMP:20260424T070839
CREATED:20210529T103215Z
LAST-MODIFIED:20210603T003328Z
UID:2505-1622889000-1622905200@www.gardenstatehogchapter.com
SUMMARY:Chapter Ride to Alaska Pete's
DESCRIPTION:Donald Lannigan will lead the Chapter Ride to Alaska Pete’s in the Poconos.  Rider’s will meet at the Dealership and kickstands up at 10:30AM.  Guests are welcome if they sign a waiver.
URL:https://www.gardenstatehogchapter.com/welcome/event/chapter-ride-to-alaska-petes/
LOCATION:Alaska Pete’s\, 151 Seven Bridge Road\, Marshalls Creek\, PA\, 18335
CATEGORIES:Ride
END:VEVENT
BEGIN:VEVENT
DTSTART;TZID=America/New_York:20210531T100000
DTEND;TZID=America/New_York:20210531T130000
DTSTAMP:20260424T070839
CREATED:20210515T004946Z
LAST-MODIFIED:20210515T004946Z
UID:2497-1622455200-1622466000@www.gardenstatehogchapter.com
SUMMARY:Memorial Day Ride to Brigadier General William C. Doyle Memorial Cemetery
DESCRIPTION:Please join the NJ Rescue Riders on Memorial Day\, Monday May 31st in honoring and mourning the military personnel who have died in the performance of their military duties while serving in the United States Armed Forces.\nWe will be riding to the Brigadier William C General Memorial Cemetery to pay our respects and to give thanks for our freedom!\nThere is no cost for this ride.\nThere will be two rally locations.\n#1 Quick Check\n2 Parsippany Rd\,\nWhippany\, NJ 07981\nWe will leave this location at 10am to meet with riders at the 2nd rally location.\n#2 TGIF Restaurant\n395 US-202\nSomerset Shopping Center\nBridgewater Township\, NJ 08807\nWe will leave this location at 11am\nRide time will be approximately 2 hours.
URL:https://www.gardenstatehogchapter.com/welcome/event/memorial-day-ride-to-brigadier-general-william-c-doyle-memorial-cemetery/
LOCATION:Brigadier General William C. Doyle Memorial Cemetery\, 350 Province Line Road\, Wrightstown\, NJ\, 08562
CATEGORIES:Ride
END:VEVENT
BEGIN:VEVENT
DTSTART;TZID=America/New_York:20210529T081500
DTEND;TZID=America/New_York:20210529T103000
DTSTAMP:20260424T070839
CREATED:20210516T230713Z
LAST-MODIFIED:20210526T214909Z
UID:2500-1622276100-1622284200@www.gardenstatehogchapter.com
SUMMARY:Morris Plains Memorial Day Parade
DESCRIPTION:The Chapter will be joining in on the Memorial Day parade in Morris Plains again. \nWe need to be at the staging site (corner of Mt. Way and Franklin Place Morris Plains) by 830am.  Therefore we will be leaving the dealership at 8:15am sharp.  Those who will not be riding in the procession may walk the short parade route with the Chapter.  \nDirections from the dealership – https://tinyurl.com/hbtnv8s4
URL:https://www.gardenstatehogchapter.com/welcome/event/morris-plains-memorial-day-parade-2/
LOCATION:Garden State Harley-Davidson\, 1775 Route 10 East\, Morris Plains\, NJ\, 07950\, United States
CATEGORIES:Ride
END:VEVENT
BEGIN:VEVENT
DTSTART;TZID=America/New_York:20210502T110000
DTEND;TZID=America/New_York:20210502T140000
DTSTAMP:20260424T070839
CREATED:20210425T205010Z
LAST-MODIFIED:20210425T205010Z
UID:2461-1619953200-1619964000@www.gardenstatehogchapter.com
SUMMARY:Chapter Ride to OMG Burger
DESCRIPTION:Chapter members and guests are invited to join Road Captain Patrick Hansen on a scenic ride to OMG Burger.  Kickstands up at 11AM.
URL:https://www.gardenstatehogchapter.com/welcome/event/chapter-ride-to-omg-burger/
LOCATION:OMG Burger & Brew\, 141 Schooleys Mountain Road\, Long Valley\, NJ\, 07853
CATEGORIES:Ride
END:VEVENT
BEGIN:VEVENT
DTSTART;TZID=America/New_York:20210417T113000
DTEND;TZID=America/New_York:20210417T140000
DTSTAMP:20260424T070839
CREATED:20210414T013615Z
LAST-MODIFIED:20210414T013615Z
UID:2451-1618659000-1618668000@www.gardenstatehogchapter.com
SUMMARY:Chapter Ride - Hot Dog Johnny's
DESCRIPTION:Following the April 17th General Chapter Meeting\, please join the Chapter on a scenic ride to Hot Dog Johnny’s.  Head Road Captain MaryAlice Breuninger will be leading\, with kickstands up at approximately 11:30\, assuming the T-CLOCS discussion ends on time.   \nThe good news is that lunch will be inexpensive\, however this is a cash only spot.  
URL:https://www.gardenstatehogchapter.com/welcome/event/chapter-ride-hot-dog-johnnys/
LOCATION:Hot Dog Johnny’s\, 333 Route 46\, Belvidere\, NJ\, 07823\, United States
CATEGORIES:Ride
END:VEVENT
BEGIN:VEVENT
DTSTART;TZID=America/New_York:20201018T103000
DTEND;TZID=America/New_York:20201018T133000
DTSTAMP:20260424T070839
CREATED:20201010T102621Z
LAST-MODIFIED:20201010T102621Z
UID:2375-1603017000-1603027800@www.gardenstatehogchapter.com
SUMMARY:Chapter Ride - Chimney Rock Inn\, Flemington
DESCRIPTION:Chapter members and guests are invited to join Road Captain Doug Ryan on a ride to Flemington\, NJ on Sunday October 18th.  Meet at Garden State H-D\, with kickstands up at 11AM.  The lunch plan is to stop at Chimney Rock Inn\, however riders can chose to eat there or venture elsewhere.
URL:https://www.gardenstatehogchapter.com/welcome/event/chapter-ride-chimney-rock-inn-flemington/
LOCATION:Chimney Rock Inn\, 41 State Route 31\, Flemington\, NJ\, 08822
CATEGORIES:Ride
END:VEVENT
BEGIN:VEVENT
DTSTART;TZID=America/New_York:20201010T093000
DTEND;TZID=America/New_York:20201010T150000
DTSTAMP:20260424T070839
CREATED:20201007T004227Z
LAST-MODIFIED:20201007T004227Z
UID:2365-1602322200-1602342000@www.gardenstatehogchapter.com
SUMMARY:Ride for Responders Motorcycle Run
DESCRIPTION:
URL:https://www.gardenstatehogchapter.com/welcome/event/ride-for-responders-motorcycle-run/
LOCATION:Prospect Park FD\, 106 Brown Ave\, Prospect Park\, NJ\, 07508\, United States
CATEGORIES:Ride
END:VEVENT
BEGIN:VEVENT
DTSTART;TZID=America/New_York:20201004T103000
DTEND;TZID=America/New_York:20201004T163000
DTSTAMP:20260424T070839
CREATED:20200911T004027Z
LAST-MODIFIED:20201001T002837Z
UID:2345-1601807400-1601829000@www.gardenstatehogchapter.com
SUMMARY:Forever Friends Motorcycle Awareness Charity Bike Run
DESCRIPTION:
URL:https://www.gardenstatehogchapter.com/welcome/event/forever-friends-motorcycle-awareness-charity-bike-run/
LOCATION:Skylands Stadium\, 94 Championship Drive\, Augusta\, NJ
CATEGORIES:Ride
END:VEVENT
BEGIN:VEVENT
DTSTART;TZID=America/New_York:20200722T080000
DTEND;TZID=America/New_York:20200725T170000
DTSTAMP:20260424T070839
CREATED:20200105T172245Z
LAST-MODIFIED:20200531T211838Z
UID:2289-1595404800-1595696400@www.gardenstatehogchapter.com
SUMMARY:Americade Chapter Ride
DESCRIPTION:Garden State HOG trip to Americade in Lake George\, NY
URL:https://www.gardenstatehogchapter.com/welcome/event/americade-chapter-ride/
LOCATION:Lake George\, NJ\, Lake George\, NY
CATEGORIES:Ride
END:VEVENT
END:VCALENDAR