BEGIN:VCALENDAR
VERSION:2.0
PRODID:-//Garden State Hog Chapter - ECPv6.15.17.1//NONSGML v1.0//EN
CALSCALE:GREGORIAN
METHOD:PUBLISH
X-WR-CALNAME:Garden State Hog Chapter
X-ORIGINAL-URL:https://www.gardenstatehogchapter.com/welcome
X-WR-CALDESC:Events for Garden State Hog Chapter
REFRESH-INTERVAL;VALUE=DURATION:PT1H
X-Robots-Tag:noindex
X-PUBLISHED-TTL:PT1H
BEGIN:VTIMEZONE
TZID:America/New_York
BEGIN:DAYLIGHT
TZOFFSETFROM:-0500
TZOFFSETTO:-0400
TZNAME:EDT
DTSTART:20210314T070000
END:DAYLIGHT
BEGIN:STANDARD
TZOFFSETFROM:-0400
TZOFFSETTO:-0500
TZNAME:EST
DTSTART:20211107T060000
END:STANDARD
BEGIN:DAYLIGHT
TZOFFSETFROM:-0500
TZOFFSETTO:-0400
TZNAME:EDT
DTSTART:20220313T070000
END:DAYLIGHT
BEGIN:STANDARD
TZOFFSETFROM:-0400
TZOFFSETTO:-0500
TZNAME:EST
DTSTART:20221106T060000
END:STANDARD
BEGIN:DAYLIGHT
TZOFFSETFROM:-0500
TZOFFSETTO:-0400
TZNAME:EDT
DTSTART:20230312T070000
END:DAYLIGHT
BEGIN:STANDARD
TZOFFSETFROM:-0400
TZOFFSETTO:-0500
TZNAME:EST
DTSTART:20231105T060000
END:STANDARD
END:VTIMEZONE
BEGIN:VEVENT
DTSTART;TZID=America/New_York:20221022T103000
DTEND;TZID=America/New_York:20221022T150000
DTSTAMP:20260424T022559
CREATED:20220913T234119Z
LAST-MODIFIED:20220913T234119Z
UID:2874-1666434600-1666450800@www.gardenstatehogchapter.com
SUMMARY:Chapter Ride - Pennings Farm Market
DESCRIPTION:Road Captain Joe Gennarelli will lead a ride back to Pennings Farm Market in Warwick\, NY.  Riders will depart the Dealership at 10:30AM\, and guests are welcome if they sign a waiver.
URL:https://www.gardenstatehogchapter.com/welcome/event/chapter-ride-pennings-farm-market/
LOCATION:Chapter Ride – Pennings Farm Market\, 161 State Route 94 South\, Warwick\, NY\, 10990
CATEGORIES:Ride
END:VEVENT
BEGIN:VEVENT
DTSTART;TZID=America/New_York:20221011T080000
DTEND;TZID=America/New_York:20221011T170000
DTSTAMP:20260424T022559
CREATED:20221012T012650Z
LAST-MODIFIED:20221012T012650Z
UID:2898-1665475200-1665507600@www.gardenstatehogchapter.com
SUMMARY:Chapter Ride - Pub 199
DESCRIPTION:Road Captain Patrick Hansen will lead a ride to Pub 199 in Mount Arlington\, NJ.  Riders will depart the Dealership at 11AM.  Guests are welcome to join if they sign a waiver.
URL:https://www.gardenstatehogchapter.com/welcome/event/chapter-ride-pub-199/
LOCATION:Pub 199\, 199 Howard Boulevard\, Mt. Arlington\, NJ\, 07856
CATEGORIES:Ride
END:VEVENT
BEGIN:VEVENT
DTSTART;TZID=America/New_York:20221009T100000
DTEND;TZID=America/New_York:20221009T153000
DTSTAMP:20260424T022559
CREATED:20220913T232823Z
LAST-MODIFIED:20220913T232823Z
UID:2872-1665309600-1665329400@www.gardenstatehogchapter.com
SUMMARY:Chapter Ride - Riverside Barr & Grill
DESCRIPTION:Head Road Captain Doug Ryan will lead a ride across the Delaware River to the Riverside Barr & Grill in Easton\, PA.  Riders will depart the Dealership at 10AM\, and guests are welcome if they sign a waiver.
URL:https://www.gardenstatehogchapter.com/welcome/event/chapter-ride-riverside-barr-grill-2/
LOCATION:Riverside Bar & Grill\, 5801 North Delaware Drive\, Easton\, PA\, 18040
CATEGORIES:Ride
END:VEVENT
BEGIN:VEVENT
DTSTART;TZID=America/New_York:20221008T093000
DTEND;TZID=America/New_York:20221008T153000
DTSTAMP:20260424T022559
CREATED:20220913T231731Z
LAST-MODIFIED:20221005T231639Z
UID:2869-1665221400-1665243000@www.gardenstatehogchapter.com
SUMMARY:Chapter Ride - Dimmick Inn & Steakhouse
DESCRIPTION:***Location Change*** Road Captain Don Lannigan will lead a ride to Milford\, PA to visit Dimmick Inn & Steakhouse.  Along the way there will be a pitstop at Callie’s Candies.  Riders will depart the Dealership at 9:30AM\, and guests are welcome if they sign a waiver.
URL:https://www.gardenstatehogchapter.com/welcome/event/chapter-ride-alpine-wurst-meat-house/
LOCATION:Dimmick Inn\, 101 E. Harford St.\, Milford\, PA
CATEGORIES:Ride
END:VEVENT
BEGIN:VEVENT
DTSTART;TZID=America/New_York:20221002T100000
DTEND;TZID=America/New_York:20221002T153000
DTSTAMP:20260424T022559
CREATED:20220913T225356Z
LAST-MODIFIED:20220926T002617Z
UID:2866-1664704800-1664724600@www.gardenstatehogchapter.com
SUMMARY:Chapter Ride to the Ride - Forever Friends
DESCRIPTION:The Chapter is pleased to continue our support of a great cause for the motorcycling community… Forever Friends.  The focus is raising awareness of motorcycles in the schools\, drivers education classes\, and in the communities.  This ride will raise funds to help them continue the crusade with benefit to us all.\nDirector Russell will lead the ride from the Dealership to the Sussex County Fairgrounds\, departing at 10AM.  Guests are welcome if they sign a waiver.
URL:https://www.gardenstatehogchapter.com/welcome/event/chapter-ride-to-the-ride-forever-friends/
LOCATION:Sussex County Fairgrounds\, 37 Plains Road\, Augusta\, NJ\, 07822
CATEGORIES:Ride
END:VEVENT
BEGIN:VEVENT
DTSTART;TZID=America/New_York:20221001T110000
DTEND;TZID=America/New_York:20221001T150000
DTSTAMP:20260424T022559
CREATED:20220913T224358Z
LAST-MODIFIED:20220930T210153Z
UID:2863-1664622000-1664636400@www.gardenstatehogchapter.com
SUMMARY:CANCELLED - Chapter Ride - Double S Smokehouse
DESCRIPTION:Due to heavy rains in the forecast tomorrow\, we are cancelling the ride… \n  \nRoad Captain Russ Hall will lead a ride to the Skylands Stadium in Augusta\, NJ\, new home to Double S Smokehouse.  Riders will depart the Dealership at 11AM\, and guests are welcome if they sign a waiver.
URL:https://www.gardenstatehogchapter.com/welcome/event/chapter-ride-double-s-smokehouse/
LOCATION:Double S Smokehouse\, 94 Championship Place (Skylands Stadium)\, Augusta\, NJ\, 07822
CATEGORIES:Ride
END:VEVENT
BEGIN:VEVENT
DTSTART;TZID=America/New_York:20220925T093000
DTEND;TZID=America/New_York:20220925T153000
DTSTAMP:20260424T022559
CREATED:20220913T223544Z
LAST-MODIFIED:20220925T213352Z
UID:2860-1664098200-1664119800@www.gardenstatehogchapter.com
SUMMARY:Chapter Ride - The Stirling Hotel
DESCRIPTION:Road Captain Herb Olbrich will lead a ride to The Stirling Hotel\, in Stirling\, NJ.  The ride will also make a pit stop to William’s H-D.  Riders will depart the Dealership at 9:30AM\, and guests are welcome if they sign a waiver.
URL:https://www.gardenstatehogchapter.com/welcome/event/chapter-ride-arties-bar-grill/
LOCATION:Artie’s Bar and Grill\, 1121 State Rt. 12\, Frenchtown\, NJ\, 08825
CATEGORIES:Ride
END:VEVENT
BEGIN:VEVENT
DTSTART;TZID=America/New_York:20220924T100000
DTEND;TZID=America/New_York:20220924T153000
DTSTAMP:20260424T022559
CREATED:20220913T221224Z
LAST-MODIFIED:20220913T221224Z
UID:2857-1664013600-1664033400@www.gardenstatehogchapter.com
SUMMARY:Chapter Ride - Jersey Shore BBQ
DESCRIPTION:Road Captain Debbie Ryan will lead a ride to Point Pleasant\, NJ for some Jersey Shore BBQ!  Beware that your mouth will water if you look at their website.  Riders will depart the Dealership at 10AM\, and guests are welcome if they sign a waiver.
URL:https://www.gardenstatehogchapter.com/welcome/event/chapter-ride-jersey-shore-bbq/
LOCATION:Jersey Shore BBQ\, 710 Arnold Ave.\, Point Pleasant\, NJ\, 08742
CATEGORIES:Ride
END:VEVENT
BEGIN:VEVENT
DTSTART;TZID=America/New_York:20220918T110000
DTEND;TZID=America/New_York:20220918T140000
DTSTAMP:20260424T022559
CREATED:20220906T234950Z
LAST-MODIFIED:20220906T234950Z
UID:2853-1663498800-1663509600@www.gardenstatehogchapter.com
SUMMARY:Chapter Ride - Twofer Hot Dog Ride
DESCRIPTION:Road Captain Mark Durenberger will be helping Chapter Members achieve the Hot Dog Challenge patch with another twofer destination ride.  We’ll be having a hot dog first at Weenies in Madison\, NJ\, followed by a jaunt to Denville Dog & Grill for hot dog #2 and ice cream for those that deserve it. \nWeenies – http://www.weenieshotdogs.com/ 145 Main Street\, Madison NJ  07940 \nDenville Dog & Grill – https://denvilledogandicecream.com/  99 Bloomfield Avenue Unit A\, Denville\, NJ 07834
URL:https://www.gardenstatehogchapter.com/welcome/event/chapter-ride-twofer-hot-dog-ride/
LOCATION:Denville Dog & Grill\, 99 Bloomfield Avenue Unit A\, Denville\, NJ\, 07834
CATEGORIES:Ride
END:VEVENT
BEGIN:VEVENT
DTSTART;TZID=America/New_York:20220911T110000
DTEND;TZID=America/New_York:20220911T153000
DTSTAMP:20260424T022559
CREATED:20220906T233300Z
LAST-MODIFIED:20220910T235201Z
UID:2850-1662894000-1662910200@www.gardenstatehogchapter.com
SUMMARY:CANCELLED - Chapter Ride - Riverside Barr & Grill
DESCRIPTION:WEATHER CANCELLATION – Head Road Captain Doug Ryan will lead a ride to Riverside Bar & Grill in Easton\, PA.  Riders will depart the Dealership at 11AM\, and guests are welcome to join if they sign a waiver.
URL:https://www.gardenstatehogchapter.com/welcome/event/chapter-ride-riverside-barr-grill/
LOCATION:Riverside Bar & Grill\, 5801 North Delaware Drive\, Easton\, PA\, 18040
CATEGORIES:Ride
END:VEVENT
BEGIN:VEVENT
DTSTART;TZID=America/New_York:20220910T110000
DTEND;TZID=America/New_York:20220910T143000
DTSTAMP:20260424T022559
CREATED:20220906T232106Z
LAST-MODIFIED:20220906T232106Z
UID:2848-1662807600-1662820200@www.gardenstatehogchapter.com
SUMMARY:Chapter Ride - Mystery Ride
DESCRIPTION:Road Captain Deb Ryan has stepped in to lead a ride this Saturday…details are under construction\, however it will definitely be a great route\, well led and a cool destination.  Riders will depart the Dealership at 11AM.  Guests are welcome if they sign a waiver.
URL:https://www.gardenstatehogchapter.com/welcome/event/chapter-ride-mystery-ride-2/
LOCATION:Garden State Harley-Davidson\, 1775 Route 10 East\, Morris Plains\, NJ\, 07950\, United States
CATEGORIES:Ride
END:VEVENT
BEGIN:VEVENT
DTSTART;TZID=America/New_York:20220827T110000
DTEND;TZID=America/New_York:20220827T150000
DTSTAMP:20260424T022559
CREATED:20220802T225754Z
LAST-MODIFIED:20220811T001454Z
UID:2834-1661598000-1661612400@www.gardenstatehogchapter.com
SUMMARY:Chapter Ride - Apple Valley Family Restaurant
DESCRIPTION:Road Captain Russ Hall will lead a ride to Milford\, PA to visit Apple Valley Family Restaurant.  Riders will depart from the Dealership at 10:30AM\, and guests are welcome if they fill out a waiver.
URL:https://www.gardenstatehogchapter.com/welcome/event/chapter-ride-apple-valley-family-restaurant/
LOCATION:Apple Valley Restaurant\, 104 Rt. 6\, Milford\, PA\, 18337
CATEGORIES:Ride
END:VEVENT
BEGIN:VEVENT
DTSTART;TZID=America/New_York:20220814T110000
DTEND;TZID=America/New_York:20220814T143000
DTSTAMP:20260424T022559
CREATED:20220727T232921Z
LAST-MODIFIED:20220811T001340Z
UID:2828-1660474800-1660487400@www.gardenstatehogchapter.com
SUMMARY:Chapter Ride - Johnny & Hanges - Hot Dog Challenge
DESCRIPTION:Road Captain Mark Durenberger leads a ride to Johnny & Hanges in Fair Lawn\, NJ.  Riders will depart the Dealership at 11AM\, and guests are welcome if they sign a waiver.
URL:https://www.gardenstatehogchapter.com/welcome/event/chapter-ride-destination-dogs-hot-dog-challenge/
LOCATION:Johnny & Hanges\, 23-20 Maple Ave.\, Fair Lawn\, NJ\, 07410
CATEGORIES:Ride
END:VEVENT
BEGIN:VEVENT
DTSTART;TZID=America/New_York:20220813T103000
DTEND;TZID=America/New_York:20220813T143000
DTSTAMP:20260424T022559
CREATED:20220410T121351Z
LAST-MODIFIED:20220623T004417Z
UID:2719-1660386600-1660401000@www.gardenstatehogchapter.com
SUMMARY:Chapter Ride - The Mason Jar
DESCRIPTION:Road Captain Joe G. will lead a ride up to The Mason Jar in Mahwah\, NJ.  Kickstands up at 10:30.  Guests are welcome if they sign a waiver.
URL:https://www.gardenstatehogchapter.com/welcome/event/chapter-ride-the-mason-jar/
LOCATION:The Mason Jar\, 219 Ramapo Valley Rd\, Mahwah\, NJ\, 07430
CATEGORIES:Ride
END:VEVENT
BEGIN:VEVENT
DTSTART;TZID=America/New_York:20220807T103000
DTEND;TZID=America/New_York:20220807T143000
DTSTAMP:20260424T022559
CREATED:20220802T224518Z
LAST-MODIFIED:20220802T224518Z
UID:2831-1659868200-1659882600@www.gardenstatehogchapter.com
SUMMARY:Chapter Ride - Jolly Onion
DESCRIPTION:Road Captain Herb Olbrich will lead a ride to Warwick\, NY to visit the Jolly Onion restaurant.  Riders will depart the Dealership at 10:30AM\, and guests are welcome if they fill out a waiver.
URL:https://www.gardenstatehogchapter.com/welcome/event/chapter-ride-jolly-onion/
LOCATION:The Jolly Onion\, 625 Glenwood Road\, Pine Island\, NY\, 10969
CATEGORIES:Ride
END:VEVENT
BEGIN:VEVENT
DTSTART;TZID=America/New_York:20220806T110000
DTEND;TZID=America/New_York:20220806T153000
DTSTAMP:20260424T022559
CREATED:20220721T103317Z
LAST-MODIFIED:20220721T103519Z
UID:2820-1659783600-1659799800@www.gardenstatehogchapter.com
SUMMARY:Chapter Ride - Erie Hotel & Restaurant
DESCRIPTION:Road Captain Debbie Ryan will lead Chapter members on a great ride up to Port Jervis to the Erie Hotel and Restaurant.  Riders will depart the Dealership at 11AM\, and guests are welcome if they sign a waiver.
URL:https://www.gardenstatehogchapter.com/welcome/event/chapter-ride-erie-hotel-restaurant/
LOCATION:Erie Hotel & Restaurant\, 9 Jersey Ave.\, Port Jervis\, NY\, 12771
CATEGORIES:Ride
END:VEVENT
BEGIN:VEVENT
DTSTART;TZID=America/New_York:20220730T090000
DTEND;TZID=America/New_York:20220730T160000
DTSTAMP:20260424T022559
CREATED:20220713T002306Z
LAST-MODIFIED:20220713T002358Z
UID:2814-1659171600-1659196800@www.gardenstatehogchapter.com
SUMMARY:Chapter Ride to Shawangunk Mountain & Modena\, NY
DESCRIPTION:From Road Captain Barbara Gould… “Come ready to ride ALL day!  KSU 9:00 AM.  This ride will take us first to the Shawangunk Mountains Lookout\, roughly 80 miles (there will be a rest/gas stop at about one and a half hours into the ride.)  We’ll then stop at the look out point to take in the sights and rest for a bit.   Then back on the bikes for another 30 miles through some mountain roads and great views.  We’ll make our final stop at John Fazio Farms BBQ in Modena NY to have lunch.  From there you can go either highways home(there will be tolls) or follow along on backroads that will take us past Greenwood lake and then back home.  This ride will be at least 5 hours in the saddle\, roughly 180 to 190 miles in total depending on where you live\, and there will be 3 scheduled stops.”
URL:https://www.gardenstatehogchapter.com/welcome/event/chapter-ride-to-shawangunk-mountain-modena-ny/
LOCATION:NJ
CATEGORIES:Ride
END:VEVENT
BEGIN:VEVENT
DTSTART;TZID=America/New_York:20220728T183000
DTEND;TZID=America/New_York:20220728T200000
DTSTAMP:20260424T022559
CREATED:20220713T002800Z
LAST-MODIFIED:20220727T231742Z
UID:2817-1659033000-1659038400@www.gardenstatehogchapter.com
SUMMARY:Chapter Ride - Jimmy Buff's - Thursday Hot Dog Ride
DESCRIPTION:They are not just to be enjoyed on the weekends!  Road Captain MaryAlice leads a week night ride to Jimmy Buff’s in West Orange\, NJ.  Riders will depart the Dealership at 6:30PM.
URL:https://www.gardenstatehogchapter.com/welcome/event/chapter-ride-thursday-hot-dog-ride/
LOCATION:NJ
CATEGORIES:Ride
END:VEVENT
BEGIN:VEVENT
DTSTART;TZID=America/New_York:20220724T100000
DTEND;TZID=America/New_York:20220724T150000
DTSTAMP:20260424T022559
CREATED:20220628T231706Z
LAST-MODIFIED:20220628T231706Z
UID:2796-1658656800-1658674800@www.gardenstatehogchapter.com
SUMMARY:Chapter Ride - Hawthorne Gun Club
DESCRIPTION:Road Captain Joe Gennarelli will lead a traditional ride to the Hawthorne Gun Club.  Check Chapter communications as we get closer for details about costs\, bringing your own gun and ammo\, lunch options\, etc.  Riders will depart the Dealership at 10AM.
URL:https://www.gardenstatehogchapter.com/welcome/event/chapter-ride-hawthorne-gun-club/
LOCATION:Hawthorne Gun Club\, 296 Wagaraw Rd\, Hawthorne\, New Jersey\, 07506
CATEGORIES:Ride
END:VEVENT
BEGIN:VEVENT
DTSTART;TZID=America/New_York:20220723T100000
DTEND;TZID=America/New_York:20220723T143000
DTSTAMP:20260424T022559
CREATED:20220628T231024Z
LAST-MODIFIED:20220628T231024Z
UID:2794-1658570400-1658586600@www.gardenstatehogchapter.com
SUMMARY:Chapter Ride - Marley's Gotham Grill
DESCRIPTION:Road Captain MaryAlice will lead a ride to a great lunch spot in Hackettstown…Marley’s Gotham Grill.  Riders will depart the Dealership at 10AM\, and guests are welcome to join if they sign a waiver.
URL:https://www.gardenstatehogchapter.com/welcome/event/chapter-ride-marleys-gotham-grill/
LOCATION:Marley’s Gotham Grill\, 169 Main Street\, Hackettstown\, NJ\, 07840\, United States
CATEGORIES:Ride
END:VEVENT
BEGIN:VEVENT
DTSTART;TZID=America/New_York:20220717T110000
DTEND;TZID=America/New_York:20220717T143000
DTSTAMP:20260424T022559
CREATED:20220515T184442Z
LAST-MODIFIED:20220713T000704Z
UID:2752-1658055600-1658068200@www.gardenstatehogchapter.com
SUMMARY:Chapter Ride Home Plate Dairy - Stewartsville\, NJ - 2021 Ice Cream Challenge Winning Location
DESCRIPTION:Road Captain MaryAlice will lead a ride to the 2021 Ice Cream Challenge winning location.  Riders will depart the Dealership at 11AM .  Guests are welcome if they sign a waiver.
URL:https://www.gardenstatehogchapter.com/welcome/event/chapter-ride-home-plate-dairy-stewartsville-nj-2021-ice-cream-challenge-winning-location/
LOCATION:Home Plate Dairy\, 2664 State Route 57\, Stewartsville\, NJ\, 08886
CATEGORIES:Ride
END:VEVENT
BEGIN:VEVENT
DTSTART;TZID=America/New_York:20220716T083000
DTEND;TZID=America/New_York:20220716T133000
DTSTAMP:20260424T022559
CREATED:20220526T175553Z
LAST-MODIFIED:20220526T175553Z
UID:2764-1657960200-1657978200@www.gardenstatehogchapter.com
SUMMARY:Ride For The Red - Morris Plains FD Fundraiser
DESCRIPTION:Garden State HOG is thrilled to support the Morris Plains Fire Department.  Volunteers will be needed to support parking\, registration and lunch.  Folks will be needed starting at 8:30.\n \n 
URL:https://www.gardenstatehogchapter.com/welcome/event/ride-for-the-red-morris-plains-fd-fundraiser/
LOCATION:Garden State Harley-Davidson\, 1775 Route 10 East\, Morris Plains\, NJ\, 07950\, United States
CATEGORIES:Ride
END:VEVENT
BEGIN:VEVENT
DTSTART;TZID=America/New_York:20220710T103000
DTEND;TZID=America/New_York:20220710T160000
DTSTAMP:20260424T022559
CREATED:20220706T225222Z
LAST-MODIFIED:20220706T225222Z
UID:2805-1657449000-1657468800@www.gardenstatehogchapter.com
SUMMARY:Chapter Ride - Nurnberger Bierhaus
DESCRIPTION:Road Captain Mark Durenberger will lead a ride to Nurnberger Bierhaus\, located in Lake Ariel\, PA\, for some quality German cuisine.  There is a small toll crossing the Milford-Montague bridge\, off of 206 crossing into PA\, so please bring some cash or EZ Pass.  Riders will depart from the Dealership at 10:30AM on Sunday the 10th of July.  Guests are welcome if they sign a waiver.
URL:https://www.gardenstatehogchapter.com/welcome/event/chapter-ride-nurnberger-bierhaus/
LOCATION:Nurnberger Bierhaus\, 2136 Lake Ariel Hwy\, Lake Ariel\, PA\, 18436
CATEGORIES:Ride
END:VEVENT
BEGIN:VEVENT
DTSTART;TZID=America/New_York:20220709T100000
DTEND;TZID=America/New_York:20220709T153000
DTSTAMP:20260424T022559
CREATED:20220622T003629Z
LAST-MODIFIED:20220622T003629Z
UID:2787-1657360800-1657380600@www.gardenstatehogchapter.com
SUMMARY:Chapter Ride - Billy Joe's Ribworks
DESCRIPTION:MaryAlice will lead a ride to a Chapter favorite location… Billy Joe’s Ribworks in Newburg\, NY.  It will be both an epic ride and epic BBQ waiting for us.  Riders will depart the Dealership at 10AM\, and guests are welcome if they sign a waiver.
URL:https://www.gardenstatehogchapter.com/welcome/event/chapter-ride-billy-joes-ribworks-2/
LOCATION:Billy Joe’s Ribworks\, 26 Front St.\, Newburgh\, New York\, 12550
CATEGORIES:Ride
END:VEVENT
BEGIN:VEVENT
DTSTART;TZID=America/New_York:20220702T110000
DTEND;TZID=America/New_York:20220702T150000
DTSTAMP:20260424T022559
CREATED:20220622T002937Z
LAST-MODIFIED:20220622T002937Z
UID:2784-1656759600-1656774000@www.gardenstatehogchapter.com
SUMMARY:Chapter Ride - The Plumstead Grill
DESCRIPTION:Road Captain Doug Ryan will be leading a ride to Creamridge\, NJ to visit the Plumstead Grill.  Riders will depart the Dealership at 11AM\, and guests are welcome if they sign a waiver.
URL:https://www.gardenstatehogchapter.com/welcome/event/chapter-ride-the-plumstead-grill/
LOCATION:Plumstead Grill\, 457 Pinehurst Road at Route 539\, Cream Ridge\, NJ\, 08514
CATEGORIES:Ride
END:VEVENT
BEGIN:VEVENT
DTSTART;TZID=America/New_York:20220626T110000
DTEND;TZID=America/New_York:20220626T153000
DTSTAMP:20260424T022559
CREATED:20220608T000337Z
LAST-MODIFIED:20220608T000405Z
UID:2774-1656241200-1656257400@www.gardenstatehogchapter.com
SUMMARY:Chapter Ride - Peddler's Village
DESCRIPTION:Road Captain Debbie Ryan will lead a ride to Peddler’s Village in Lahaska\, PA.  Kickstands up at 11AM.  Guests are welcome if they sign a waiver.
URL:https://www.gardenstatehogchapter.com/welcome/event/chapter-ride-pedlers-village/
LOCATION:Peddler’s Village\, Lahaska\, PA
CATEGORIES:Ride
END:VEVENT
BEGIN:VEVENT
DTSTART;TZID=America/New_York:20220625T110000
DTEND;TZID=America/New_York:20220625T140000
DTSTAMP:20260424T022559
CREATED:20220607T235900Z
LAST-MODIFIED:20220623T004857Z
UID:2772-1656154800-1656165600@www.gardenstatehogchapter.com
SUMMARY:Chapter Ride - J. Murphy's on Main
DESCRIPTION:Road Captain Donald Lannigan will lead a ride to J Murphy’s on Main in Cold Spring\, NY.  The route will have a toll\, so please bring EZ Pass if you have one.  Kickstands up at 11AM.  Guests are welcome if they sign a waiver.
URL:https://www.gardenstatehogchapter.com/welcome/event/chapter-ride-smokeys-tavern/
LOCATION:J. Murphy’s on Main\, 184 Main Street\, Cold Spring\, NY\, 10516
CATEGORIES:Ride
END:VEVENT
BEGIN:VEVENT
DTSTART;TZID=America/New_York:20220619T103000
DTEND;TZID=America/New_York:20220619T150000
DTSTAMP:20260424T022559
CREATED:20220615T013707Z
LAST-MODIFIED:20220615T013707Z
UID:2779-1655634600-1655650800@www.gardenstatehogchapter.com
SUMMARY:Chapter Ride - Alaska Pete's
DESCRIPTION:Road Captain Donald Lannigan will lead a ride to the Poconos to visit Alaska Pete’s.  Don’t miss out!  Riders will depart the Dealership at 10:30.  Guests are welcome if they sign a waiver.
URL:https://www.gardenstatehogchapter.com/welcome/event/chapter-ride-alaska-petes/
LOCATION:Alaska Pete’s\, 151 Seven Bridge Road\, Marshalls Creek\, PA\, 18335
CATEGORIES:Ride
END:VEVENT
BEGIN:VEVENT
DTSTART;TZID=America/New_York:20220618T110000
DTEND;TZID=America/New_York:20220618T153000
DTSTAMP:20260424T022559
CREATED:20220515T184919Z
LAST-MODIFIED:20220515T184919Z
UID:2754-1655550000-1655566200@www.gardenstatehogchapter.com
SUMMARY:Chapter Ride to Chimney Rock Inn - Bridgewater\, NJ
DESCRIPTION:Road Captain Debbie Ryan will lead a ride to Chimney Rock Inn in Bridgewater\, NJ.  Riders depart the Dealership at 11AM.  Guests are welcome if they sign a waiver.
URL:https://www.gardenstatehogchapter.com/welcome/event/chapter-ride-to-chimney-rock-inn-bridgewater-nj/
LOCATION:Chimney Rock Inn\, 41 State Route 31\, Flemington\, NJ\, 08822
CATEGORIES:Ride
END:VEVENT
BEGIN:VEVENT
DTSTART;TZID=America/New_York:20220611T153000
DTEND;TZID=America/New_York:20220611T183000
DTSTAMP:20260424T022559
CREATED:20220515T183944Z
LAST-MODIFIED:20220526T173439Z
UID:2750-1654961400-1654972200@www.gardenstatehogchapter.com
SUMMARY:Chapter Ride to Jersey Dog & Hot Dog Johnny's - Hot Dog Challenge
DESCRIPTION:Road Captain Mark Durenberger will lead a ride to Jersey Dog in Newton\, and historic Hot Dog Johnny’s in Buttzville\, NJ.  Riders will depart the Dealership at 3:30\, to allow those supporting the Motorcycle Skills Competition to join as well.  Guests are welcome if they sign a waiver.
URL:https://www.gardenstatehogchapter.com/welcome/event/chapter-ride-to-hot-dog-johnnys-hot-dog-challenge/
LOCATION:Hot Dog Johnny’s\, 333 Route 46\, Belvidere\, NJ\, 07823\, United States
CATEGORIES:Ride
END:VEVENT
END:VCALENDAR