BEGIN:VCALENDAR
VERSION:2.0
PRODID:-//Garden State Hog Chapter - ECPv6.15.17.1//NONSGML v1.0//EN
CALSCALE:GREGORIAN
METHOD:PUBLISH
X-ORIGINAL-URL:https://www.gardenstatehogchapter.com/welcome
X-WR-CALDESC:Events for Garden State Hog Chapter
REFRESH-INTERVAL;VALUE=DURATION:PT1H
X-Robots-Tag:noindex
X-PUBLISHED-TTL:PT1H
BEGIN:VTIMEZONE
TZID:America/New_York
BEGIN:DAYLIGHT
TZOFFSETFROM:-0500
TZOFFSETTO:-0400
TZNAME:EDT
DTSTART:20210314T070000
END:DAYLIGHT
BEGIN:STANDARD
TZOFFSETFROM:-0400
TZOFFSETTO:-0500
TZNAME:EST
DTSTART:20211107T060000
END:STANDARD
BEGIN:DAYLIGHT
TZOFFSETFROM:-0500
TZOFFSETTO:-0400
TZNAME:EDT
DTSTART:20220313T070000
END:DAYLIGHT
BEGIN:STANDARD
TZOFFSETFROM:-0400
TZOFFSETTO:-0500
TZNAME:EST
DTSTART:20221106T060000
END:STANDARD
BEGIN:DAYLIGHT
TZOFFSETFROM:-0500
TZOFFSETTO:-0400
TZNAME:EDT
DTSTART:20230312T070000
END:DAYLIGHT
BEGIN:STANDARD
TZOFFSETFROM:-0400
TZOFFSETTO:-0500
TZNAME:EST
DTSTART:20231105T060000
END:STANDARD
BEGIN:DAYLIGHT
TZOFFSETFROM:-0500
TZOFFSETTO:-0400
TZNAME:EDT
DTSTART:20240310T070000
END:DAYLIGHT
BEGIN:STANDARD
TZOFFSETFROM:-0400
TZOFFSETTO:-0500
TZNAME:EST
DTSTART:20241103T060000
END:STANDARD
END:VTIMEZONE
BEGIN:VEVENT
DTSTART;TZID=America/New_York:20230730T110000
DTEND;TZID=America/New_York:20230730T150000
DTSTAMP:20260423T232840
CREATED:20230729T003052Z
LAST-MODIFIED:20230729T003052Z
UID:3129-1690714800-1690729200@www.gardenstatehogchapter.com
SUMMARY:Chapter Ride - Blairstown Inn
DESCRIPTION:Head Road Captain Doug Ryan will lead a ride to Blairstown Inn\, in Blairstown\, NJ.  Riders will depart the Dealership at 11AM\, and guests are welcome to join if they sign a waiver.
URL:https://www.gardenstatehogchapter.com/welcome/event/chapter-ride-blairstown-inn/
LOCATION:Blairstown Inn\, 70 NJ-94\, Blairstown\, NJ\, 07825
CATEGORIES:Ride
END:VEVENT
BEGIN:VEVENT
DTSTART;TZID=America/New_York:20230729T090000
DTEND;TZID=America/New_York:20230729T110000
DTSTAMP:20260423T232840
CREATED:20230729T003228Z
LAST-MODIFIED:20230729T003228Z
UID:3131-1690621200-1690628400@www.gardenstatehogchapter.com
SUMMARY:Shawangunk Ride on July 29th Cancelled - Rescheduled
DESCRIPTION:
URL:https://www.gardenstatehogchapter.com/welcome/event/shawangunk-ride-on-july-29th-cancelled-rescheduled/
CATEGORIES:Ride
END:VEVENT
BEGIN:VEVENT
DTSTART;TZID=America/New_York:20230723T110000
DTEND;TZID=America/New_York:20230723T150000
DTSTAMP:20260423T232840
CREATED:20230628T004031Z
LAST-MODIFIED:20230628T004517Z
UID:3100-1690110000-1690124400@www.gardenstatehogchapter.com
SUMMARY:Chapter Ride - Star Tavern - Pizza Challenge
DESCRIPTION:On July 23rd we will be having another installment of the Pizza Challenge\, this time to Star Tavern in Orange\, NJ.  The Breningers will be leading the way!  Riders will depart the Dealership at 11AM\, and guests are welcome if they sign a waiver.
URL:https://www.gardenstatehogchapter.com/welcome/event/chapter-ride-star-tavern-pizza-challenge/
LOCATION:Star Tavern\, 400 High Street\, Orange\, NJ\, 07050
CATEGORIES:Ride
END:VEVENT
BEGIN:VEVENT
DTSTART;TZID=America/New_York:20230722T143000
DTEND;TZID=America/New_York:20230722T153000
DTSTAMP:20260423T232840
CREATED:20230621T002919Z
LAST-MODIFIED:20230718T232012Z
UID:3092-1690036200-1690039800@www.gardenstatehogchapter.com
SUMMARY:Chapter Ride - Scenic\, Local Ride
DESCRIPTION:Following the Chapter Meeting and lunch celebrating HOG’s 40th\, Head Road Captain Doug Ryan will lead a ride out and about the area\, returning to the Dealership.  Riders will depart at 2:30PM\, and guests are welcome if they sign a waiver.
URL:https://www.gardenstatehogchapter.com/welcome/event/chapter-ride-scenic-local-ride/
LOCATION:Garden State Harley-Davidson\, 1775 Route 10 East\, Morris Plains\, NJ\, 07950\, United States
CATEGORIES:Ride
END:VEVENT
BEGIN:VEVENT
DTSTART;TZID=America/New_York:20230717T080000
DTEND;TZID=America/New_York:20230717T170000
DTSTAMP:20260423T232840
CREATED:20230613T234052Z
LAST-MODIFIED:20230613T234052Z
UID:3088-1689580800-1689613200@www.gardenstatehogchapter.com
SUMMARY:Milwaukee Trip - Day 6 - Home
DESCRIPTION:Day 6 of the Milwaukee Trip
URL:https://www.gardenstatehogchapter.com/welcome/event/milwaukee-trip-day-6-home/
LOCATION:Garden State Harley-Davidson\, 1775 Route 10 East\, Morris Plains\, NJ\, 07950\, United States
CATEGORIES:Ride
END:VEVENT
BEGIN:VEVENT
DTSTART;TZID=America/New_York:20230716T080000
DTEND;TZID=America/New_York:20230716T170000
DTSTAMP:20260423T232840
CREATED:20230613T233655Z
LAST-MODIFIED:20230613T233655Z
UID:3085-1689494400-1689526800@www.gardenstatehogchapter.com
SUMMARY:Milwaukee Trip - Day 5 - Milwaukee to Independence OH
DESCRIPTION:Day 5 of the Milwaukee Trip
URL:https://www.gardenstatehogchapter.com/welcome/event/milwaukee-trip-day-5-milwaukee-to-independence-oh/
LOCATION:Indepedence\, OH
CATEGORIES:Ride
END:VEVENT
BEGIN:VEVENT
DTSTART;TZID=America/New_York:20230715T080000
DTEND;TZID=America/New_York:20230715T170000
DTSTAMP:20260423T232840
CREATED:20230613T233405Z
LAST-MODIFIED:20230613T233405Z
UID:3083-1689408000-1689440400@www.gardenstatehogchapter.com
SUMMARY:Milwaukee Trip - Day 4 - Factory Tour - Demo Rides
DESCRIPTION:Day 4 for the Milwaukee Trip
URL:https://www.gardenstatehogchapter.com/welcome/event/milwaukee-trip-day-4-factory-tour-demo-rides/
LOCATION:Milwaukee\, WI
CATEGORIES:Ride
END:VEVENT
BEGIN:VEVENT
DTSTART;TZID=America/New_York:20230714T080000
DTEND;TZID=America/New_York:20230714T170000
DTSTAMP:20260423T232840
CREATED:20230613T233044Z
LAST-MODIFIED:20230613T233044Z
UID:3081-1689321600-1689354000@www.gardenstatehogchapter.com
SUMMARY:Milwaukee Trip - Day 3 - H-D Museum
DESCRIPTION:Day 3 of the Milwaukee Trip
URL:https://www.gardenstatehogchapter.com/welcome/event/milwaukee-trip-day-3-h-d-museum/
LOCATION:Milwaukee\, WI
CATEGORIES:Ride
END:VEVENT
BEGIN:VEVENT
DTSTART;TZID=America/New_York:20230713T080000
DTEND;TZID=America/New_York:20230713T170000
DTSTAMP:20260423T232840
CREATED:20230613T232726Z
LAST-MODIFIED:20230613T232726Z
UID:3079-1689235200-1689267600@www.gardenstatehogchapter.com
SUMMARY:Milwaukee Trip - Sandusky to Milwaukee - HOG 40th Party
DESCRIPTION:Day 2 for those registered for the Milwaukee Trip
URL:https://www.gardenstatehogchapter.com/welcome/event/milwaukee-trip-sandusky-to-milwaukee-hog-40th-party/
LOCATION:Milwaukee\, WI
CATEGORIES:Ride
END:VEVENT
BEGIN:VEVENT
DTSTART;TZID=America/New_York:20230712T070000
DTEND;TZID=America/New_York:20230712T073000
DTSTAMP:20260423T232840
CREATED:20230611T204245Z
LAST-MODIFIED:20230611T205757Z
UID:3066-1689145200-1689147000@www.gardenstatehogchapter.com
SUMMARY:Milwaukee Trip Departure to Sandusky\, OH
DESCRIPTION:For registered Chapter Members going on the Milwaukee\, WI trip for the 120th H-D Anniversary.  Riders will meet at the Dealership at 7AM and depart at 7:30.
URL:https://www.gardenstatehogchapter.com/welcome/event/milwaukee-trip-departure/
LOCATION:Garden State Harley-Davidson\, 1775 Route 10 East\, Morris Plains\, NJ\, 07950\, United States
CATEGORIES:Ride
END:VEVENT
BEGIN:VEVENT
DTSTART;TZID=America/New_York:20230711T174500
DTEND;TZID=America/New_York:20230711T193000
DTSTAMP:20260423T232840
CREATED:20230621T002244Z
LAST-MODIFIED:20230628T001102Z
UID:3090-1689097500-1689103800@www.gardenstatehogchapter.com
SUMMARY:Bike Night at Mr. Crabby's
DESCRIPTION:Road Captain Deb Ryan will lead the way to Mr. Crabby’s for June Bike Night.  Riders will depart the Dealership at 5:45.
URL:https://www.gardenstatehogchapter.com/welcome/event/bike-night-at-mr-crabbys/
LOCATION:Mr. Crabby’s\, 399 NJ-10 E\, Randolph\, NJ\, 07869
CATEGORIES:Ride
END:VEVENT
BEGIN:VEVENT
DTSTART;TZID=America/New_York:20230708T103000
DTEND;TZID=America/New_York:20230708T143000
DTSTAMP:20260423T232840
CREATED:20230611T205114Z
LAST-MODIFIED:20230628T000853Z
UID:3070-1688812200-1688826600@www.gardenstatehogchapter.com
SUMMARY:Chapter Ride - Table 9
DESCRIPTION:Road Captain Rich Seitz will lead a ride up to Table 9 in Cortlandt Manor\, NY.  Riders will depart the Dealership at 10:30AM.  Guests are welcome if they sign a waiver.
URL:https://www.gardenstatehogchapter.com/welcome/event/chapter-ride-table-9-2/
LOCATION:Table 9\, 92 Roa Hook Rd\, Cortlandt\, NY\, 10567
CATEGORIES:Ride
END:VEVENT
BEGIN:VEVENT
DTSTART;TZID=America/New_York:20230701T100000
DTEND;TZID=America/New_York:20230701T143000
DTSTAMP:20260423T232840
CREATED:20230611T204706Z
LAST-MODIFIED:20230628T001924Z
UID:3068-1688205600-1688221800@www.gardenstatehogchapter.com
SUMMARY:Chapter Ride - Kinchley's Tavern - Pizza Challenge
DESCRIPTION:Road Captain Joe G. will lead a ride back to the excellent Kinchley’s Tavern in Ramsey\, NJ.  Riders will depart the Dealership at 10AM.  Guests are welcome if they sign a waiver.
URL:https://www.gardenstatehogchapter.com/welcome/event/chapter-ride-kinchleys-tavern-pizza-challenge/
LOCATION:Kinchley’s Tavern\, 586 Franklin Turnpike\, Ramsey\, New Jersey\, 07446
CATEGORIES:Ride
END:VEVENT
BEGIN:VEVENT
DTSTART;TZID=America/New_York:20230618T110000
DTEND;TZID=America/New_York:20230618T150000
DTSTAMP:20260423T232840
CREATED:20230611T203754Z
LAST-MODIFIED:20230611T203754Z
UID:3064-1687086000-1687100400@www.gardenstatehogchapter.com
SUMMARY:Chapter Ride - The Glenwood
DESCRIPTION:Road Captain Kevin Hunt will be leading a Father’s Day Chapter Ride up north to Vernon to The Glenwood.  Chapter members and guests will be departing the Dealership at 11AM.  Guests are welcome if they sign a waiver.
URL:https://www.gardenstatehogchapter.com/welcome/event/chapter-ride-the-glenwood-2/
LOCATION:The Glenwood\, 2 Vernon Crossing Road\, Glenwood\, NJ\, 07418
CATEGORIES:Ride
END:VEVENT
BEGIN:VEVENT
DTSTART;TZID=America/New_York:20230611T080000
DTEND;TZID=America/New_York:20230611T170000
DTSTAMP:20260423T232840
CREATED:20230611T210021Z
LAST-MODIFIED:20230611T210021Z
UID:3075-1686470400-1686502800@www.gardenstatehogchapter.com
SUMMARY:Milwaukee Trip - Sandusky\, OH to Milwaukee\, WI.  HOG 40th Celebration
DESCRIPTION:Day 2 of the Milwaukee Trip.  Riders will depart Sandusky and head to Milwaukee.  Afternoon / evening event will be HOG party for 40th Anniversary.
URL:https://www.gardenstatehogchapter.com/welcome/event/milwaukee-trip-sandusky-oh-to-milwaukee-wi-hog-40th-celebration/
LOCATION:Milwaukee\, WI
CATEGORIES:Ride
END:VEVENT
BEGIN:VEVENT
DTSTART;TZID=America/New_York:20230610T100000
DTEND;TZID=America/New_York:20230610T150000
DTSTAMP:20260423T232840
CREATED:20230516T230922Z
LAST-MODIFIED:20230516T230922Z
UID:3038-1686391200-1686409200@www.gardenstatehogchapter.com
SUMMARY:Chapter Ride - Irish Cottage Inn
DESCRIPTION:Road Captain Russ Hall will lead a ride up to Franklin\, NJ for a return visit to Irish Cottage Inn.  Chapter members will depart the Dealership on June 10th at 10AM.  Guests are welcome if they sign a waiver.
URL:https://www.gardenstatehogchapter.com/welcome/event/chapter-ride-irish-cottage-inn/
LOCATION:Irish Cottage Inn\, 602 Route 23\, Franklin\, New Jersey\, 07416
CATEGORIES:Ride
END:VEVENT
BEGIN:VEVENT
DTSTART;TZID=America/New_York:20230604T110000
DTEND;TZID=America/New_York:20230604T153000
DTSTAMP:20260423T232840
CREATED:20230516T230218Z
LAST-MODIFIED:20230516T230218Z
UID:3036-1685876400-1685892600@www.gardenstatehogchapter.com
SUMMARY:Chapter Ride - Pizza Challenge - Annabel's Pizza
DESCRIPTION:Director Russell will lead a ride to Annabel’s Pizza in Unionville\, NY.  Chapter members will depart the Dealership on June 4th at 11AM.  Guests are welcome if they sign a waiver.
URL:https://www.gardenstatehogchapter.com/welcome/event/chapter-ride-pizza-challenge-annabels-pizza/
LOCATION:Annabels Pizza\, 6 Main Street\, Unionville\, NY\, 10988
CATEGORIES:Ride
END:VEVENT
BEGIN:VEVENT
DTSTART;TZID=America/New_York:20230603T103000
DTEND;TZID=America/New_York:20230603T150000
DTSTAMP:20260423T232840
CREATED:20230516T225804Z
LAST-MODIFIED:20230531T002400Z
UID:3034-1685788200-1685804400@www.gardenstatehogchapter.com
SUMMARY:Chapter Ride - Erie Hotel & Restaurant
DESCRIPTION:Road Captain Donald Lannigan will lead the way back to the Erie Hotel & Restaurant in Port Jervis.  Chapter members will depart the Dealership on June 3rd at 10:30.  Guests are welcome if they sign a waiver.
URL:https://www.gardenstatehogchapter.com/welcome/event/chapter-ride-alaska-petes-2/
LOCATION:Erie Hotel & Restaurant\, 9 Jersey Ave.\, Port Jervis\, NY\, 12771
CATEGORIES:Ride
END:VEVENT
BEGIN:VEVENT
DTSTART;TZID=America/New_York:20230520T150000
DTEND;TZID=America/New_York:20230520T160000
DTSTAMP:20260423T232840
CREATED:20230510T000606Z
LAST-MODIFIED:20230510T000606Z
UID:3023-1684594800-1684598400@www.gardenstatehogchapter.com
SUMMARY:Niagara Falls Trip Return
DESCRIPTION:Road Captain Rich Seitz and Giovi have put together a fantastic Niagara Falls trip for those Chapter members who have signed up.  They depart Wednesday May 17\, and return Saturday May 20th.  Safe travels and have a blast!
URL:https://www.gardenstatehogchapter.com/welcome/event/niagara-falls-trip-return/
LOCATION:Garden State Harley-Davidson\, 1775 Route 10 East\, Morris Plains\, NJ\, 07950\, United States
CATEGORIES:Ride
END:VEVENT
BEGIN:VEVENT
DTSTART;TZID=America/New_York:20230520T110000
DTEND;TZID=America/New_York:20230520T143000
DTSTAMP:20260423T232840
CREATED:20230510T001125Z
LAST-MODIFIED:20230511T010313Z
UID:3025-1684580400-1684593000@www.gardenstatehogchapter.com
SUMMARY:Chapter Ride - The Sawmill - Pizza Challenge Ride
DESCRIPTION:Director Russell will lead a ride to The Sawmill in Seaside Park\, NJ\, which is one of our Pizza Challenge destinations.
URL:https://www.gardenstatehogchapter.com/welcome/event/chapter-ride-pizza-challenge-ride/
LOCATION:The Sawmill\, 1807 Boardwalk\, Seaside Park\, NJ\, 08752\, United States
CATEGORIES:Ride
END:VEVENT
BEGIN:VEVENT
DTSTART;TZID=America/New_York:20230517T080000
DTEND;TZID=America/New_York:20230517T150000
DTSTAMP:20260423T232840
CREATED:20230510T000442Z
LAST-MODIFIED:20230510T000442Z
UID:3021-1684310400-1684335600@www.gardenstatehogchapter.com
SUMMARY:Chapter Ride - Niagara Falls Departure
DESCRIPTION:Road Captain Rich Seitz and Giovi have put together a fantastic Niagara Falls trip for those Chapter members who have signed up.  They depart Wednesday May 17\, and return Saturday May 20th.  Safe travels and have a blast!
URL:https://www.gardenstatehogchapter.com/welcome/event/chapter-ride-niagara-falls-departure/
LOCATION:Garden State Harley-Davidson\, 1775 Route 10 East\, Morris Plains\, NJ\, 07950\, United States
CATEGORIES:Ride
END:VEVENT
BEGIN:VEVENT
DTSTART;TZID=America/New_York:20230506T120000
DTEND;TZID=America/New_York:20230506T160000
DTSTAMP:20260423T232840
CREATED:20230406T000000Z
LAST-MODIFIED:20230502T230013Z
UID:2981-1683374400-1683388800@www.gardenstatehogchapter.com
SUMMARY:International Female Ride Day - Arthur's Tavern
DESCRIPTION:Garden State Chapter Members are encouraged to saddle up in support of International Female Ride Day.  Road Captain Barbara Gould will lead Chapter members to Arthur’s Tavern\, a local Woman owned restaurant in Morris Plains.  Kickstands up at Noon for an estimated mid afternoon lunch at 3PM.  Guests are welcome if they sign a waiver.
URL:https://www.gardenstatehogchapter.com/welcome/event/international-female-ride-day/
LOCATION:Arthur’s Tavern\, 700 Speedwell Ave.\, Morris Plains\, NJ\, 07950\, United States
CATEGORIES:Ride
END:VEVENT
BEGIN:VEVENT
DTSTART;TZID=America/New_York:20230418T174500
DTEND;TZID=America/New_York:20230418T200000
DTSTAMP:20260423T232840
CREATED:20230323T001922Z
LAST-MODIFIED:20230405T234910Z
UID:2959-1681839900-1681848000@www.gardenstatehogchapter.com
SUMMARY:April Bike Night - Mr. Crabby's
DESCRIPTION:Join Chapter members and guests for a ride to Mr. Crabby’s to participate in Bike Night.  Doug Ryan will lead Chapter Members to the restaurant\, departing the Dealership at 5:45PM.
URL:https://www.gardenstatehogchapter.com/welcome/event/april-bike-night-mr-crabbys/
LOCATION:Mr. Crabby’s\, 399 NJ-10 E\, Randolph\, NJ\, 07869
CATEGORIES:Ride
END:VEVENT
BEGIN:VEVENT
DTSTART;TZID=America/New_York:20230415T110000
DTEND;TZID=America/New_York:20230415T143000
DTSTAMP:20260423T232840
CREATED:20230405T234336Z
LAST-MODIFIED:20230405T234336Z
UID:2970-1681556400-1681569000@www.gardenstatehogchapter.com
SUMMARY:Chapter Ride - Pub 199
DESCRIPTION:Head Road Captain Doug Ryan will lead a ride to Pub 199 in Mount Arlington\, NJ.  This will be the first group ride of the season\, so please get some practice in!  Riders and guests who sign a waiver will depart the Dealership at 11AM.  
URL:https://www.gardenstatehogchapter.com/welcome/event/chapter-ride-pub-199-3/
LOCATION:Pub 199\, 199 Howard Boulevard\, Mt. Arlington\, NJ\, 07856
CATEGORIES:Ride
END:VEVENT
BEGIN:VEVENT
DTSTART;TZID=America/New_York:20221204T083000
DTEND;TZID=America/New_York:20221204T140000
DTSTAMP:20260423T232840
CREATED:20221130T020900Z
LAST-MODIFIED:20221130T020900Z
UID:2937-1670142600-1670162400@www.gardenstatehogchapter.com
SUMMARY:Blue Knights Toys for Tots Motorcycle Christmas Run
DESCRIPTION:The annual Blue Knights Toys for Tots Motorcycle Christmas Run is December 4th\, and Director Russell is inviting Chapter Members to join in on the police escorted run to Rockefeller Center. Riders will meet at the Dealership at 8:30 for instructions\, with kickstands up at 8:45 to head to the ride launch. Cost is $25 per rider\, $15 per passenger\, and each attendee should bring an unopened\, unwrapped toy (no stuffed animals).
URL:https://www.gardenstatehogchapter.com/welcome/event/blue-knights-toys-for-tots-motorcycle-christmas-run/
LOCATION:Garden State Harley-Davidson\, 1775 Route 10 East\, Morris Plains\, NJ\, 07950\, United States
CATEGORIES:Ride
END:VEVENT
BEGIN:VEVENT
DTSTART;TZID=America/New_York:20221111T103000
DTEND;TZID=America/New_York:20221111T143000
DTSTAMP:20260423T232840
CREATED:20221029T211545Z
LAST-MODIFIED:20221110T192421Z
UID:2923-1668162600-1668177000@www.gardenstatehogchapter.com
SUMMARY:Cancelled!!   Chapter Ride - Veteran's Day Ride
DESCRIPTION:Cancelled due to storm.  \n  \nRoad Captain Herb Olbrich will be leading a scenic “Wing It” Veterans Day Ride\, November 11\, 2022 to “The All Veteran’s Memorial” Turkey Brook Park\, 30 Flanders Rd\, Budd Lake\, NJ 07828\, followed by lunch at the Black River Barn.  Riders will depart the Dealership at 10:30AM\, and guests are welcome if they sign a waiver. \n 
URL:https://www.gardenstatehogchapter.com/welcome/event/chapter-ride-veterans-day-ride/
LOCATION:Black River Barn\, 1178 NJ 10\, Randolph\, NJ\, 07869
CATEGORIES:Ride
END:VEVENT
BEGIN:VEVENT
DTSTART;TZID=America/New_York:20221105T110000
DTEND;TZID=America/New_York:20221105T150000
DTSTAMP:20260423T232840
CREATED:20221101T235620Z
LAST-MODIFIED:20221103T133518Z
UID:2925-1667646000-1667660400@www.gardenstatehogchapter.com
SUMMARY:Chapter Ride - Artie's in Frenchtown\, NJ
DESCRIPTION:Head Road Captain Doug Ryan will lead a ride to Frenchtown\, NJ and Artie’s Bar and Grill.  Riders will depart from the Dealership at 11AM.  Guests are welcome if they sign a waiver.
URL:https://www.gardenstatehogchapter.com/welcome/event/chapter-ride-mystery-tbd/
LOCATION:Artie’s Bar and Grill\, 1121 State Rt. 12\, Frenchtown\, NJ\, 08825
CATEGORIES:Ride
END:VEVENT
BEGIN:VEVENT
DTSTART;TZID=America/New_York:20221030T110000
DTEND;TZID=America/New_York:20221030T140000
DTSTAMP:20260423T232840
CREATED:20221019T010419Z
LAST-MODIFIED:20221019T010419Z
UID:2911-1667127600-1667138400@www.gardenstatehogchapter.com
SUMMARY:Chapter Ride - Pub 199
DESCRIPTION:Road Captain Patrick Hansen will lead a ride to Pub 199 in Mt. Arlington\, NJ.  Riders will depart the Dealership at 11AM\, and guests are welcome if they sign a waiver.
URL:https://www.gardenstatehogchapter.com/welcome/event/chapter-ride-pub-199-2/
LOCATION:Pub 199\, 199 Howard Boulevard\, Mt. Arlington\, NJ\, 07856
CATEGORIES:Ride
END:VEVENT
BEGIN:VEVENT
DTSTART;TZID=America/New_York:20221029T103000
DTEND;TZID=America/New_York:20221029T150000
DTSTAMP:20260423T232840
CREATED:20221012T012520Z
LAST-MODIFIED:20221016T130735Z
UID:2896-1667039400-1667055600@www.gardenstatehogchapter.com
SUMMARY:Chapter Ride - Halloween Ride
DESCRIPTION:Road Captain Barbara Gould will lead a spooky ride to some scary places\, making a dead stop at Grasshopper IrishPub on Rt. 23 in Newfoundland at Clinton Road.  Riders will depart the Dealership.  Guests are welcome if they sign a waiver.
URL:https://www.gardenstatehogchapter.com/welcome/event/chapter-ride-halloween-ride/
LOCATION:Grasshopper Irish Pub\, 2891 NJ-23\, Newfoundland\, NJ\, 07435
CATEGORIES:Ride
END:VEVENT
BEGIN:VEVENT
DTSTART;TZID=America/New_York:20221023T103000
DTEND;TZID=America/New_York:20221023T150000
DTSTAMP:20260423T232840
CREATED:20221012T012300Z
LAST-MODIFIED:20221016T131323Z
UID:2894-1666521000-1666537200@www.gardenstatehogchapter.com
SUMMARY:Chapter Ride - The Glenwood
DESCRIPTION:Road Captain Kevin Hunt will lead a ride to The Glenwood restaurant in Glenwood\, NJ.  Riders will depart the Dealership.  Guests are welcome if they sign a waiver.
URL:https://www.gardenstatehogchapter.com/welcome/event/chapter-ride-the-glenwood/
LOCATION:The Glenwood\, 2 Vernon Crossing Road\, Glenwood\, NJ\, 07418
CATEGORIES:Ride
END:VEVENT
END:VCALENDAR