BEGIN:VCALENDAR
VERSION:2.0
PRODID:-//Garden State Hog Chapter - ECPv6.15.17.1//NONSGML v1.0//EN
CALSCALE:GREGORIAN
METHOD:PUBLISH
X-ORIGINAL-URL:https://www.gardenstatehogchapter.com/welcome
X-WR-CALDESC:Events for Garden State Hog Chapter
REFRESH-INTERVAL;VALUE=DURATION:PT1H
X-Robots-Tag:noindex
X-PUBLISHED-TTL:PT1H
BEGIN:VTIMEZONE
TZID:America/New_York
BEGIN:DAYLIGHT
TZOFFSETFROM:-0500
TZOFFSETTO:-0400
TZNAME:EDT
DTSTART:20250309T070000
END:DAYLIGHT
BEGIN:STANDARD
TZOFFSETFROM:-0400
TZOFFSETTO:-0500
TZNAME:EST
DTSTART:20251102T060000
END:STANDARD
BEGIN:DAYLIGHT
TZOFFSETFROM:-0500
TZOFFSETTO:-0400
TZNAME:EDT
DTSTART:20260308T070000
END:DAYLIGHT
BEGIN:STANDARD
TZOFFSETFROM:-0400
TZOFFSETTO:-0500
TZNAME:EST
DTSTART:20261101T060000
END:STANDARD
BEGIN:DAYLIGHT
TZOFFSETFROM:-0500
TZOFFSETTO:-0400
TZNAME:EDT
DTSTART:20270314T070000
END:DAYLIGHT
BEGIN:STANDARD
TZOFFSETFROM:-0400
TZOFFSETTO:-0500
TZNAME:EST
DTSTART:20271107T060000
END:STANDARD
END:VTIMEZONE
BEGIN:VEVENT
DTSTART;TZID=America/New_York:20260404T103000
DTEND;TZID=America/New_York:20260404T133000
DTSTAMP:20260423T124426
CREATED:20260307T223635Z
LAST-MODIFIED:20260331T125356Z
UID:3744-1775298600-1775309400@www.gardenstatehogchapter.com
SUMMARY:Chapter Ride - Buffalo Wild Wings
DESCRIPTION:Road Captain Mark Durenberger will lead a ride to Buffalo Wild Wings on Saturday April 4th as part of the Burger Challenge.  Riders will depart the Dealership at 10:30AM\, and guests are welcome if they sign a waiver.
URL:https://www.gardenstatehogchapter.com/welcome/event/chapter-ride-buffalo-wild-wings/
LOCATION:Buffalo Wild Wings Rockaway\, 343 Mount Hope Ave\, Rockaway\, NJ\, 07866
CATEGORIES:Ride
END:VEVENT
END:VCALENDAR