BEGIN:VCALENDAR
VERSION:2.0
PRODID:-//Garden State Hog Chapter - ECPv6.15.17.1//NONSGML v1.0//EN
CALSCALE:GREGORIAN
METHOD:PUBLISH
X-WR-CALNAME:Garden State Hog Chapter
X-ORIGINAL-URL:https://www.gardenstatehogchapter.com/welcome
X-WR-CALDESC:Events for Garden State Hog Chapter
REFRESH-INTERVAL;VALUE=DURATION:PT1H
X-Robots-Tag:noindex
X-PUBLISHED-TTL:PT1H
BEGIN:VTIMEZONE
TZID:America/New_York
BEGIN:DAYLIGHT
TZOFFSETFROM:-0500
TZOFFSETTO:-0400
TZNAME:EDT
DTSTART:20240310T070000
END:DAYLIGHT
BEGIN:STANDARD
TZOFFSETFROM:-0400
TZOFFSETTO:-0500
TZNAME:EST
DTSTART:20241103T060000
END:STANDARD
BEGIN:DAYLIGHT
TZOFFSETFROM:-0500
TZOFFSETTO:-0400
TZNAME:EDT
DTSTART:20250309T070000
END:DAYLIGHT
BEGIN:STANDARD
TZOFFSETFROM:-0400
TZOFFSETTO:-0500
TZNAME:EST
DTSTART:20251102T060000
END:STANDARD
BEGIN:DAYLIGHT
TZOFFSETFROM:-0500
TZOFFSETTO:-0400
TZNAME:EDT
DTSTART:20260308T070000
END:DAYLIGHT
BEGIN:STANDARD
TZOFFSETFROM:-0400
TZOFFSETTO:-0500
TZNAME:EST
DTSTART:20261101T060000
END:STANDARD
END:VTIMEZONE
BEGIN:VEVENT
DTSTART;TZID=America/New_York:20250518T103000
DTEND;TZID=America/New_York:20250518T153000
DTSTAMP:20260424T005048
CREATED:20250423T001314Z
LAST-MODIFIED:20250513T234438Z
UID:3543-1747564200-1747582200@www.gardenstatehogchapter.com
SUMMARY:Chapter Ride - Barbara Gould Ride
DESCRIPTION:The Barbara Gould Memorial Ride will be on Sunday May 18th\, with the destination being the beautiful Shawangunk Mountains\, New York\, and will proceed John Fazio Farms and Brick Oven\, Modena\, New York\, following a brief ceremony for spreading of Barbara’s ashes. Given the length of the ride\, there will be a stop along the way. 
URL:https://www.gardenstatehogchapter.com/welcome/event/chapter-ride-barbara-gould-ride/
LOCATION:John Fazio Farms BBQ\, 1836 US-44 #55\, Modena\, NY\, 12548
CATEGORIES:Ride
END:VEVENT
END:VCALENDAR