BEGIN:VCALENDAR
VERSION:2.0
PRODID:-//Garden State Hog Chapter - ECPv6.15.17.1//NONSGML v1.0//EN
CALSCALE:GREGORIAN
METHOD:PUBLISH
X-WR-CALNAME:Garden State Hog Chapter
X-ORIGINAL-URL:https://www.gardenstatehogchapter.com/welcome
X-WR-CALDESC:Events for Garden State Hog Chapter
REFRESH-INTERVAL;VALUE=DURATION:PT1H
X-Robots-Tag:noindex
X-PUBLISHED-TTL:PT1H
BEGIN:VTIMEZONE
TZID:America/New_York
BEGIN:DAYLIGHT
TZOFFSETFROM:-0500
TZOFFSETTO:-0400
TZNAME:EDT
DTSTART:20240310T070000
END:DAYLIGHT
BEGIN:STANDARD
TZOFFSETFROM:-0400
TZOFFSETTO:-0500
TZNAME:EST
DTSTART:20241103T060000
END:STANDARD
BEGIN:DAYLIGHT
TZOFFSETFROM:-0500
TZOFFSETTO:-0400
TZNAME:EDT
DTSTART:20250309T070000
END:DAYLIGHT
BEGIN:STANDARD
TZOFFSETFROM:-0400
TZOFFSETTO:-0500
TZNAME:EST
DTSTART:20251102T060000
END:STANDARD
BEGIN:DAYLIGHT
TZOFFSETFROM:-0500
TZOFFSETTO:-0400
TZNAME:EDT
DTSTART:20260308T070000
END:DAYLIGHT
BEGIN:STANDARD
TZOFFSETFROM:-0400
TZOFFSETTO:-0500
TZNAME:EST
DTSTART:20261101T060000
END:STANDARD
END:VTIMEZONE
BEGIN:VEVENT
DTSTART;TZID=America/New_York:20250504T083000
DTEND;TZID=America/New_York:20250504T150000
DTSTAMP:20260424T005017
CREATED:20250423T002214Z
LAST-MODIFIED:20250503T204013Z
UID:3548-1746347400-1746370800@www.gardenstatehogchapter.com
SUMMARY:CANCELLED - Chapter Ride - Coopersburg Diner
DESCRIPTION:Due to the weather forecast for Sunday May 4th\, Road Captain Mark Bishop is cancelling the ride to Coopersburg. \nRoad Captain Mark Bishop will lead a ride back to Coopersburg\, PA to visit the Coopersburg Diner.  This destination was a big hit last year\, so we are bringing it back.  Riders will depart the Dealership at 8:30AM\, and guests are welcome if they sign a waiver.
URL:https://www.gardenstatehogchapter.com/welcome/event/chapter-ride-coopersburg-diner-2/
LOCATION:Coopersburg Diner\, 336 N. 3rd Street\, Coopersburg\, PA\, 18036
CATEGORIES:Ride
END:VEVENT
END:VCALENDAR