BEGIN:VCALENDAR
VERSION:2.0
PRODID:-//Garden State Hog Chapter - ECPv6.15.17.1//NONSGML v1.0//EN
CALSCALE:GREGORIAN
METHOD:PUBLISH
X-ORIGINAL-URL:https://www.gardenstatehogchapter.com/welcome
X-WR-CALDESC:Events for Garden State Hog Chapter
REFRESH-INTERVAL;VALUE=DURATION:PT1H
X-Robots-Tag:noindex
X-PUBLISHED-TTL:PT1H
BEGIN:VTIMEZONE
TZID:America/New_York
BEGIN:DAYLIGHT
TZOFFSETFROM:-0500
TZOFFSETTO:-0400
TZNAME:EDT
DTSTART:20230312T070000
END:DAYLIGHT
BEGIN:STANDARD
TZOFFSETFROM:-0400
TZOFFSETTO:-0500
TZNAME:EST
DTSTART:20231105T060000
END:STANDARD
BEGIN:DAYLIGHT
TZOFFSETFROM:-0500
TZOFFSETTO:-0400
TZNAME:EDT
DTSTART:20240310T070000
END:DAYLIGHT
BEGIN:STANDARD
TZOFFSETFROM:-0400
TZOFFSETTO:-0500
TZNAME:EST
DTSTART:20241103T060000
END:STANDARD
BEGIN:DAYLIGHT
TZOFFSETFROM:-0500
TZOFFSETTO:-0400
TZNAME:EDT
DTSTART:20250309T070000
END:DAYLIGHT
BEGIN:STANDARD
TZOFFSETFROM:-0400
TZOFFSETTO:-0500
TZNAME:EST
DTSTART:20251102T060000
END:STANDARD
END:VTIMEZONE
BEGIN:VEVENT
DTSTART;TZID=America/New_York:20241020T100000
DTEND;TZID=America/New_York:20241020T150000
DTSTAMP:20260424T091128
CREATED:20241008T234055Z
LAST-MODIFIED:20241015T231407Z
UID:3454-1729418400-1729436400@www.gardenstatehogchapter.com
SUMMARY:Chapter Ride - Lighthouse Challenge of NJ
DESCRIPTION:Road Captain MaryAlice is leading a ride to the shore as part of the Lighthouse Challenge of NJ\, on Sunday October 20.  Riders will depart the Dealership at 10:00AM\, and guests are welcome if they sign a waiver.  Lighthouse Challenge FAQs:  https://lighthousechallengenj.com/faqs%2C-a-map-and-more
URL:https://www.gardenstatehogchapter.com/welcome/event/chapter-ride-lighthouse-visit-tbd/
LOCATION:NJ
CATEGORIES:Ride
END:VEVENT
END:VCALENDAR