BEGIN:VCALENDAR
VERSION:2.0
PRODID:-//Garden State Hog Chapter - ECPv6.15.17.1//NONSGML v1.0//EN
CALSCALE:GREGORIAN
METHOD:PUBLISH
X-WR-CALNAME:Garden State Hog Chapter
X-ORIGINAL-URL:https://www.gardenstatehogchapter.com/welcome
X-WR-CALDESC:Events for Garden State Hog Chapter
REFRESH-INTERVAL;VALUE=DURATION:PT1H
X-Robots-Tag:noindex
X-PUBLISHED-TTL:PT1H
BEGIN:VTIMEZONE
TZID:America/New_York
BEGIN:DAYLIGHT
TZOFFSETFROM:-0500
TZOFFSETTO:-0400
TZNAME:EDT
DTSTART:20230312T070000
END:DAYLIGHT
BEGIN:STANDARD
TZOFFSETFROM:-0400
TZOFFSETTO:-0500
TZNAME:EST
DTSTART:20231105T060000
END:STANDARD
BEGIN:DAYLIGHT
TZOFFSETFROM:-0500
TZOFFSETTO:-0400
TZNAME:EDT
DTSTART:20240310T070000
END:DAYLIGHT
BEGIN:STANDARD
TZOFFSETFROM:-0400
TZOFFSETTO:-0500
TZNAME:EST
DTSTART:20241103T060000
END:STANDARD
BEGIN:DAYLIGHT
TZOFFSETFROM:-0500
TZOFFSETTO:-0400
TZNAME:EDT
DTSTART:20250309T070000
END:DAYLIGHT
BEGIN:STANDARD
TZOFFSETFROM:-0400
TZOFFSETTO:-0500
TZNAME:EST
DTSTART:20251102T060000
END:STANDARD
END:VTIMEZONE
BEGIN:VEVENT
DTSTART;TZID=America/New_York:20241012T100000
DTEND;TZID=America/New_York:20241012T153000
DTSTAMP:20260424T090944
CREATED:20240618T232542Z
LAST-MODIFIED:20241012T100851Z
UID:3359-1728727200-1728747000@www.gardenstatehogchapter.com
SUMMARY:Chapter Ride - Double S Smokehouse
DESCRIPTION:Road Captain Mark Durenberger will lead a scenic ride up to Double S Smokehouse in Warwick\, NY.  This is a destination change due to Nurnberger Bierhaus being closed.  Riders will depart the Dealership at 10:00AM\, and guests are welcome if they sign a waiver.  
URL:https://www.gardenstatehogchapter.com/welcome/event/chapter-ride-nurnberger-bierhaus-llama-ice-cream/
LOCATION:Double S Smokehouse Warwick\, 49 Oakland Ave.\, Warwick\, NY\, 10990
CATEGORIES:Ride
END:VEVENT
END:VCALENDAR