BEGIN:VCALENDAR
VERSION:2.0
PRODID:-//Garden State Hog Chapter - ECPv6.15.17.1//NONSGML v1.0//EN
CALSCALE:GREGORIAN
METHOD:PUBLISH
X-WR-CALNAME:Garden State Hog Chapter
X-ORIGINAL-URL:https://www.gardenstatehogchapter.com/welcome
X-WR-CALDESC:Events for Garden State Hog Chapter
REFRESH-INTERVAL;VALUE=DURATION:PT1H
X-Robots-Tag:noindex
X-PUBLISHED-TTL:PT1H
BEGIN:VTIMEZONE
TZID:America/New_York
BEGIN:DAYLIGHT
TZOFFSETFROM:-0500
TZOFFSETTO:-0400
TZNAME:EDT
DTSTART:20220313T070000
END:DAYLIGHT
BEGIN:STANDARD
TZOFFSETFROM:-0400
TZOFFSETTO:-0500
TZNAME:EST
DTSTART:20221106T060000
END:STANDARD
BEGIN:DAYLIGHT
TZOFFSETFROM:-0500
TZOFFSETTO:-0400
TZNAME:EDT
DTSTART:20230312T070000
END:DAYLIGHT
BEGIN:STANDARD
TZOFFSETFROM:-0400
TZOFFSETTO:-0500
TZNAME:EST
DTSTART:20231105T060000
END:STANDARD
BEGIN:DAYLIGHT
TZOFFSETFROM:-0500
TZOFFSETTO:-0400
TZNAME:EDT
DTSTART:20240310T070000
END:DAYLIGHT
BEGIN:STANDARD
TZOFFSETFROM:-0400
TZOFFSETTO:-0500
TZNAME:EST
DTSTART:20241103T060000
END:STANDARD
END:VTIMEZONE
BEGIN:VEVENT
DTSTART;TZID=America/New_York:20230520T110000
DTEND;TZID=America/New_York:20230520T143000
DTSTAMP:20260425T064442
CREATED:20230510T001125Z
LAST-MODIFIED:20230511T010313Z
UID:3025-1684580400-1684593000@www.gardenstatehogchapter.com
SUMMARY:Chapter Ride - The Sawmill - Pizza Challenge Ride
DESCRIPTION:Director Russell will lead a ride to The Sawmill in Seaside Park\, NJ\, which is one of our Pizza Challenge destinations.
URL:https://www.gardenstatehogchapter.com/welcome/event/chapter-ride-pizza-challenge-ride/
LOCATION:The Sawmill\, 1807 Boardwalk\, Seaside Park\, NJ\, 08752\, United States
CATEGORIES:Ride
END:VEVENT
BEGIN:VEVENT
DTSTART;TZID=America/New_York:20230520T150000
DTEND;TZID=America/New_York:20230520T160000
DTSTAMP:20260425T064442
CREATED:20230510T000606Z
LAST-MODIFIED:20230510T000606Z
UID:3023-1684594800-1684598400@www.gardenstatehogchapter.com
SUMMARY:Niagara Falls Trip Return
DESCRIPTION:Road Captain Rich Seitz and Giovi have put together a fantastic Niagara Falls trip for those Chapter members who have signed up.  They depart Wednesday May 17\, and return Saturday May 20th.  Safe travels and have a blast!
URL:https://www.gardenstatehogchapter.com/welcome/event/niagara-falls-trip-return/
LOCATION:Garden State Harley-Davidson\, 1775 Route 10 East\, Morris Plains\, NJ\, 07950\, United States
CATEGORIES:Ride
END:VEVENT
END:VCALENDAR