BEGIN:VCALENDAR
VERSION:2.0
PRODID:-//Garden State Hog Chapter - ECPv6.15.17.1//NONSGML v1.0//EN
CALSCALE:GREGORIAN
METHOD:PUBLISH
X-WR-CALNAME:Garden State Hog Chapter
X-ORIGINAL-URL:https://www.gardenstatehogchapter.com/welcome
X-WR-CALDESC:Events for Garden State Hog Chapter
REFRESH-INTERVAL;VALUE=DURATION:PT1H
X-Robots-Tag:noindex
X-PUBLISHED-TTL:PT1H
BEGIN:VTIMEZONE
TZID:America/New_York
BEGIN:DAYLIGHT
TZOFFSETFROM:-0500
TZOFFSETTO:-0400
TZNAME:EDT
DTSTART:20210314T070000
END:DAYLIGHT
BEGIN:STANDARD
TZOFFSETFROM:-0400
TZOFFSETTO:-0500
TZNAME:EST
DTSTART:20211107T060000
END:STANDARD
BEGIN:DAYLIGHT
TZOFFSETFROM:-0500
TZOFFSETTO:-0400
TZNAME:EDT
DTSTART:20220313T070000
END:DAYLIGHT
BEGIN:STANDARD
TZOFFSETFROM:-0400
TZOFFSETTO:-0500
TZNAME:EST
DTSTART:20221106T060000
END:STANDARD
BEGIN:DAYLIGHT
TZOFFSETFROM:-0500
TZOFFSETTO:-0400
TZNAME:EDT
DTSTART:20230312T070000
END:DAYLIGHT
BEGIN:STANDARD
TZOFFSETFROM:-0400
TZOFFSETTO:-0500
TZNAME:EST
DTSTART:20231105T060000
END:STANDARD
END:VTIMEZONE
BEGIN:VEVENT
DTSTART;TZID=America/New_York:20221111T103000
DTEND;TZID=America/New_York:20221111T143000
DTSTAMP:20260425T143322
CREATED:20221029T211545Z
LAST-MODIFIED:20221110T192421Z
UID:2923-1668162600-1668177000@www.gardenstatehogchapter.com
SUMMARY:Cancelled!!   Chapter Ride - Veteran's Day Ride
DESCRIPTION:Cancelled due to storm.  \n  \nRoad Captain Herb Olbrich will be leading a scenic “Wing It” Veterans Day Ride\, November 11\, 2022 to “The All Veteran’s Memorial” Turkey Brook Park\, 30 Flanders Rd\, Budd Lake\, NJ 07828\, followed by lunch at the Black River Barn.  Riders will depart the Dealership at 10:30AM\, and guests are welcome if they sign a waiver. \n 
URL:https://www.gardenstatehogchapter.com/welcome/event/chapter-ride-veterans-day-ride/
LOCATION:Black River Barn\, 1178 NJ 10\, Randolph\, NJ\, 07869
CATEGORIES:Ride
END:VEVENT
END:VCALENDAR