BEGIN:VCALENDAR
VERSION:2.0
PRODID:-//Garden State Hog Chapter - ECPv6.15.17.1//NONSGML v1.0//EN
CALSCALE:GREGORIAN
METHOD:PUBLISH
X-WR-CALNAME:Garden State Hog Chapter
X-ORIGINAL-URL:https://www.gardenstatehogchapter.com/welcome
X-WR-CALDESC:Events for Garden State Hog Chapter
REFRESH-INTERVAL;VALUE=DURATION:PT1H
X-Robots-Tag:noindex
X-PUBLISHED-TTL:PT1H
BEGIN:VTIMEZONE
TZID:America/New_York
BEGIN:DAYLIGHT
TZOFFSETFROM:-0500
TZOFFSETTO:-0400
TZNAME:EDT
DTSTART:20240310T070000
END:DAYLIGHT
BEGIN:STANDARD
TZOFFSETFROM:-0400
TZOFFSETTO:-0500
TZNAME:EST
DTSTART:20241103T060000
END:STANDARD
BEGIN:DAYLIGHT
TZOFFSETFROM:-0500
TZOFFSETTO:-0400
TZNAME:EDT
DTSTART:20250309T070000
END:DAYLIGHT
BEGIN:STANDARD
TZOFFSETFROM:-0400
TZOFFSETTO:-0500
TZNAME:EST
DTSTART:20251102T060000
END:STANDARD
BEGIN:DAYLIGHT
TZOFFSETFROM:-0500
TZOFFSETTO:-0400
TZNAME:EDT
DTSTART:20260308T070000
END:DAYLIGHT
BEGIN:STANDARD
TZOFFSETFROM:-0400
TZOFFSETTO:-0500
TZNAME:EST
DTSTART:20261101T060000
END:STANDARD
END:VTIMEZONE
BEGIN:VEVENT
DTSTART;TZID=America/New_York:20250601T103000
DTEND;TZID=America/New_York:20250601T143000
DTSTAMP:20260423T224739
CREATED:20250513T235636Z
LAST-MODIFIED:20250527T190207Z
UID:3564-1748773800-1748788200@www.gardenstatehogchapter.com
SUMMARY:Chapter Ride - Alaska Pete's
DESCRIPTION:Road Captain’s Don Lannigan and Director Rich are collaborating on a ride back out to Alaska Pete’s on Sunday June 1st.  Riders will depart from the Dealership at 10:30AM\, and guests are welcome if they sign a waiver.
URL:https://www.gardenstatehogchapter.com/welcome/event/chapter-ride-alaska-petes-3/
LOCATION:Alaska Pete’s\, 151 Seven Bridge Road\, Marshalls Creek\, PA\, 18335
CATEGORIES:Ride
END:VEVENT
BEGIN:VEVENT
DTSTART;TZID=America/New_York:20250614T080000
DTEND;TZID=America/New_York:20250614T113000
DTSTAMP:20260423T224739
CREATED:20250519T235423Z
LAST-MODIFIED:20250519T235423Z
UID:3566-1749888000-1749900600@www.gardenstatehogchapter.com
SUMMARY:Chapter Ride - Jefferson Diner Breakfast
DESCRIPTION:Road Captain Mark Durenberger is leading the group to breakfast at Jefferson Diner\, followed by the rest of the ride.  Riders will depart the Dealership at 8:00AM on June 14th\, and guests are welcome if they sign a waiver.
URL:https://www.gardenstatehogchapter.com/welcome/event/chapter-ride-jefferson-diner-breakfast/
LOCATION:Jefferson Diner\, 5 Bowling Green Pkwy # 12\, Lake Hopatcong\, NJ\, 07849
CATEGORIES:Ride
END:VEVENT
BEGIN:VEVENT
DTSTART;TZID=America/New_York:20250621T110000
DTEND;TZID=America/New_York:20250621T140000
DTSTAMP:20260423T224739
CREATED:20250609T232913Z
LAST-MODIFIED:20250610T234509Z
UID:3577-1750503600-1750514400@www.gardenstatehogchapter.com
SUMMARY:Chapter Ride - Brownstone Pancake Factory - Englewood Cliffs
DESCRIPTION:Road Captain Pete Gallios is leading a Diner Challenge ride to the Brownstone Pancake Factory in Englewood Cliffs\, NJ.  Riders will depart the Dealership at 11:00AM on Saturday June 21\, and guests are welcome if they sign a waiver.
URL:https://www.gardenstatehogchapter.com/welcome/event/chapter-ride-brownstone-pancake-factory-englewood-cliffs/
LOCATION:Brownstone Pancake Factory\, 717 E. Palisade Ave\, Englewood Cliffs\, NJ\, 07632
CATEGORIES:Ride
END:VEVENT
END:VCALENDAR