BEGIN:VCALENDAR
VERSION:2.0
PRODID:-//Garden State Hog Chapter - ECPv6.15.17.1//NONSGML v1.0//EN
CALSCALE:GREGORIAN
METHOD:PUBLISH
X-ORIGINAL-URL:https://www.gardenstatehogchapter.com/welcome
X-WR-CALDESC:Events for Garden State Hog Chapter
REFRESH-INTERVAL;VALUE=DURATION:PT1H
X-Robots-Tag:noindex
X-PUBLISHED-TTL:PT1H
BEGIN:VTIMEZONE
TZID:America/New_York
BEGIN:DAYLIGHT
TZOFFSETFROM:-0500
TZOFFSETTO:-0400
TZNAME:EDT
DTSTART:20230312T070000
END:DAYLIGHT
BEGIN:STANDARD
TZOFFSETFROM:-0400
TZOFFSETTO:-0500
TZNAME:EST
DTSTART:20231105T060000
END:STANDARD
BEGIN:DAYLIGHT
TZOFFSETFROM:-0500
TZOFFSETTO:-0400
TZNAME:EDT
DTSTART:20240310T070000
END:DAYLIGHT
BEGIN:STANDARD
TZOFFSETFROM:-0400
TZOFFSETTO:-0500
TZNAME:EST
DTSTART:20241103T060000
END:STANDARD
BEGIN:DAYLIGHT
TZOFFSETFROM:-0500
TZOFFSETTO:-0400
TZNAME:EDT
DTSTART:20250309T070000
END:DAYLIGHT
BEGIN:STANDARD
TZOFFSETFROM:-0400
TZOFFSETTO:-0500
TZNAME:EST
DTSTART:20251102T060000
END:STANDARD
END:VTIMEZONE
BEGIN:VEVENT
DTSTART;TZID=America/New_York:20241102T110000
DTEND;TZID=America/New_York:20241102T150000
DTSTAMP:20260424T062929
CREATED:20241023T000319Z
LAST-MODIFIED:20241023T000319Z
UID:3469-1730545200-1730559600@www.gardenstatehogchapter.com
SUMMARY:Chapter Ride - Pennings Farm
DESCRIPTION:On November 2nd\, Road Captain Joe Gennarelli will lead a ride up to Pennings Farm in Warwick\, NY.  Riders will depart the Dealership at 11:00AM\, and guests are welcome if they sign a waiver.
URL:https://www.gardenstatehogchapter.com/welcome/event/chapter-ride-pennings-farm/
LOCATION:Chapter Ride – Pennings Farm Market\, 161 State Route 94 South\, Warwick\, NY\, 10990
CATEGORIES:Ride
END:VEVENT
BEGIN:VEVENT
DTSTART;TZID=America/New_York:20241111T100000
DTEND;TZID=America/New_York:20241111T143000
DTSTAMP:20260424T062929
CREATED:20241008T234733Z
LAST-MODIFIED:20241106T002148Z
UID:3456-1731319200-1731335400@www.gardenstatehogchapter.com
SUMMARY:CANCELLED - Chapter Ride - Veteran's Day Ride
DESCRIPTION:This ride has been cancelled. \nRoad Captain Herb Olbrich is supporting our Veteran’s Day observation with a ride back to Brigadier General William C. Doyle Memorial Cemetery.  Riders will depart the Dealership at 10:00AM\, and guests are welcome if they sign a waiver.
URL:https://www.gardenstatehogchapter.com/welcome/event/chapter-ride-veterans-day-ride-2/
LOCATION:Brigadier General William C. Doyle Memorial Cemetery\, 350 Province Line Road\, Wrightstown\, NJ\, 08562
CATEGORIES:Ride
END:VEVENT
END:VCALENDAR