BEGIN:VCALENDAR
VERSION:2.0
PRODID:-//Garden State Hog Chapter - ECPv6.15.17.1//NONSGML v1.0//EN
CALSCALE:GREGORIAN
METHOD:PUBLISH
X-ORIGINAL-URL:https://www.gardenstatehogchapter.com/welcome
X-WR-CALDESC:Events for Garden State Hog Chapter
REFRESH-INTERVAL;VALUE=DURATION:PT1H
X-Robots-Tag:noindex
X-PUBLISHED-TTL:PT1H
BEGIN:VTIMEZONE
TZID:America/New_York
BEGIN:DAYLIGHT
TZOFFSETFROM:-0500
TZOFFSETTO:-0400
TZNAME:EDT
DTSTART:20230312T070000
END:DAYLIGHT
BEGIN:STANDARD
TZOFFSETFROM:-0400
TZOFFSETTO:-0500
TZNAME:EST
DTSTART:20231105T060000
END:STANDARD
BEGIN:DAYLIGHT
TZOFFSETFROM:-0500
TZOFFSETTO:-0400
TZNAME:EDT
DTSTART:20240310T070000
END:DAYLIGHT
BEGIN:STANDARD
TZOFFSETFROM:-0400
TZOFFSETTO:-0500
TZNAME:EST
DTSTART:20241103T060000
END:STANDARD
BEGIN:DAYLIGHT
TZOFFSETFROM:-0500
TZOFFSETTO:-0400
TZNAME:EDT
DTSTART:20250309T070000
END:DAYLIGHT
BEGIN:STANDARD
TZOFFSETFROM:-0400
TZOFFSETTO:-0500
TZNAME:EST
DTSTART:20251102T060000
END:STANDARD
END:VTIMEZONE
BEGIN:VEVENT
DTSTART;TZID=America/New_York:20240504T090000
DTEND;TZID=America/New_York:20240504T140000
DTSTAMP:20260424T134944
CREATED:20240207T002350Z
LAST-MODIFIED:20240314T002252Z
UID:3243-1714813200-1714831200@www.gardenstatehogchapter.com
SUMMARY:Celebrate The Children Charity Ride
DESCRIPTION:Charity ride in support of the Celebrate the Children school in Denville\, NJ.
URL:https://www.gardenstatehogchapter.com/welcome/event/celebrate-the-children-charity-ride-to-be-confirmed/
LOCATION:Garden State Harley-Davidson\, 1775 Route 10 East\, Morris Plains\, NJ\, 07950\, United States
CATEGORIES:Ride
END:VEVENT
BEGIN:VEVENT
DTSTART;TZID=America/New_York:20240511T110000
DTEND;TZID=America/New_York:20240511T150000
DTSTAMP:20260424T134944
CREATED:20240508T001340Z
LAST-MODIFIED:20240508T001340Z
UID:3312-1715425200-1715439600@www.gardenstatehogchapter.com
SUMMARY:Chapter Ride - Round Valley Reservoir & Willie McBride's
DESCRIPTION:Head Road Captain Barbara Gould will be leading a ride down south to Round Valley Reservoir\, and to the Irish restaurant Willie McBride’s in Branchburg.  Riders will depart the Dealership after the Chapter Meeting\, at 11AM.  Guests are welcome to join if they sign a waiver.
URL:https://www.gardenstatehogchapter.com/welcome/event/chapter-ride-round-valley-reservoir-willie-mcbrides/
LOCATION:Willie McBride’s\, 1270 Eastern Turnpike\, Branchburg\, NJ\, 08876
CATEGORIES:Ride
END:VEVENT
BEGIN:VEVENT
DTSTART;TZID=America/New_York:20240518T080000
DTEND;TZID=America/New_York:20240524T170000
DTSTAMP:20260424T134944
CREATED:20240401T223553Z
LAST-MODIFIED:20240401T223553Z
UID:3294-1716019200-1716570000@www.gardenstatehogchapter.com
SUMMARY:Nashville Overnight Trip
DESCRIPTION:Road Captain Rich Seitz will lead the way to Nashville\, TN for an epic overnight trip.  Chapter members and guests who have joined at least 3 Chapter Rides this year of 50+ miles will be departing from the Dealership at 8AM.  The riders return on Friday 
URL:https://www.gardenstatehogchapter.com/welcome/event/nashville-overnight-trip/
LOCATION:NJ
CATEGORIES:Ride
END:VEVENT
BEGIN:VEVENT
DTSTART;TZID=America/New_York:20240527T100000
DTEND;TZID=America/New_York:20240527T143000
DTSTAMP:20260424T134944
CREATED:20240514T233740Z
LAST-MODIFIED:20240526T184928Z
UID:3316-1716804000-1716820200@www.gardenstatehogchapter.com
SUMMARY:CANCELLED - Chapter Ride - Memorial Day Ride
DESCRIPTION:Due to weather forecast for tomorrow\, this ride has been cancelled. \nRoad Captain Herb Olbrich will lead a return ride to the impressive Brigadier General William C. Doyle Memorial Cemetery in Wrightstown\, NJ.  Riders will depart the Dealership at 10AM.  Guests are welcome to join if they sign a waiver.
URL:https://www.gardenstatehogchapter.com/welcome/event/chapter-ride-memorial-day-ride-to-brigadier-general-william-c-doyle-memorial-cemetary/
LOCATION:Brigadier General William C. Doyle Memorial Cemetery\, 350 Province Line Road\, Wrightstown\, NJ\, 08562
CATEGORIES:Ride
END:VEVENT
END:VCALENDAR