BEGIN:VCALENDAR
VERSION:2.0
PRODID:-//Garden State Hog Chapter - ECPv6.15.17.1//NONSGML v1.0//EN
CALSCALE:GREGORIAN
METHOD:PUBLISH
X-WR-CALNAME:Garden State Hog Chapter
X-ORIGINAL-URL:https://www.gardenstatehogchapter.com/welcome
X-WR-CALDESC:Events for Garden State Hog Chapter
REFRESH-INTERVAL;VALUE=DURATION:PT1H
X-Robots-Tag:noindex
X-PUBLISHED-TTL:PT1H
BEGIN:VTIMEZONE
TZID:America/New_York
BEGIN:DAYLIGHT
TZOFFSETFROM:-0500
TZOFFSETTO:-0400
TZNAME:EDT
DTSTART:20230312T070000
END:DAYLIGHT
BEGIN:STANDARD
TZOFFSETFROM:-0400
TZOFFSETTO:-0500
TZNAME:EST
DTSTART:20231105T060000
END:STANDARD
BEGIN:DAYLIGHT
TZOFFSETFROM:-0500
TZOFFSETTO:-0400
TZNAME:EDT
DTSTART:20240310T070000
END:DAYLIGHT
BEGIN:STANDARD
TZOFFSETFROM:-0400
TZOFFSETTO:-0500
TZNAME:EST
DTSTART:20241103T060000
END:STANDARD
BEGIN:DAYLIGHT
TZOFFSETFROM:-0500
TZOFFSETTO:-0400
TZNAME:EDT
DTSTART:20250309T070000
END:DAYLIGHT
BEGIN:STANDARD
TZOFFSETFROM:-0400
TZOFFSETTO:-0500
TZNAME:EST
DTSTART:20251102T060000
END:STANDARD
END:VTIMEZONE
BEGIN:VEVENT
DTSTART;TZID=America/New_York:20240406T113000
DTEND;TZID=America/New_York:20240406T150000
DTSTAMP:20260424T145501
CREATED:20240306T005446Z
LAST-MODIFIED:20240401T215842Z
UID:3258-1712403000-1712415600@www.gardenstatehogchapter.com
SUMMARY:Chapter Ride - Nomad Pizza
DESCRIPTION:Our first Chapter Ride of the 2024 Season.  Dr. Jax will lead the way back to Nomad Pizza in Princeton\, NJ.  Riders will depart the Dealership at 11:30\, and guests are welcome if they sign a waiver.
URL:https://www.gardenstatehogchapter.com/welcome/event/chapter-ride-nomad-pizza-2/
LOCATION:Nomad Pizza\, 301 N. Harrison St.\, Princeton\, NJ\, 08540
CATEGORIES:Ride
END:VEVENT
BEGIN:VEVENT
DTSTART;TZID=America/New_York:20240407T110000
DTEND;TZID=America/New_York:20240407T150000
DTSTAMP:20260424T145501
CREATED:20240306T005639Z
LAST-MODIFIED:20240401T220308Z
UID:3260-1712487600-1712502000@www.gardenstatehogchapter.com
SUMMARY:Chapter Ride - Riverside Bar & Grill
DESCRIPTION:Road Captain MaryAlice will lead this Chapter ride to Riverside Bar & Grill in Easton\, PA.  Riders will depart the Dealership at 11:00\, and guests are welcome if they sign a waiver.
URL:https://www.gardenstatehogchapter.com/welcome/event/chapter-ride-riverside-bar-grill/
LOCATION:Riverside Bar & Grill\, 5801 North Delaware Drive\, Easton\, PA\, 18040
CATEGORIES:Ride
END:VEVENT
BEGIN:VEVENT
DTSTART;TZID=America/New_York:20240413T110000
DTEND;TZID=America/New_York:20240413T150000
DTSTAMP:20260424T145501
CREATED:20240306T010058Z
LAST-MODIFIED:20240401T220559Z
UID:3262-1713006000-1713020400@www.gardenstatehogchapter.com
SUMMARY:Chapter Ride - Marley's Gotham Grill
DESCRIPTION:We’re starting the Wing Challenge early\, and a great place to kick it off is Marley’s in Hackettstown\, NJ.  Director Russell is our Road Captain\, and riders will depart the Dealership at 11:00\, and guests are welcome if they sign a waiver.
URL:https://www.gardenstatehogchapter.com/welcome/event/chapter-ride-marleys-gotham-grill-3/
LOCATION:Marley’s Gotham Grill\, 169 Main Street\, Hackettstown\, NJ\, 07840\, United States
CATEGORIES:Ride
END:VEVENT
BEGIN:VEVENT
DTSTART;TZID=America/New_York:20240414T110000
DTEND;TZID=America/New_York:20240414T153000
DTSTAMP:20260424T145501
CREATED:20240306T010524Z
LAST-MODIFIED:20240403T010901Z
UID:3264-1713092400-1713108600@www.gardenstatehogchapter.com
SUMMARY:Chapter Ride - Rockaway River Barn
DESCRIPTION:Garden State HOG will take the long way round to Rockaway River Barn on Green Pond Road.  Road Captain Mark Durenberger leads the way.  Riders will depart the Dealership at 11:00\, and guests are welcome if they sign a waiver.
URL:https://www.gardenstatehogchapter.com/welcome/event/chapter-ride-moores-tavern/
LOCATION:Rockaway River Barn\, 11 Green Pond Road\, Rockaway\, NJ\, 07866
CATEGORIES:Ride
END:VEVENT
BEGIN:VEVENT
DTSTART;TZID=America/New_York:20240420T110000
DTEND;TZID=America/New_York:20240420T150000
DTSTAMP:20260424T145501
CREATED:20240306T010910Z
LAST-MODIFIED:20240401T221151Z
UID:3267-1713610800-1713625200@www.gardenstatehogchapter.com
SUMMARY:Chapter Ride - Artie's Bar & Grill
DESCRIPTION:Doug Ryan will be Road Captain for the Chapter ride to Artie’s Bar & Grill in Frenchtown\, NJ.  Riders will depart the Dealership at 11:00\, and guests are welcome if they sign a waiver.
URL:https://www.gardenstatehogchapter.com/welcome/event/chapter-ride-arties-bar-grill-2/
LOCATION:Artie’s Bar and Grill\, 1121 State Rt. 12\, Frenchtown\, NJ\, 08825
CATEGORIES:Ride
END:VEVENT
BEGIN:VEVENT
DTSTART;TZID=America/New_York:20240421T090000
DTEND;TZID=America/New_York:20240421T170000
DTSTAMP:20260424T145501
CREATED:20240306T011153Z
LAST-MODIFIED:20240417T001916Z
UID:3269-1713690000-1713718800@www.gardenstatehogchapter.com
SUMMARY:Chapter Ride - Woodstock\, Bethel\, NY
DESCRIPTION:Road Captain Debbie Ryan will lead a ride to Woodstock NY as a great tune up for the Nashville ride.  Riders will depart the Dealership at 9:00\, and guests are welcome if they sign a waiver.  The group will stop at the site of the music festival & monument\, and then go over to Museum. There is a cafe/cafeteria (cashless) ~ menu looks fine and for those museum goers they can pay to visit; approximately $22 a ticket. The route will be avoid highway on the way up to Bethel.  It is a beautiful area for riding.
URL:https://www.gardenstatehogchapter.com/welcome/event/chapter-ride-woodstock-ny/
LOCATION:Museum at Bethel Woods\, 200 Hurd Rd.\, Bethel\, NY\, 12720
CATEGORIES:Ride
END:VEVENT
BEGIN:VEVENT
DTSTART;TZID=America/New_York:20240427T103000
DTEND;TZID=America/New_York:20240427T150000
DTSTAMP:20260424T145501
CREATED:20240306T011449Z
LAST-MODIFIED:20240306T011449Z
UID:3271-1714213800-1714230000@www.gardenstatehogchapter.com
SUMMARY:Chapter Ride - Blairstown Inn
DESCRIPTION:Road Captain Mark Chizmadia will lead the way to The Blairstown Inn.  Riders will depart the Dealership at 10:30\, and guests are welcome to join if they sign a waiver.
URL:https://www.gardenstatehogchapter.com/welcome/event/chapter-ride-blairstown-inn-2/
LOCATION:Blairstown Inn\, 70 NJ-94\, Blairstown\, NJ\, 07825
CATEGORIES:Ride
END:VEVENT
END:VCALENDAR