BEGIN:VCALENDAR
VERSION:2.0
PRODID:-//Garden State Hog Chapter - ECPv6.15.17.1//NONSGML v1.0//EN
CALSCALE:GREGORIAN
METHOD:PUBLISH
X-WR-CALNAME:Garden State Hog Chapter
X-ORIGINAL-URL:https://www.gardenstatehogchapter.com/welcome
X-WR-CALDESC:Events for Garden State Hog Chapter
REFRESH-INTERVAL;VALUE=DURATION:PT1H
X-Robots-Tag:noindex
X-PUBLISHED-TTL:PT1H
BEGIN:VTIMEZONE
TZID:America/New_York
BEGIN:DAYLIGHT
TZOFFSETFROM:-0500
TZOFFSETTO:-0400
TZNAME:EDT
DTSTART:20210314T070000
END:DAYLIGHT
BEGIN:STANDARD
TZOFFSETFROM:-0400
TZOFFSETTO:-0500
TZNAME:EST
DTSTART:20211107T060000
END:STANDARD
BEGIN:DAYLIGHT
TZOFFSETFROM:-0500
TZOFFSETTO:-0400
TZNAME:EDT
DTSTART:20220313T070000
END:DAYLIGHT
BEGIN:STANDARD
TZOFFSETFROM:-0400
TZOFFSETTO:-0500
TZNAME:EST
DTSTART:20221106T060000
END:STANDARD
BEGIN:DAYLIGHT
TZOFFSETFROM:-0500
TZOFFSETTO:-0400
TZNAME:EDT
DTSTART:20230312T070000
END:DAYLIGHT
BEGIN:STANDARD
TZOFFSETFROM:-0400
TZOFFSETTO:-0500
TZNAME:EST
DTSTART:20231105T060000
END:STANDARD
END:VTIMEZONE
BEGIN:VEVENT
DTSTART;TZID=America/New_York:20221204T083000
DTEND;TZID=America/New_York:20221204T140000
DTSTAMP:20260425T115418
CREATED:20221130T020900Z
LAST-MODIFIED:20221130T020900Z
UID:2937-1670142600-1670162400@www.gardenstatehogchapter.com
SUMMARY:Blue Knights Toys for Tots Motorcycle Christmas Run
DESCRIPTION:The annual Blue Knights Toys for Tots Motorcycle Christmas Run is December 4th\, and Director Russell is inviting Chapter Members to join in on the police escorted run to Rockefeller Center. Riders will meet at the Dealership at 8:30 for instructions\, with kickstands up at 8:45 to head to the ride launch. Cost is $25 per rider\, $15 per passenger\, and each attendee should bring an unopened\, unwrapped toy (no stuffed animals).
URL:https://www.gardenstatehogchapter.com/welcome/event/blue-knights-toys-for-tots-motorcycle-christmas-run/
LOCATION:Garden State Harley-Davidson\, 1775 Route 10 East\, Morris Plains\, NJ\, 07950\, United States
CATEGORIES:Ride
END:VEVENT
END:VCALENDAR