BEGIN:VCALENDAR
VERSION:2.0
PRODID:-//Garden State Hog Chapter - ECPv6.15.17.1//NONSGML v1.0//EN
CALSCALE:GREGORIAN
METHOD:PUBLISH
X-ORIGINAL-URL:https://www.gardenstatehogchapter.com/welcome
X-WR-CALDESC:Events for Garden State Hog Chapter
REFRESH-INTERVAL;VALUE=DURATION:PT1H
X-Robots-Tag:noindex
X-PUBLISHED-TTL:PT1H
BEGIN:VTIMEZONE
TZID:America/New_York
BEGIN:DAYLIGHT
TZOFFSETFROM:-0500
TZOFFSETTO:-0400
TZNAME:EDT
DTSTART:20210314T070000
END:DAYLIGHT
BEGIN:STANDARD
TZOFFSETFROM:-0400
TZOFFSETTO:-0500
TZNAME:EST
DTSTART:20211107T060000
END:STANDARD
BEGIN:DAYLIGHT
TZOFFSETFROM:-0500
TZOFFSETTO:-0400
TZNAME:EDT
DTSTART:20220313T070000
END:DAYLIGHT
BEGIN:STANDARD
TZOFFSETFROM:-0400
TZOFFSETTO:-0500
TZNAME:EST
DTSTART:20221106T060000
END:STANDARD
BEGIN:DAYLIGHT
TZOFFSETFROM:-0500
TZOFFSETTO:-0400
TZNAME:EDT
DTSTART:20230312T070000
END:DAYLIGHT
BEGIN:STANDARD
TZOFFSETFROM:-0400
TZOFFSETTO:-0500
TZNAME:EST
DTSTART:20231105T060000
END:STANDARD
END:VTIMEZONE
BEGIN:VEVENT
DTSTART;TZID=America/New_York:20220501T110000
DTEND;TZID=America/New_York:20220501T143000
DTSTAMP:20260425T215645
CREATED:20220425T145049Z
LAST-MODIFIED:20220425T145049Z
UID:2726-1651402800-1651415400@www.gardenstatehogchapter.com
SUMMARY:Chapter Ride - Annabels Pizza in Unionville\, NY
DESCRIPTION:Head Road Captain Doug Ryan will lead a ride to “Annabels Pizza” in Unionville\, NY.  KSU 11:00 at the Dealership.  Guests are welcome to join if they sign a waiver.
URL:https://www.gardenstatehogchapter.com/welcome/event/chapter-ride-annabels-pizza-in-unionville-ny/
LOCATION:Annabels Pizza\, 6 Main Street\, Unionville\, NY\, 10988
CATEGORIES:Ride
END:VEVENT
BEGIN:VEVENT
DTSTART;TZID=America/New_York:20220507T110000
DTEND;TZID=America/New_York:20220507T143000
DTSTAMP:20260425T215645
CREATED:20220425T145517Z
LAST-MODIFIED:20220505T204645Z
UID:2729-1651921200-1651933800@www.gardenstatehogchapter.com
SUMMARY:*** CANCELLED*** Williams H-D Spring Open House
DESCRIPTION:Due to weather\, the Williams Spring Open House is cancelled.  
URL:https://www.gardenstatehogchapter.com/welcome/event/williams-h-d-spring-open-house/
LOCATION:Williams H-D\, 1100 US-22\, Lebanon\, NJ\, 08833\, United States
CATEGORIES:Dealership Event,Ride
END:VEVENT
BEGIN:VEVENT
DTSTART;TZID=America/New_York:20220514T083000
DTEND;TZID=America/New_York:20220514T133000
DTSTAMP:20260425T215645
CREATED:20220316T235150Z
LAST-MODIFIED:20220503T232718Z
UID:2702-1652517000-1652535000@www.gardenstatehogchapter.com
SUMMARY:Celebrate The Children Ride
DESCRIPTION:Annual Ride For Autism\, supporting Celebrate The Children School.  Food\, Music & More. \nRiders $20\, Passengers $15. \nFree T-Shirt for first 50 Registrants.
URL:https://www.gardenstatehogchapter.com/welcome/event/celebrate-the-children-ride/
LOCATION:Garden State Harley-Davidson\, 1775 Route 10 East\, Morris Plains\, NJ\, 07950\, United States
CATEGORIES:Ride
END:VEVENT
BEGIN:VEVENT
DTSTART;TZID=America/New_York:20220515T110000
DTEND;TZID=America/New_York:20220515T143000
DTSTAMP:20260425T215645
CREATED:20220410T120227Z
LAST-MODIFIED:20220505T203313Z
UID:2714-1652612400-1652625000@www.gardenstatehogchapter.com
SUMMARY:Chapter Ride - Blairstown Inn
DESCRIPTION:Head Road Captain Doug Ryan will lead a ride to Blairstown Inn\, in Blairstown\, NJ.  Kickstands up at 11AM.  Guests are welcome if they sign a waiver.
URL:https://www.gardenstatehogchapter.com/welcome/event/chapter-ride-donnas-runway-cafe/
LOCATION:Blairstown Inn\, 70 NJ-94\, Blairstown\, NJ\, 07825
CATEGORIES:Ride
END:VEVENT
BEGIN:VEVENT
DTSTART;TZID=America/New_York:20220521T110000
DTEND;TZID=America/New_York:20220521T150000
DTSTAMP:20260425T215645
CREATED:20220410T120828Z
LAST-MODIFIED:20220410T120828Z
UID:2717-1653130800-1653145200@www.gardenstatehogchapter.com
SUMMARY:Chapter Ride - Sugar Loaf\, NY
DESCRIPTION:Road Captain Russ Hall will lead a ride up to Sugar Loaf\, NY.  Restaurant destination TBD.  Kickstands up at 11AM.  Guests are welcome if they sign a waiver.
URL:https://www.gardenstatehogchapter.com/welcome/event/chapter-ride-sugar-loaf-ny/
LOCATION:NJ
CATEGORIES:Ride
END:VEVENT
BEGIN:VEVENT
DTSTART;TZID=America/New_York:20220522T110000
DTEND;TZID=America/New_York:20220522T150000
DTSTAMP:20260425T215645
CREATED:20220511T231721Z
LAST-MODIFIED:20220511T231721Z
UID:2740-1653217200-1653231600@www.gardenstatehogchapter.com
SUMMARY:Chapter Ride - Buck Hill Brewery
DESCRIPTION:Road Captain Barbara Gould will lead a ride to Blairstown\, NJ to visit the scenic Buck Hill Brewery.  Riders will depart the Dealership at 11AM.  Guests are welcome to join if they sign a waiver.
URL:https://www.gardenstatehogchapter.com/welcome/event/chapter-ride-buck-hill-brewery-2/
LOCATION:Buck Hill Brewery\, 45 State Route 94\, Blairstown\, NJ\, 07825
CATEGORIES:Ride
END:VEVENT
BEGIN:VEVENT
DTSTART;TZID=America/New_York:20220528T074500
DTEND;TZID=America/New_York:20220528T103000
DTSTAMP:20260425T215645
CREATED:20220511T233523Z
LAST-MODIFIED:20220513T141709Z
UID:2742-1653723900-1653733800@www.gardenstatehogchapter.com
SUMMARY:Memorial Day Parade - Morris Plains
DESCRIPTION:The Chapter has been invited to participate in the Memorial Day Parade again.  We have had several from the Chapter commit\, but all are welcome to represent our fine organization.  Riders will depart the Dealership at 8:30 to head down the road to the parade.
URL:https://www.gardenstatehogchapter.com/welcome/event/memorial-day-parade-morris-plains/
LOCATION:Morris Plains Parade\, Morris Plains\, NJ
CATEGORIES:Ride
END:VEVENT
END:VCALENDAR