BEGIN:VCALENDAR
VERSION:2.0
PRODID:-//Garden State Hog Chapter - ECPv6.15.17.1//NONSGML v1.0//EN
CALSCALE:GREGORIAN
METHOD:PUBLISH
X-WR-CALNAME:Garden State Hog Chapter
X-ORIGINAL-URL:https://www.gardenstatehogchapter.com/welcome
X-WR-CALDESC:Events for Garden State Hog Chapter
REFRESH-INTERVAL;VALUE=DURATION:PT1H
X-Robots-Tag:noindex
X-PUBLISHED-TTL:PT1H
BEGIN:VTIMEZONE
TZID:America/New_York
BEGIN:DAYLIGHT
TZOFFSETFROM:-0500
TZOFFSETTO:-0400
TZNAME:EDT
DTSTART:20160313T070000
END:DAYLIGHT
BEGIN:STANDARD
TZOFFSETFROM:-0400
TZOFFSETTO:-0500
TZNAME:EST
DTSTART:20161106T060000
END:STANDARD
BEGIN:DAYLIGHT
TZOFFSETFROM:-0500
TZOFFSETTO:-0400
TZNAME:EDT
DTSTART:20170312T070000
END:DAYLIGHT
BEGIN:STANDARD
TZOFFSETFROM:-0400
TZOFFSETTO:-0500
TZNAME:EST
DTSTART:20171105T060000
END:STANDARD
BEGIN:DAYLIGHT
TZOFFSETFROM:-0500
TZOFFSETTO:-0400
TZNAME:EDT
DTSTART:20180311T070000
END:DAYLIGHT
BEGIN:STANDARD
TZOFFSETFROM:-0400
TZOFFSETTO:-0500
TZNAME:EST
DTSTART:20181104T060000
END:STANDARD
BEGIN:DAYLIGHT
TZOFFSETFROM:-0500
TZOFFSETTO:-0400
TZNAME:EDT
DTSTART:20190310T070000
END:DAYLIGHT
BEGIN:STANDARD
TZOFFSETFROM:-0400
TZOFFSETTO:-0500
TZNAME:EST
DTSTART:20191103T060000
END:STANDARD
BEGIN:DAYLIGHT
TZOFFSETFROM:-0500
TZOFFSETTO:-0400
TZNAME:EDT
DTSTART:20200308T070000
END:DAYLIGHT
BEGIN:STANDARD
TZOFFSETFROM:-0400
TZOFFSETTO:-0500
TZNAME:EST
DTSTART:20201101T060000
END:STANDARD
END:VTIMEZONE
BEGIN:VEVENT
DTSTART;TZID=America/New_York:20191116T100000
DTEND;TZID=America/New_York:20191116T110000
DTSTAMP:20260423T190837
CREATED:20191027T194129Z
LAST-MODIFIED:20191027T194129Z
UID:2258-1573898400-1573902000@www.gardenstatehogchapter.com
SUMMARY:November General Chapter Meeting
DESCRIPTION:Members and guests are welcome to join our monthly General Chapter Meeting at the Dealership.
URL:https://www.gardenstatehogchapter.com/welcome/event/november-general-chapter-meeting/
LOCATION:Garden State Harley-Davidson\, 1775 Route 10 East\, Morris Plains\, NJ\, 07950\, United States
CATEGORIES:Meeting
END:VEVENT
BEGIN:VEVENT
DTSTART;TZID=America/New_York:20191026T100000
DTEND;TZID=America/New_York:20191026T110000
DTSTAMP:20260423T190837
CREATED:20191004T015038Z
LAST-MODIFIED:20191004T015038Z
UID:2240-1572084000-1572087600@www.gardenstatehogchapter.com
SUMMARY:October General Chapter Meeting
DESCRIPTION:Chapter Members are invited to discuss upcoming events\, hear guest speakers\, and catch up with friends.  Saturday at 10AM at the Dealership.
URL:https://www.gardenstatehogchapter.com/welcome/event/october-general-chapter-meeting/
LOCATION:Garden State Harley-Davidson\, 1775 Route 10 East\, Morris Plains\, NJ\, 07950\, United States
CATEGORIES:Meeting
END:VEVENT
BEGIN:VEVENT
DTSTART;TZID=America/New_York:20190921T100000
DTEND;TZID=America/New_York:20190921T110000
DTSTAMP:20260423T190837
CREATED:20190730T235622Z
LAST-MODIFIED:20190915T111641Z
UID:2179-1569060000-1569063600@www.gardenstatehogchapter.com
SUMMARY:September General Chapter Meeting
DESCRIPTION:Join fellow Chapter members to review upcoming rides & events.  Location is Garden State H-D in the upstairs meeting area.  Special guest at our Chapter meeting will be Lauren Blaszak\, Celebrate the Children School. 
URL:https://www.gardenstatehogchapter.com/welcome/event/september-general-chapter-meeting/
LOCATION:Garden State Harley-Davidson\, 1775 Route 10 East\, Morris Plains\, NJ\, 07950\, United States
CATEGORIES:Meeting
END:VEVENT
BEGIN:VEVENT
DTSTART;TZID=America/New_York:20190817T100000
DTEND;TZID=America/New_York:20190817T110000
DTSTAMP:20260423T190837
CREATED:20190605T224220Z
LAST-MODIFIED:20190605T224440Z
UID:2123-1566036000-1566039600@www.gardenstatehogchapter.com
SUMMARY:General Chapter Meeting
DESCRIPTION:Our monthly Chapter Meeting to discuss planned rides\, fundraisers and other Garden State HOG activities.
URL:https://www.gardenstatehogchapter.com/welcome/event/general-chapter-meeting-12/
LOCATION:Garden State Harley-Davidson\, 1775 Route 10 East\, Morris Plains\, NJ\, 07950\, United States
CATEGORIES:Meeting
END:VEVENT
BEGIN:VEVENT
DTSTART;TZID=America/New_York:20190615T100000
DTEND;TZID=America/New_York:20190615T110000
DTSTAMP:20260423T190837
CREATED:20190605T023640Z
LAST-MODIFIED:20190605T224318Z
UID:2117-1560592800-1560596400@www.gardenstatehogchapter.com
SUMMARY:June General Chapter Meeting
DESCRIPTION:Our monthly Chapter Meeting to discuss planned rides\, fundraisers and other Garden State HOG activities.
URL:https://www.gardenstatehogchapter.com/welcome/event/june-general-chapter-meeting/
LOCATION:Garden State Harley-Davidson\, 1775 Route 10 East\, Morris Plains\, NJ\, 07950\, United States
CATEGORIES:Meeting
END:VEVENT
BEGIN:VEVENT
DTSTART;TZID=America/New_York:20190615T090000
DTEND;TZID=America/New_York:20190615T100000
DTSTAMP:20260423T190837
CREATED:20190604T015653Z
LAST-MODIFIED:20190604T015653Z
UID:2105-1560589200-1560592800@www.gardenstatehogchapter.com
SUMMARY:Vermont Iron Adventure Planning Meeting
DESCRIPTION:A meeting before the General Meeting to focus on all things Okemo Vermont trip.  Start time is 9AM at the Dealership.
URL:https://www.gardenstatehogchapter.com/welcome/event/vermont-iron-adventure-planning-meeting/
LOCATION:Garden State Harley-Davidson\, 1775 Route 10 East\, Morris Plains\, NJ\, 07950\, United States
CATEGORIES:Meeting
END:VEVENT
BEGIN:VEVENT
DTSTART;TZID=America/New_York:20190420T093000
DTEND;TZID=America/New_York:20190420T103000
DTSTAMP:20260423T190837
CREATED:20190217T151958Z
LAST-MODIFIED:20190420T113435Z
UID:1974-1555752600-1555756200@www.gardenstatehogchapter.com
SUMMARY:General Chapter Meeting - Early Start - Still On!
DESCRIPTION:Chapter membership meeting at the Dealership
URL:https://www.gardenstatehogchapter.com/welcome/event/general-chapter-meeting-early-start/
LOCATION:Garden State Harley-Davidson\, 1775 Route 10 East\, Morris Plains\, NJ\, 07950\, United States
CATEGORIES:Meeting
END:VEVENT
BEGIN:VEVENT
DTSTART;TZID=America/New_York:20190316T100000
DTEND;TZID=America/New_York:20190316T110000
DTSTAMP:20260423T190837
CREATED:20190217T151254Z
LAST-MODIFIED:20190217T151254Z
UID:1971-1552730400-1552734000@www.gardenstatehogchapter.com
SUMMARY:General Chapter Meeting
DESCRIPTION:Chapter membership meeting at the Dealership
URL:https://www.gardenstatehogchapter.com/welcome/event/general-chapter-meeting-11/
LOCATION:Garden State Harley-Davidson\, 1775 Route 10 East\, Morris Plains\, NJ\, 07950\, United States
CATEGORIES:Meeting
END:VEVENT
BEGIN:VEVENT
DTSTART;TZID=America/New_York:20190216T100000
DTEND;TZID=America/New_York:20190216T110000
DTSTAMP:20260423T190837
CREATED:20190120T114313Z
LAST-MODIFIED:20190120T114313Z
UID:1952-1550311200-1550314800@www.gardenstatehogchapter.com
SUMMARY:General Chapter Meeting
DESCRIPTION:Garden State HOG Chapter meeting at the dealership.  Hope to see you there.
URL:https://www.gardenstatehogchapter.com/welcome/event/general-chapter-meeting-10/
LOCATION:Garden State Harley-Davidson\, 1775 Route 10 East\, Morris Plains\, NJ\, 07950\, United States
CATEGORIES:Meeting
END:VEVENT
BEGIN:VEVENT
DTSTART;TZID=America/New_York:20190119T100000
DTEND;TZID=America/New_York:20190119T110000
DTSTAMP:20260423T190837
CREATED:20181118T124549Z
LAST-MODIFIED:20181118T124549Z
UID:1894-1547892000-1547895600@www.gardenstatehogchapter.com
SUMMARY:General Chapter Membership Meeting
DESCRIPTION:Join us at the Dealership to review 2019 plans\, pay your Chapter dues and reconnect with fellow members
URL:https://www.gardenstatehogchapter.com/welcome/event/general-chapter-membership-meeting-4/
LOCATION:Garden State Harley-Davidson\, 1775 Route 10 East\, Morris Plains\, NJ\, 07950\, United States
CATEGORIES:Meeting
END:VEVENT
BEGIN:VEVENT
DTSTART;TZID=America/New_York:20190119T090000
DTEND;TZID=America/New_York:20190119T100000
DTSTAMP:20260423T190837
CREATED:20181124T125103Z
LAST-MODIFIED:20181124T125103Z
UID:1900-1547888400-1547892000@www.gardenstatehogchapter.com
SUMMARY:Breakfast at Garden State - Pre-meeting Fuel
DESCRIPTION:Join us an hour early\, ahead of the General Chapter Meeting\, for breakfast and fellowship.
URL:https://www.gardenstatehogchapter.com/welcome/event/breakfast-at-garden-state-pre-meeting-fuel/
LOCATION:Garden State Harley-Davidson\, 1775 Route 10 East\, Morris Plains\, NJ\, 07950\, United States
CATEGORIES:Meeting
END:VEVENT
BEGIN:VEVENT
DTSTART;TZID=America/New_York:20181117T100000
DTEND;TZID=America/New_York:20181117T110000
DTSTAMP:20260423T190837
CREATED:20181028T150321Z
LAST-MODIFIED:20181028T150321Z
UID:1875-1542448800-1542452400@www.gardenstatehogchapter.com
SUMMARY:General Membership Chapter Meeting
DESCRIPTION:
URL:https://www.gardenstatehogchapter.com/welcome/event/general-membership-chapter-meeting/
LOCATION:Garden State Harley-Davidson\, 1775 Route 10 East\, Morris Plains\, NJ\, 07950\, United States
CATEGORIES:Meeting
END:VEVENT
BEGIN:VEVENT
DTSTART;TZID=America/New_York:20181027T100000
DTEND;TZID=America/New_York:20181027T110000
DTSTAMP:20260423T190837
CREATED:20180905T155757Z
LAST-MODIFIED:20180905T155757Z
UID:1823-1540634400-1540638000@www.gardenstatehogchapter.com
SUMMARY:General Membership Meeting
DESCRIPTION:Chapter members are invited to attend our monthly meeting to discuss rides and other planned activities.
URL:https://www.gardenstatehogchapter.com/welcome/event/general-membership-meeting-9/
LOCATION:Garden State Harley-Davidson\, 1775 Route 10 East\, Morris Plains\, NJ\, 07950\, United States
CATEGORIES:Meeting
END:VEVENT
BEGIN:VEVENT
DTSTART;TZID=America/New_York:20180922T100000
DTEND;TZID=America/New_York:20180922T110000
DTSTAMP:20260423T190837
CREATED:20180905T155357Z
LAST-MODIFIED:20180905T155357Z
UID:1821-1537610400-1537614000@www.gardenstatehogchapter.com
SUMMARY:General Chapter Membership Meeting
DESCRIPTION:The Chapter membership is invited to attend our monthly meetings to discuss rides and other planned activities.
URL:https://www.gardenstatehogchapter.com/welcome/event/general-chapter-membership-meeting-3/
LOCATION:Garden State Harley-Davidson\, 1775 Route 10 East\, Morris Plains\, NJ\, 07950\, United States
CATEGORIES:Meeting
END:VEVENT
BEGIN:VEVENT
DTSTART;TZID=America/New_York:20180922T090000
DTEND;TZID=America/New_York:20180922T100000
DTSTAMP:20260423T190837
CREATED:20180920T222536Z
LAST-MODIFIED:20180920T222536Z
UID:1832-1537606800-1537610400@www.gardenstatehogchapter.com
SUMMARY:Volunteer Meeting Before The Meeting
DESCRIPTION:A session for our Chapter Officers\, Road Captains\, existing volunteers and anyone newly interested in supporting our events to discuss the roles needed (parking\, registration\, pit crew) review the great things that have gone well\, along with some lessons learned.  We will focus on the details of these roles\, and the coverage needed
URL:https://www.gardenstatehogchapter.com/welcome/event/volunteer-meeting-before-the-meeting/
LOCATION:NJ
CATEGORIES:Meeting
END:VEVENT
BEGIN:VEVENT
DTSTART;TZID=America/New_York:20180818T100000
DTEND;TZID=America/New_York:20180818T110000
DTSTAMP:20260423T190837
CREATED:20180331T100827Z
LAST-MODIFIED:20180610T181713Z
UID:1610-1534586400-1534590000@www.gardenstatehogchapter.com
SUMMARY:General Chapter Meeting
DESCRIPTION:Guest Speaker Toni Caserta.  Hudson Valley Ribfest ride to follow
URL:https://www.gardenstatehogchapter.com/welcome/event/general-chapter-meeting-9/
LOCATION:Garden State Harley-Davidson\, 1775 Route 10 East\, Morris Plains\, NJ\, 07950\, United States
CATEGORIES:Meeting
END:VEVENT
BEGIN:VEVENT
DTSTART;TZID=America/New_York:20180721T100000
DTEND;TZID=America/New_York:20180721T110000
DTSTAMP:20260423T190837
CREATED:20180331T100505Z
LAST-MODIFIED:20180331T100505Z
UID:1608-1532167200-1532170800@www.gardenstatehogchapter.com
SUMMARY:General Chapter Meeting
DESCRIPTION:
URL:https://www.gardenstatehogchapter.com/welcome/event/general-chapter-meeting-8/
LOCATION:Garden State Harley-Davidson\, 1775 Route 10 East\, Morris Plains\, NJ\, 07950\, United States
CATEGORIES:Meeting
END:VEVENT
BEGIN:VEVENT
DTSTART;TZID=America/New_York:20180616T100000
DTEND;TZID=America/New_York:20180616T110000
DTSTAMP:20260423T190837
CREATED:20180331T100341Z
LAST-MODIFIED:20180331T100341Z
UID:1606-1529143200-1529146800@www.gardenstatehogchapter.com
SUMMARY:General Chapter Meeting
DESCRIPTION:
URL:https://www.gardenstatehogchapter.com/welcome/event/general-chapter-meeting-7/
LOCATION:Garden State Harley-Davidson\, 1775 Route 10 East\, Morris Plains\, NJ\, 07950\, United States
CATEGORIES:Meeting
END:VEVENT
BEGIN:VEVENT
DTSTART;TZID=America/New_York:20180519T100000
DTEND;TZID=America/New_York:20180519T110000
DTSTAMP:20260423T190837
CREATED:20180331T100157Z
LAST-MODIFIED:20180331T100157Z
UID:1604-1526724000-1526727600@www.gardenstatehogchapter.com
SUMMARY:General Chapter Meeting
DESCRIPTION:
URL:https://www.gardenstatehogchapter.com/welcome/event/general-chapter-meeting-6/
LOCATION:Garden State Harley-Davidson\, 1775 Route 10 East\, Morris Plains\, NJ\, 07950\, United States
CATEGORIES:Meeting
END:VEVENT
BEGIN:VEVENT
DTSTART;TZID=America/New_York:20180421T100000
DTEND;TZID=America/New_York:20180421T110000
DTSTAMP:20260423T190837
CREATED:20171216T150553Z
LAST-MODIFIED:20171216T150553Z
UID:1245-1524304800-1524308400@www.gardenstatehogchapter.com
SUMMARY:General Chapter Meeting
DESCRIPTION:
URL:https://www.gardenstatehogchapter.com/welcome/event/general-chapter-meeting-5/
LOCATION:NJ
CATEGORIES:Meeting
END:VEVENT
BEGIN:VEVENT
DTSTART;TZID=America/New_York:20180317T100000
DTEND;TZID=America/New_York:20180317T110000
DTSTAMP:20260423T190837
CREATED:20171216T150329Z
LAST-MODIFIED:20171216T150330Z
UID:1243-1521280800-1521284400@www.gardenstatehogchapter.com
SUMMARY:General Chapter Meeting
DESCRIPTION:
URL:https://www.gardenstatehogchapter.com/welcome/event/general-chapter-meeting-4/
LOCATION:Garden State Harley-Davidson\, 1775 Route 10 East\, Morris Plains\, NJ\, 07950\, United States
CATEGORIES:Meeting
END:VEVENT
BEGIN:VEVENT
DTSTART;TZID=America/New_York:20180217T113000
DTEND;TZID=America/New_York:20180217T130000
DTSTAMP:20260423T190837
CREATED:20180115T161242Z
LAST-MODIFIED:20180115T161242Z
UID:1482-1518867000-1518872400@www.gardenstatehogchapter.com
SUMMARY:Anthony & Sons Lunch after February Chapter Meeting
DESCRIPTION:On February 17th after our general membership meeting we will be going to Anthony and Sons Restaurant in Denville for lunch. All members attending the meeting are welcome. It will be good for us to reconnect and talk about our upcoming riding season. Hope to see you there.
URL:https://www.gardenstatehogchapter.com/welcome/event/anthony-sons-lunch-after-february-chapter-meeting/
LOCATION:Anthony & Sons Bakery\, 20 Luger Road\, Denville\, NJ\, 07834\, United States
CATEGORIES:Meeting
END:VEVENT
BEGIN:VEVENT
DTSTART;TZID=America/New_York:20180217T100000
DTEND;TZID=America/New_York:20180217T110000
DTSTAMP:20260423T190837
CREATED:20171216T150055Z
LAST-MODIFIED:20171216T150055Z
UID:1241-1518861600-1518865200@www.gardenstatehogchapter.com
SUMMARY:General Chapter Meeting
DESCRIPTION:
URL:https://www.gardenstatehogchapter.com/welcome/event/general-chapter-meeting-3/
LOCATION:Garden State Harley-Davidson\, 1775 Route 10 East\, Morris Plains\, NJ\, 07950\, United States
CATEGORIES:Meeting
END:VEVENT
BEGIN:VEVENT
DTSTART;TZID=America/New_York:20180120T100000
DTEND;TZID=America/New_York:20180120T110000
DTSTAMP:20260423T190837
CREATED:20171216T145821Z
LAST-MODIFIED:20180115T162148Z
UID:1238-1516442400-1516446000@www.gardenstatehogchapter.com
SUMMARY:General Chapter Meeting - $75 Drawing
DESCRIPTION:2018 program year kick off meeting for the general Chapter membership\, including a $75 drawing for those who have paid their dues for the new year.
URL:https://www.gardenstatehogchapter.com/welcome/event/gemeral-chapter-meeting/
LOCATION:Garden State Harley-Davidson\, 1775 Route 10 East\, Morris Plains\, NJ\, 07950\, United States
CATEGORIES:Meeting
END:VEVENT
BEGIN:VEVENT
DTSTART;TZID=America/New_York:20180120T090000
DTEND;TZID=America/New_York:20180120T100000
DTSTAMP:20260423T190837
CREATED:20180115T154751Z
LAST-MODIFIED:20180115T154751Z
UID:1475-1516438800-1516442400@www.gardenstatehogchapter.com
SUMMARY:Breakfast at Garden State H-D
DESCRIPTION:Chapter members are invited to arrive early for breakfast\, ahead of the January General Membership meeting.
URL:https://www.gardenstatehogchapter.com/welcome/event/breakfast-at-garden-state-h-d/
LOCATION:Garden State Harley-Davidson\, 1775 Route 10 East\, Morris Plains\, NJ\, 07950\, United States
CATEGORIES:Meeting
END:VEVENT
BEGIN:VEVENT
DTSTART;TZID=America/New_York:20171021T100000
DTEND;TZID=America/New_York:20171021T110000
DTSTAMP:20260423T190837
CREATED:20170908T020209Z
LAST-MODIFIED:20170908T020209Z
UID:1029-1508580000-1508583600@www.gardenstatehogchapter.com
SUMMARY:Chapter General Membership Meeting
DESCRIPTION:
URL:https://www.gardenstatehogchapter.com/welcome/event/chapter-general-membership-meeting-9/
LOCATION:Garden State Harley-Davidson\, 1775 Route 10 East\, Morris Plains\, NJ\, 07950\, United States
CATEGORIES:Meeting
END:VEVENT
BEGIN:VEVENT
DTSTART;TZID=America/New_York:20171014T093000
DTEND;TZID=America/New_York:20171014T170000
DTSTAMP:20260423T190837
CREATED:20170813T140223Z
LAST-MODIFIED:20170829T135627Z
UID:870-1507973400-1508000400@www.gardenstatehogchapter.com
SUMMARY:Garden State Harley-Davidson Open House
DESCRIPTION:
URL:https://www.gardenstatehogchapter.com/welcome/event/garden-state-harley-davidson-open-house/
LOCATION:Garden State Harley-Davidson\, 1775 Route 10 East\, Morris Plains\, NJ\, 07950\, United States
CATEGORIES:Meeting
END:VEVENT
BEGIN:VEVENT
DTSTART;TZID=America/New_York:20170916T100000
DTEND;TZID=America/New_York:20170916T110000
DTSTAMP:20260423T190837
CREATED:20170829T140417Z
LAST-MODIFIED:20170908T020333Z
UID:881-1505556000-1505559600@www.gardenstatehogchapter.com
SUMMARY:Chapter General Membership Meeting
DESCRIPTION:
URL:https://www.gardenstatehogchapter.com/welcome/event/general-chapter-membership-meeting-2/
LOCATION:Garden State Harley-Davidson\, 1775 Route 10 East\, Morris Plains\, NJ\, 07950\, United States
CATEGORIES:Meeting
END:VEVENT
BEGIN:VEVENT
DTSTART;TZID=America/New_York:20170819T100000
DTEND;TZID=America/New_York:20170819T110000
DTSTAMP:20260423T190837
CREATED:20170609T004445Z
LAST-MODIFIED:20170609T004445Z
UID:721-1503136800-1503140400@www.gardenstatehogchapter.com
SUMMARY:Chapter General Membership Meeting
DESCRIPTION:
URL:https://www.gardenstatehogchapter.com/welcome/event/chapter-general-membership-meeting-7/
LOCATION:Garden State Harley-Davidson\, 1775 Route 10 East\, Morris Plains\, NJ\, 07950\, United States
CATEGORIES:Meeting
END:VEVENT
BEGIN:VEVENT
DTSTART;TZID=America/New_York:20170715T100000
DTEND;TZID=America/New_York:20170715T110000
DTSTAMP:20260423T190837
CREATED:20170609T004635Z
LAST-MODIFIED:20170609T004635Z
UID:723-1500112800-1500116400@www.gardenstatehogchapter.com
SUMMARY:Chapter General Membership Meeting
DESCRIPTION:
URL:https://www.gardenstatehogchapter.com/welcome/event/chapter-general-membership-meeting-8/
LOCATION:Garden State Harley-Davidson\, 1775 Route 10 East\, Morris Plains\, NJ\, 07950\, United States
CATEGORIES:Meeting
END:VEVENT
END:VCALENDAR