BEGIN:VCALENDAR
VERSION:2.0
PRODID:-//Garden State Hog Chapter - ECPv6.15.17.1//NONSGML v1.0//EN
CALSCALE:GREGORIAN
METHOD:PUBLISH
X-ORIGINAL-URL:https://www.gardenstatehogchapter.com/welcome
X-WR-CALDESC:Events for Garden State Hog Chapter
REFRESH-INTERVAL;VALUE=DURATION:PT1H
X-Robots-Tag:noindex
X-PUBLISHED-TTL:PT1H
BEGIN:VTIMEZONE
TZID:America/New_York
BEGIN:DAYLIGHT
TZOFFSETFROM:-0500
TZOFFSETTO:-0400
TZNAME:EDT
DTSTART:20180311T070000
END:DAYLIGHT
BEGIN:STANDARD
TZOFFSETFROM:-0400
TZOFFSETTO:-0500
TZNAME:EST
DTSTART:20181104T060000
END:STANDARD
BEGIN:DAYLIGHT
TZOFFSETFROM:-0500
TZOFFSETTO:-0400
TZNAME:EDT
DTSTART:20190310T070000
END:DAYLIGHT
BEGIN:STANDARD
TZOFFSETFROM:-0400
TZOFFSETTO:-0500
TZNAME:EST
DTSTART:20191103T060000
END:STANDARD
BEGIN:DAYLIGHT
TZOFFSETFROM:-0500
TZOFFSETTO:-0400
TZNAME:EDT
DTSTART:20200308T070000
END:DAYLIGHT
BEGIN:STANDARD
TZOFFSETFROM:-0400
TZOFFSETTO:-0500
TZNAME:EST
DTSTART:20201101T060000
END:STANDARD
BEGIN:DAYLIGHT
TZOFFSETFROM:-0500
TZOFFSETTO:-0400
TZNAME:EDT
DTSTART:20210314T070000
END:DAYLIGHT
BEGIN:STANDARD
TZOFFSETFROM:-0400
TZOFFSETTO:-0500
TZNAME:EST
DTSTART:20211107T060000
END:STANDARD
BEGIN:DAYLIGHT
TZOFFSETFROM:-0500
TZOFFSETTO:-0400
TZNAME:EDT
DTSTART:20220313T070000
END:DAYLIGHT
BEGIN:STANDARD
TZOFFSETFROM:-0400
TZOFFSETTO:-0500
TZNAME:EST
DTSTART:20221106T060000
END:STANDARD
BEGIN:DAYLIGHT
TZOFFSETFROM:-0500
TZOFFSETTO:-0400
TZNAME:EDT
DTSTART:20230312T070000
END:DAYLIGHT
BEGIN:STANDARD
TZOFFSETFROM:-0400
TZOFFSETTO:-0500
TZNAME:EST
DTSTART:20231105T060000
END:STANDARD
END:VTIMEZONE
BEGIN:VEVENT
DTSTART;TZID=America/New_York:20220416T093000
DTEND;TZID=America/New_York:20220416T103000
DTSTAMP:20260423T164807
CREATED:20220102T161425Z
LAST-MODIFIED:20220102T161425Z
UID:2684-1650101400-1650105000@www.gardenstatehogchapter.com
SUMMARY:Chapter Meeting - April
DESCRIPTION:Chapter members and guests are invited to attend our monthly meetings to catch up on what Garden State HOG is up to.
URL:https://www.gardenstatehogchapter.com/welcome/event/chapter-meeting-april/
LOCATION:Garden State Harley-Davidson\, 1775 Route 10 East\, Morris Plains\, NJ\, 07950\, United States
CATEGORIES:Meeting
END:VEVENT
BEGIN:VEVENT
DTSTART;TZID=America/New_York:20220319T093000
DTEND;TZID=America/New_York:20220319T103000
DTSTAMP:20260423T164807
CREATED:20220102T161334Z
LAST-MODIFIED:20220102T161334Z
UID:2682-1647682200-1647685800@www.gardenstatehogchapter.com
SUMMARY:Chapter Meeting - March
DESCRIPTION:Chapter members and guests are invited to attend our monthly meetings to catch up on what Garden State HOG is up to.
URL:https://www.gardenstatehogchapter.com/welcome/event/chapter-meeting-march/
LOCATION:Garden State Harley-Davidson\, 1775 Route 10 East\, Morris Plains\, NJ\, 07950\, United States
CATEGORIES:Meeting
END:VEVENT
BEGIN:VEVENT
DTSTART;TZID=America/New_York:20220219T093000
DTEND;TZID=America/New_York:20220219T103000
DTSTAMP:20260423T164807
CREATED:20220102T161239Z
LAST-MODIFIED:20220102T161239Z
UID:2680-1645263000-1645266600@www.gardenstatehogchapter.com
SUMMARY:Chapter Meeting - February
DESCRIPTION:Chapter members and guests are invited to attend our monthly meetings to catch up on what Garden State HOG is up to.
URL:https://www.gardenstatehogchapter.com/welcome/event/chapter-meeting-february/
LOCATION:Garden State Harley-Davidson\, 1775 Route 10 East\, Morris Plains\, NJ\, 07950\, United States
CATEGORIES:Meeting
END:VEVENT
BEGIN:VEVENT
DTSTART;TZID=America/New_York:20220115T093000
DTEND;TZID=America/New_York:20220115T103000
DTSTAMP:20260423T164807
CREATED:20220102T161121Z
LAST-MODIFIED:20220107T120510Z
UID:2678-1642239000-1642242600@www.gardenstatehogchapter.com
SUMMARY:CANCELLED - Chapter Meeting - January
DESCRIPTION:We will resume the Chapter Meetings in February.
URL:https://www.gardenstatehogchapter.com/welcome/event/chapter-meeting-january/
LOCATION:Garden State Harley-Davidson\, 1775 Route 10 East\, Morris Plains\, NJ\, 07950\, United States
CATEGORIES:Meeting
END:VEVENT
BEGIN:VEVENT
DTSTART;TZID=America/New_York:20211120T093000
DTEND;TZID=America/New_York:20211120T103000
DTSTAMP:20260423T164807
CREATED:20211117T010920Z
LAST-MODIFIED:20211117T010920Z
UID:2656-1637400600-1637404200@www.gardenstatehogchapter.com
SUMMARY:November Chapter Meeting
DESCRIPTION:Join fellow Chapter members at the Garden State Harley Davidson Dealership to hear about what is happening with the Chapter\, and look forward at 2022.
URL:https://www.gardenstatehogchapter.com/welcome/event/november-chapter-meeting/
LOCATION:Garden State Harley-Davidson\, 1775 Route 10 East\, Morris Plains\, NJ\, 07950\, United States
CATEGORIES:Meeting
END:VEVENT
BEGIN:VEVENT
DTSTART;TZID=America/New_York:20211016T093000
DTEND;TZID=America/New_York:20211016T103000
DTSTAMP:20260423T164807
CREATED:20210909T010835Z
LAST-MODIFIED:20210909T010835Z
UID:2616-1634376600-1634380200@www.gardenstatehogchapter.com
SUMMARY:October Chapter Meeting
DESCRIPTION:Join fellow Chapter members at the Garden State H-D Dealership to check in on what’s going on.  Guests welcome.
URL:https://www.gardenstatehogchapter.com/welcome/event/october-chapter-meeting/
LOCATION:Garden State Harley-Davidson\, 1775 Route 10 East\, Morris Plains\, NJ\, 07950\, United States
CATEGORIES:Meeting
END:VEVENT
BEGIN:VEVENT
DTSTART;TZID=America/New_York:20210918T090000
DTEND;TZID=America/New_York:20210918T093000
DTSTAMP:20260423T164807
CREATED:20210909T005614Z
LAST-MODIFIED:20210909T005614Z
UID:2610-1631955600-1631957400@www.gardenstatehogchapter.com
SUMMARY:September Chapter Meeting
DESCRIPTION:Join fellow Chapter members at the Dealership and learn what is going on!  Time is at 9AM to allow for support needed for the Eric C Blohm ride that same morning.
URL:https://www.gardenstatehogchapter.com/welcome/event/september-chapter-meeting/
LOCATION:Garden State Harley-Davidson\, 1775 Route 10 East\, Morris Plains\, NJ\, 07950\, United States
CATEGORIES:Meeting
END:VEVENT
BEGIN:VEVENT
DTSTART;TZID=America/New_York:20210821T093000
DTEND;TZID=America/New_York:20210821T103000
DTSTAMP:20260423T164807
CREATED:20210718T130844Z
LAST-MODIFIED:20210718T130844Z
UID:2571-1629538200-1629541800@www.gardenstatehogchapter.com
SUMMARY:Chapter Meeting - August
DESCRIPTION:Join fellow Chapter members for our monthly meeting\, located at Garden State H-D.
URL:https://www.gardenstatehogchapter.com/welcome/event/chapter-meeting-august/
LOCATION:Garden State Harley-Davidson\, 1775 Route 10 East\, Morris Plains\, NJ\, 07950\, United States
CATEGORIES:Meeting
END:VEVENT
BEGIN:VEVENT
DTSTART;TZID=America/New_York:20210717T093000
DTEND;TZID=America/New_York:20210717T103000
DTSTAMP:20260423T164807
CREATED:20210708T020741Z
LAST-MODIFIED:20210708T020741Z
UID:2545-1626514200-1626517800@www.gardenstatehogchapter.com
SUMMARY:July Chapter Meeting
DESCRIPTION:Join fellow Chapter members at Garden State H-D to hear what is happening\, and maybe a tip or trick thrown in.
URL:https://www.gardenstatehogchapter.com/welcome/event/july-chapter-meeting/
LOCATION:Garden State Harley-Davidson\, 1775 Route 10 East\, Morris Plains\, NJ\, 07950\, United States
CATEGORIES:Meeting
END:VEVENT
BEGIN:VEVENT
DTSTART;TZID=America/New_York:20210619T093000
DTEND;TZID=America/New_York:20210619T103000
DTSTAMP:20260423T164807
CREATED:20210610T012750Z
LAST-MODIFIED:20210610T012750Z
UID:2519-1624095000-1624098600@www.gardenstatehogchapter.com
SUMMARY:June Chapter Meeting
DESCRIPTION:Join us at Garden State H-D to catch up with fellow Chapter members and hear what is going on with the Chapter.
URL:https://www.gardenstatehogchapter.com/welcome/event/june-chapter-meeting/
LOCATION:Garden State Harley-Davidson\, 1775 Route 10 East\, Morris Plains\, NJ\, 07950\, United States
CATEGORIES:Meeting
END:VEVENT
BEGIN:VEVENT
DTSTART;TZID=America/New_York:20210522T093000
DTEND;TZID=America/New_York:20210522T103000
DTSTAMP:20260423T164807
CREATED:20210411T162501Z
LAST-MODIFIED:20210411T162501Z
UID:2447-1621675800-1621679400@www.gardenstatehogchapter.com
SUMMARY:May General Chapter Meeting
DESCRIPTION:Please join fellow Chapter members\, in person at Garden State H-D or via Zoom\, to hear what’s happening.  
URL:https://www.gardenstatehogchapter.com/welcome/event/may-general-chapter-meeting/
LOCATION:Garden State Harley-Davidson\, 1775 Route 10 East\, Morris Plains\, NJ\, 07950\, United States
CATEGORIES:Meeting
END:VEVENT
BEGIN:VEVENT
DTSTART;TZID=America/New_York:20210417T093000
DTEND;TZID=America/New_York:20210417T103000
DTSTAMP:20260423T164807
CREATED:20210310T004931Z
LAST-MODIFIED:20210414T012119Z
UID:2429-1618651800-1618655400@www.gardenstatehogchapter.com
SUMMARY:April Chapter Meeting - T-CLOCS Spring Bike Checklist
DESCRIPTION:Join other Garden State HOG members at the April installment of our Chapter Meeting.  We will have room for those who would like to join in person\, and will offer Zoom for those who cannot join in person. \nThe Dealership Service Manager\, Brian\, will return to the meeting to discuss the importance of pre-ride bike inspection.  For those attending the meeting in person\, please bring your bike if possible to follow along the T-CLOCS checklist. \nZoom details: \nJoin Zoom Meeting\nhttps://zoom.us/j/91030095360?pwd=dG4xNE9RclRhK1FQRWhlUDFhd2JZQT09 \nMeeting ID: 910 3009 5360\nPasscode: 369073\nOne tap mobile\n+13017158592\,\,91030095360#\,\,\,\,*369073# US (Washington DC)\n+13126266799\,\,91030095360#\,\,\,\,*369073# US (Chicago) \nDial by your location\n        +1 301 715 8592 US (Washington DC)\n        +1 312 626 6799 US (Chicago)\n        +1 646 558 8656 US (New York)\n        +1 253 215 8782 US (Tacoma)\n        +1 346 248 7799 US (Houston)\n        +1 669 900 9128 US (San Jose)\nMeeting ID: 910 3009 5360\nPasscode: 369073\nFind your local number: https://zoom.us/u/adMrAmNxJV
URL:https://www.gardenstatehogchapter.com/welcome/event/april-chapter-meeting/
LOCATION:Garden State Harley-Davidson\, 1775 Route 10 East\, Morris Plains\, NJ\, 07950\, United States
CATEGORIES:Meeting
END:VEVENT
BEGIN:VEVENT
DTSTART;TZID=America/New_York:20210320T093000
DTEND;TZID=America/New_York:20210320T103000
DTSTAMP:20260423T164807
CREATED:20210310T004411Z
LAST-MODIFIED:20210318T221438Z
UID:2427-1616232600-1616236200@www.gardenstatehogchapter.com
SUMMARY:March Chapter Meeting
DESCRIPTION:Join other members of the HOG chapter for our March installment of the Chapter meeting.  We’re getting close to riding season!  We will have room for those who would like to join in person\, and will offer Zoom for those who cannot join in person. \nZoom Details: \nTopic: Garden State HOG \nTime: Mar 20\, 2021 09:30 AM Eastern Time (US and Canada) \nJoin Zoom Meeting \nhttps://zoom.us/j/91669161784?pwd=V3dSZVhsQVZwWlRuSHBQWkZkWmNBUT09 \nMeeting ID: 916 6916 1784 \nPasscode: 211027 \nOne tap mobile \n+16465588656\,\,91669161784#\,\,\,\,*211027# US (New York) \n+13017158592\,\,91669161784#\,\,\,\,*211027# US (Washington DC) \nDial by your location \n        +1 646 558 8656 US (New York) \n        +1 301 715 8592 US (Washington DC) \n        +1 312 626 6799 US (Chicago) \n        +1 669 900 9128 US (San Jose) \n        +1 253 215 8782 US (Tacoma) \n        +1 346 248 7799 US (Houston) \nMeeting ID: 916 6916 1784 \nPasscode: 211027 \nFind your local number: https://zoom.us/u/aeHydi0MGc
URL:https://www.gardenstatehogchapter.com/welcome/event/march-chapter-meeting/
LOCATION:Garden State Harley-Davidson\, 1775 Route 10 East\, Morris Plains\, NJ\, 07950\, United States
CATEGORIES:Meeting
END:VEVENT
BEGIN:VEVENT
DTSTART;TZID=America/New_York:20210220T093000
DTEND;TZID=America/New_York:20210220T103000
DTSTAMP:20260423T164807
CREATED:20210102T193650Z
LAST-MODIFIED:20210219T002725Z
UID:2402-1613813400-1613817000@www.gardenstatehogchapter.com
SUMMARY:February Chapter Meeting - Dealership or Zoom
DESCRIPTION:Meeting attendance can be either at the Dealership or via Zoom.  \nJoin Zoom Meeting\nhttps://zoom.us/j/98981093876?pwd=NFVIWjFGbkRGWEJhOEhac095eWVQZz09 \nMeeting ID: 989 8109 3876\nPasscode: 079652
URL:https://www.gardenstatehogchapter.com/welcome/event/february-chapter-meeting-zoom/
LOCATION:Garden State Harley-Davidson\, 1775 Route 10 East\, Morris Plains\, NJ\, 07950\, United States
CATEGORIES:Meeting
END:VEVENT
BEGIN:VEVENT
DTSTART;TZID=America/New_York:20200516T100000
DTEND;TZID=America/New_York:20200516T110000
DTSTAMP:20260423T164807
CREATED:20200105T173426Z
LAST-MODIFIED:20200512T235401Z
UID:2298-1589623200-1589626800@www.gardenstatehogchapter.com
SUMMARY:Cancelled - General Chapter Meeting - May
DESCRIPTION:Sadly the pandemic extends it’s reign of disruption for the month of May.
URL:https://www.gardenstatehogchapter.com/welcome/event/general-chapter-meeting-may/
LOCATION:Garden State Harley-Davidson\, 1775 Route 10 East\, Morris Plains\, NJ\, 07950\, United States
CATEGORIES:Meeting
END:VEVENT
BEGIN:VEVENT
DTSTART;TZID=America/New_York:20200418T100000
DTEND;TZID=America/New_York:20200418T110000
DTSTAMP:20260423T164807
CREATED:20200105T173254Z
LAST-MODIFIED:20200329T104855Z
UID:2296-1587204000-1587207600@www.gardenstatehogchapter.com
SUMMARY:CANCELLED - General Chapter Meeting - April
DESCRIPTION:Cancelled due to COVID-19 guidance.
URL:https://www.gardenstatehogchapter.com/welcome/event/general-chapter-meeting-april/
LOCATION:Garden State Harley-Davidson\, 1775 Route 10 East\, Morris Plains\, NJ\, 07950\, United States
CATEGORIES:Meeting
END:VEVENT
BEGIN:VEVENT
DTSTART;TZID=America/New_York:20200321T100000
DTEND;TZID=America/New_York:20200321T110000
DTSTAMP:20260423T164807
CREATED:20200105T171024Z
LAST-MODIFIED:20200315T162519Z
UID:2283-1584784800-1584788400@www.gardenstatehogchapter.com
SUMMARY:Cancelled!  General Chapter Meeting - March
DESCRIPTION:The March Chapter Meeting will be cancelled\, out of caution for the COVID-19 virus.  
URL:https://www.gardenstatehogchapter.com/welcome/event/general-chapter-meeting-march/
LOCATION:Garden State Harley-Davidson\, 1775 Route 10 East\, Morris Plains\, NJ\, 07950\, United States
CATEGORIES:Meeting
END:VEVENT
BEGIN:VEVENT
DTSTART;TZID=America/New_York:20200215T100000
DTEND;TZID=America/New_York:20200215T110000
DTSTAMP:20260423T164807
CREATED:20200105T170721Z
LAST-MODIFIED:20200105T170721Z
UID:2281-1581760800-1581764400@www.gardenstatehogchapter.com
SUMMARY:General Chapter Meeting - February
DESCRIPTION:Toni Caserta\, organizer of the Forever Friends Ride will be the guest speaker at our February 15th Meeting.
URL:https://www.gardenstatehogchapter.com/welcome/event/general-chapter-meeting-february/
LOCATION:Garden State Harley-Davidson\, 1775 Route 10 East\, Morris Plains\, NJ\, 07950\, United States
CATEGORIES:Meeting
END:VEVENT
BEGIN:VEVENT
DTSTART;TZID=America/New_York:20200118T100000
DTEND;TZID=America/New_York:20200118T110000
DTSTAMP:20260423T164807
CREATED:20191027T194301Z
LAST-MODIFIED:20191027T194301Z
UID:2260-1579341600-1579345200@www.gardenstatehogchapter.com
SUMMARY:January General Chapter Meeting
DESCRIPTION:Members and guests are welcome to join our monthly General Chapter Meeting at the Dealership.
URL:https://www.gardenstatehogchapter.com/welcome/event/january-general-chapter-meeting/
LOCATION:Garden State Harley-Davidson\, 1775 Route 10 East\, Morris Plains\, NJ\, 07950\, United States
CATEGORIES:Meeting
END:VEVENT
BEGIN:VEVENT
DTSTART;TZID=America/New_York:20200118T090000
DTEND;TZID=America/New_York:20200118T100000
DTSTAMP:20260423T164807
CREATED:20200105T162744Z
LAST-MODIFIED:20200105T162744Z
UID:2277-1579338000-1579341600@www.gardenstatehogchapter.com
SUMMARY:3rd Annual Chapter Breakfast
DESCRIPTION:3rd Annual Chapter Breakfast catered by Jack’s Cafe\, Verona NJ.  2020 Chapter Picture. 
URL:https://www.gardenstatehogchapter.com/welcome/event/3rd-annual-chapter-breakfast/
LOCATION:Garden State Harley-Davidson\, 1775 Route 10 East\, Morris Plains\, NJ\, 07950\, United States
CATEGORIES:Meeting
END:VEVENT
BEGIN:VEVENT
DTSTART;TZID=America/New_York:20191116T100000
DTEND;TZID=America/New_York:20191116T110000
DTSTAMP:20260423T164807
CREATED:20191027T194129Z
LAST-MODIFIED:20191027T194129Z
UID:2258-1573898400-1573902000@www.gardenstatehogchapter.com
SUMMARY:November General Chapter Meeting
DESCRIPTION:Members and guests are welcome to join our monthly General Chapter Meeting at the Dealership.
URL:https://www.gardenstatehogchapter.com/welcome/event/november-general-chapter-meeting/
LOCATION:Garden State Harley-Davidson\, 1775 Route 10 East\, Morris Plains\, NJ\, 07950\, United States
CATEGORIES:Meeting
END:VEVENT
BEGIN:VEVENT
DTSTART;TZID=America/New_York:20191026T100000
DTEND;TZID=America/New_York:20191026T110000
DTSTAMP:20260423T164807
CREATED:20191004T015038Z
LAST-MODIFIED:20191004T015038Z
UID:2240-1572084000-1572087600@www.gardenstatehogchapter.com
SUMMARY:October General Chapter Meeting
DESCRIPTION:Chapter Members are invited to discuss upcoming events\, hear guest speakers\, and catch up with friends.  Saturday at 10AM at the Dealership.
URL:https://www.gardenstatehogchapter.com/welcome/event/october-general-chapter-meeting/
LOCATION:Garden State Harley-Davidson\, 1775 Route 10 East\, Morris Plains\, NJ\, 07950\, United States
CATEGORIES:Meeting
END:VEVENT
BEGIN:VEVENT
DTSTART;TZID=America/New_York:20190921T100000
DTEND;TZID=America/New_York:20190921T110000
DTSTAMP:20260423T164807
CREATED:20190730T235622Z
LAST-MODIFIED:20190915T111641Z
UID:2179-1569060000-1569063600@www.gardenstatehogchapter.com
SUMMARY:September General Chapter Meeting
DESCRIPTION:Join fellow Chapter members to review upcoming rides & events.  Location is Garden State H-D in the upstairs meeting area.  Special guest at our Chapter meeting will be Lauren Blaszak\, Celebrate the Children School. 
URL:https://www.gardenstatehogchapter.com/welcome/event/september-general-chapter-meeting/
LOCATION:Garden State Harley-Davidson\, 1775 Route 10 East\, Morris Plains\, NJ\, 07950\, United States
CATEGORIES:Meeting
END:VEVENT
BEGIN:VEVENT
DTSTART;TZID=America/New_York:20190817T100000
DTEND;TZID=America/New_York:20190817T110000
DTSTAMP:20260423T164807
CREATED:20190605T224220Z
LAST-MODIFIED:20190605T224440Z
UID:2123-1566036000-1566039600@www.gardenstatehogchapter.com
SUMMARY:General Chapter Meeting
DESCRIPTION:Our monthly Chapter Meeting to discuss planned rides\, fundraisers and other Garden State HOG activities.
URL:https://www.gardenstatehogchapter.com/welcome/event/general-chapter-meeting-12/
LOCATION:Garden State Harley-Davidson\, 1775 Route 10 East\, Morris Plains\, NJ\, 07950\, United States
CATEGORIES:Meeting
END:VEVENT
BEGIN:VEVENT
DTSTART;TZID=America/New_York:20190615T100000
DTEND;TZID=America/New_York:20190615T110000
DTSTAMP:20260423T164807
CREATED:20190605T023640Z
LAST-MODIFIED:20190605T224318Z
UID:2117-1560592800-1560596400@www.gardenstatehogchapter.com
SUMMARY:June General Chapter Meeting
DESCRIPTION:Our monthly Chapter Meeting to discuss planned rides\, fundraisers and other Garden State HOG activities.
URL:https://www.gardenstatehogchapter.com/welcome/event/june-general-chapter-meeting/
LOCATION:Garden State Harley-Davidson\, 1775 Route 10 East\, Morris Plains\, NJ\, 07950\, United States
CATEGORIES:Meeting
END:VEVENT
BEGIN:VEVENT
DTSTART;TZID=America/New_York:20190615T090000
DTEND;TZID=America/New_York:20190615T100000
DTSTAMP:20260423T164807
CREATED:20190604T015653Z
LAST-MODIFIED:20190604T015653Z
UID:2105-1560589200-1560592800@www.gardenstatehogchapter.com
SUMMARY:Vermont Iron Adventure Planning Meeting
DESCRIPTION:A meeting before the General Meeting to focus on all things Okemo Vermont trip.  Start time is 9AM at the Dealership.
URL:https://www.gardenstatehogchapter.com/welcome/event/vermont-iron-adventure-planning-meeting/
LOCATION:Garden State Harley-Davidson\, 1775 Route 10 East\, Morris Plains\, NJ\, 07950\, United States
CATEGORIES:Meeting
END:VEVENT
BEGIN:VEVENT
DTSTART;TZID=America/New_York:20190420T093000
DTEND;TZID=America/New_York:20190420T103000
DTSTAMP:20260423T164807
CREATED:20190217T151958Z
LAST-MODIFIED:20190420T113435Z
UID:1974-1555752600-1555756200@www.gardenstatehogchapter.com
SUMMARY:General Chapter Meeting - Early Start - Still On!
DESCRIPTION:Chapter membership meeting at the Dealership
URL:https://www.gardenstatehogchapter.com/welcome/event/general-chapter-meeting-early-start/
LOCATION:Garden State Harley-Davidson\, 1775 Route 10 East\, Morris Plains\, NJ\, 07950\, United States
CATEGORIES:Meeting
END:VEVENT
BEGIN:VEVENT
DTSTART;TZID=America/New_York:20190316T100000
DTEND;TZID=America/New_York:20190316T110000
DTSTAMP:20260423T164807
CREATED:20190217T151254Z
LAST-MODIFIED:20190217T151254Z
UID:1971-1552730400-1552734000@www.gardenstatehogchapter.com
SUMMARY:General Chapter Meeting
DESCRIPTION:Chapter membership meeting at the Dealership
URL:https://www.gardenstatehogchapter.com/welcome/event/general-chapter-meeting-11/
LOCATION:Garden State Harley-Davidson\, 1775 Route 10 East\, Morris Plains\, NJ\, 07950\, United States
CATEGORIES:Meeting
END:VEVENT
BEGIN:VEVENT
DTSTART;TZID=America/New_York:20190216T100000
DTEND;TZID=America/New_York:20190216T110000
DTSTAMP:20260423T164807
CREATED:20190120T114313Z
LAST-MODIFIED:20190120T114313Z
UID:1952-1550311200-1550314800@www.gardenstatehogchapter.com
SUMMARY:General Chapter Meeting
DESCRIPTION:Garden State HOG Chapter meeting at the dealership.  Hope to see you there.
URL:https://www.gardenstatehogchapter.com/welcome/event/general-chapter-meeting-10/
LOCATION:Garden State Harley-Davidson\, 1775 Route 10 East\, Morris Plains\, NJ\, 07950\, United States
CATEGORIES:Meeting
END:VEVENT
BEGIN:VEVENT
DTSTART;TZID=America/New_York:20190119T100000
DTEND;TZID=America/New_York:20190119T110000
DTSTAMP:20260423T164807
CREATED:20181118T124549Z
LAST-MODIFIED:20181118T124549Z
UID:1894-1547892000-1547895600@www.gardenstatehogchapter.com
SUMMARY:General Chapter Membership Meeting
DESCRIPTION:Join us at the Dealership to review 2019 plans\, pay your Chapter dues and reconnect with fellow members
URL:https://www.gardenstatehogchapter.com/welcome/event/general-chapter-membership-meeting-4/
LOCATION:Garden State Harley-Davidson\, 1775 Route 10 East\, Morris Plains\, NJ\, 07950\, United States
CATEGORIES:Meeting
END:VEVENT
END:VCALENDAR