BEGIN:VCALENDAR
VERSION:2.0
PRODID:-//Garden State Hog Chapter - ECPv6.15.17.1//NONSGML v1.0//EN
CALSCALE:GREGORIAN
METHOD:PUBLISH
X-WR-CALNAME:Garden State Hog Chapter
X-ORIGINAL-URL:https://www.gardenstatehogchapter.com/welcome
X-WR-CALDESC:Events for Garden State Hog Chapter
REFRESH-INTERVAL;VALUE=DURATION:PT1H
X-Robots-Tag:noindex
X-PUBLISHED-TTL:PT1H
BEGIN:VTIMEZONE
TZID:America/New_York
BEGIN:DAYLIGHT
TZOFFSETFROM:-0500
TZOFFSETTO:-0400
TZNAME:EDT
DTSTART:20140309T070000
END:DAYLIGHT
BEGIN:STANDARD
TZOFFSETFROM:-0400
TZOFFSETTO:-0500
TZNAME:EST
DTSTART:20141102T060000
END:STANDARD
BEGIN:DAYLIGHT
TZOFFSETFROM:-0500
TZOFFSETTO:-0400
TZNAME:EDT
DTSTART:20150308T070000
END:DAYLIGHT
BEGIN:STANDARD
TZOFFSETFROM:-0400
TZOFFSETTO:-0500
TZNAME:EST
DTSTART:20151101T060000
END:STANDARD
BEGIN:DAYLIGHT
TZOFFSETFROM:-0500
TZOFFSETTO:-0400
TZNAME:EDT
DTSTART:20160313T070000
END:DAYLIGHT
BEGIN:STANDARD
TZOFFSETFROM:-0400
TZOFFSETTO:-0500
TZNAME:EST
DTSTART:20161106T060000
END:STANDARD
END:VTIMEZONE
BEGIN:VEVENT
DTSTART;TZID=America/New_York:20151017T100000
DTEND;TZID=America/New_York:20151017T110000
DTSTAMP:20260424T032356
CREATED:20150929T184200Z
LAST-MODIFIED:20150929T184200Z
UID:290-1445076000-1445079600@www.gardenstatehogchapter.com
SUMMARY:General Chapter Meeting
DESCRIPTION:There will be a Chapter Meeting on the mezzanine level of the dealership.
URL:https://www.gardenstatehogchapter.com/welcome/event/general-chapter-meeting/
LOCATION:Garden State Harley-Davidson\, 1775 Route 10 East\, Morris Plains\, NJ\, 07950\, United States
CATEGORIES:Meeting
END:VEVENT
BEGIN:VEVENT
DTSTART;TZID=America/New_York:20151017T090000
DTEND;TZID=America/New_York:20151017T100000
DTSTAMP:20260424T032356
CREATED:20150929T184007Z
LAST-MODIFIED:20150929T184007Z
UID:289-1445072400-1445076000@www.gardenstatehogchapter.com
SUMMARY:Chapter E-Board Meeting
DESCRIPTION:The Chapter E-Board will be meeting in the mezzanine level of the dealership\, the meeting is open to all members.
URL:https://www.gardenstatehogchapter.com/welcome/event/chapter-e-board-meeting-2/
LOCATION:Garden State Harley-Davidson\, 1775 Route 10 East\, Morris Plains\, NJ\, 07950\, United States
CATEGORIES:Meeting
END:VEVENT
BEGIN:VEVENT
DTSTART;TZID=America/New_York:20150919T100000
DTEND;TZID=America/New_York:20150919T110000
DTSTAMP:20260424T032356
CREATED:20150916T161640Z
LAST-MODIFIED:20150916T161640Z
UID:280-1442656800-1442660400@www.gardenstatehogchapter.com
SUMMARY:Chapter Meeting
DESCRIPTION:
URL:https://www.gardenstatehogchapter.com/welcome/event/chapter-meeting/
LOCATION:Garden State Harley-Davidson\, 1775 Route 10 East\, Morris Plains\, NJ\, 07950\, United States
CATEGORIES:Meeting
END:VEVENT
BEGIN:VEVENT
DTSTART;TZID=America/New_York:20150919T090000
DTEND;TZID=America/New_York:20150919T100000
DTSTAMP:20260424T032356
CREATED:20150916T161519Z
LAST-MODIFIED:20150916T161519Z
UID:279-1442653200-1442656800@www.gardenstatehogchapter.com
SUMMARY:Chapter E-Board Meeting
DESCRIPTION:
URL:https://www.gardenstatehogchapter.com/welcome/event/chapter-e-board-meeting/
LOCATION:Garden State Harley-Davidson\, 1775 Route 10 East\, Morris Plains\, NJ\, 07950\, United States
CATEGORIES:Meeting
END:VEVENT
BEGIN:VEVENT
DTSTART;TZID=America/New_York:20150912T100000
DTEND;TZID=America/New_York:20150912T110000
DTSTAMP:20260424T032356
CREATED:20150616T020408Z
LAST-MODIFIED:20150616T020408Z
UID:174-1442052000-1442055600@www.gardenstatehogchapter.com
SUMMARY:Ride Planning Meeting
DESCRIPTION:There will be a Ride Planning Meeting at the dealership in the mezzanine level (above the motor clothes counter. The meeting is open to all members.
URL:https://www.gardenstatehogchapter.com/welcome/event/ride-planning-meeting-4/
LOCATION:Garden State Harley-Davidson\, 1775 Route 10 East\, Morris Plains\, NJ\, 07950\, United States
CATEGORIES:Meeting
END:VEVENT
BEGIN:VEVENT
DTSTART;TZID=America/New_York:20150830T080000
DTEND;TZID=America/New_York:20150830T170000
DTSTAMP:20260424T032356
CREATED:20150609T043504Z
LAST-MODIFIED:20150616T020955Z
UID:163-1440921600-1440954000@www.gardenstatehogchapter.com
SUMMARY:AMA Corn Boil
DESCRIPTION:Doug Bannon will be leading the Chapter to our sister dealership Williams Harley-Davidson for the AMA Corn Boil. \nTime to be determined.
URL:https://www.gardenstatehogchapter.com/welcome/event/ama-corn-boil/
LOCATION:Garden State Harley-Davidson\, 1775 Route 10 East\, Morris Plains\, NJ\, 07950\, United States
CATEGORIES:Meeting
END:VEVENT
BEGIN:VEVENT
DTSTART;TZID=America/New_York:20150815T090000
DTEND;TZID=America/New_York:20150815T100000
DTSTAMP:20260424T032356
CREATED:20150609T043212Z
LAST-MODIFIED:20150609T043212Z
UID:162-1439629200-1439632800@www.gardenstatehogchapter.com
SUMMARY:General Membership Meeting
DESCRIPTION:The general chapter meeting will be held at the dealership in the mezzanine level (above the motor clothes counter.)
URL:https://www.gardenstatehogchapter.com/welcome/event/general-membership-meeting-3/
LOCATION:Garden State Harley-Davidson\, 1775 Route 10 East\, Morris Plains\, NJ\, 07950\, United States
CATEGORIES:Meeting
END:VEVENT
BEGIN:VEVENT
DTSTART;TZID=America/New_York:20150815T090000
DTEND;TZID=America/New_York:20150815T100000
DTSTAMP:20260424T032356
CREATED:20150609T043055Z
LAST-MODIFIED:20150609T043055Z
UID:161-1439629200-1439632800@www.gardenstatehogchapter.com
SUMMARY:E-Board Meeting
DESCRIPTION:The E-Board will be meeting at the dealership in the mezzanine level (above the motor clothes counter.) The meeting is open to all members.
URL:https://www.gardenstatehogchapter.com/welcome/event/e-board-meeting-3/
LOCATION:Garden State Harley-Davidson\, 1775 Route 10 East\, Morris Plains\, NJ\, 07950\, United States
CATEGORIES:Meeting
END:VEVENT
BEGIN:VEVENT
DTSTART;TZID=America/New_York:20150801T100000
DTEND;TZID=America/New_York:20150801T110000
DTSTAMP:20260424T032356
CREATED:20150616T015941Z
LAST-MODIFIED:20150616T015941Z
UID:172-1438423200-1438426800@www.gardenstatehogchapter.com
SUMMARY:Ride Planning Meeting
DESCRIPTION:There will be a Ride Planning Meeting at the dealership in the mezzanine level (above the motor clothes counter. The meeting is open to all members.
URL:https://www.gardenstatehogchapter.com/welcome/event/ride-planning-meeting-3/
LOCATION:Garden State Harley-Davidson\, 1775 Route 10 East\, Morris Plains\, NJ\, 07950\, United States
CATEGORIES:Meeting
END:VEVENT
BEGIN:VEVENT
DTSTART;TZID=America/New_York:20150718T100000
DTEND;TZID=America/New_York:20150718T110000
DTSTAMP:20260424T032356
CREATED:20150609T035443Z
LAST-MODIFIED:20150609T035544Z
UID:156-1437213600-1437217200@www.gardenstatehogchapter.com
SUMMARY:General Membership Meeting
DESCRIPTION:The general chapter meeting will be held at the dealership in the mezzanine level (above the motor clothes counter.)
URL:https://www.gardenstatehogchapter.com/welcome/event/general-membership-meeting-2/
LOCATION:Garden State Harley-Davidson\, 1775 Route 10 East\, Morris Plains\, NJ\, 07950\, United States
CATEGORIES:Meeting
END:VEVENT
BEGIN:VEVENT
DTSTART;TZID=America/New_York:20150718T090000
DTEND;TZID=America/New_York:20150718T100000
DTSTAMP:20260424T032356
CREATED:20150609T035251Z
LAST-MODIFIED:20150609T035251Z
UID:155-1437210000-1437213600@www.gardenstatehogchapter.com
SUMMARY:E-Board Meeting
DESCRIPTION:The E-Board will be meeting at the dealership in the mezzanine level (above the motor clothes counter.) The meeting is open to all members.
URL:https://www.gardenstatehogchapter.com/welcome/event/e-board-meeting-2/
LOCATION:Garden State Harley-Davidson\, 1775 Route 10 East\, Morris Plains\, NJ\, 07950\, United States
CATEGORIES:Meeting
END:VEVENT
BEGIN:VEVENT
DTSTART;TZID=America/New_York:20150711T100000
DTEND;TZID=America/New_York:20150711T110000
DTSTAMP:20260424T032356
CREATED:20150609T034330Z
LAST-MODIFIED:20150609T034330Z
UID:152-1436608800-1436612400@www.gardenstatehogchapter.com
SUMMARY:Ride Planning Meeting
DESCRIPTION:There will be a Ride Planning Meeting at the dealership in the mezzanine level (above the motor clothes counter. The meeting is open to all members.
URL:https://www.gardenstatehogchapter.com/welcome/event/ride-planning-meeting-2/
LOCATION:Garden State Harley-Davidson\, 1775 Route 10 East\, Morris Plains\, NJ\, 07950\, United States
CATEGORIES:Meeting
END:VEVENT
BEGIN:VEVENT
DTSTART;TZID=America/New_York:20150620T100000
DTEND;TZID=America/New_York:20150620T110000
DTSTAMP:20260424T032356
CREATED:20150527T225138Z
LAST-MODIFIED:20150527T225138Z
UID:94-1434794400-1434798000@www.gardenstatehogchapter.com
SUMMARY:General Membership Meeting
DESCRIPTION:
URL:https://www.gardenstatehogchapter.com/welcome/event/general-membership-meeting/
LOCATION:Garden State Harley-Davidson\, 1775 Route 10 East\, Morris Plains\, NJ\, 07950\, United States
CATEGORIES:Meeting
END:VEVENT
BEGIN:VEVENT
DTSTART;TZID=America/New_York:20150620T090000
DTEND;TZID=America/New_York:20150620T100000
DTSTAMP:20260424T032356
CREATED:20150527T224824Z
LAST-MODIFIED:20150527T224824Z
UID:93-1434790800-1434794400@www.gardenstatehogchapter.com
SUMMARY:E-Board Meeting
DESCRIPTION:
URL:https://www.gardenstatehogchapter.com/welcome/event/e-board-meeting/
LOCATION:Garden State Harley-Davidson\, 1775 Route 10 East\, Morris Plains\, NJ\, 07950\, United States
CATEGORIES:Meeting
END:VEVENT
BEGIN:VEVENT
DTSTART;TZID=America/New_York:20150613T100000
DTEND;TZID=America/New_York:20150613T110000
DTSTAMP:20260424T032356
CREATED:20150530T225003Z
LAST-MODIFIED:20150530T225003Z
UID:131-1434189600-1434193200@www.gardenstatehogchapter.com
SUMMARY:Ride Planning Meeting
DESCRIPTION:A Ride Panning Meeeting will b eheld at the dealership on the Mezzanine Level above the Clothing counter at 10:am. The meeting is open to all members.
URL:https://www.gardenstatehogchapter.com/welcome/event/ride-planning-meeting/
LOCATION:Garden State Harley-Davidson\, 1775 Route 10 East\, Morris Plains\, NJ\, 07950\, United States
CATEGORIES:Meeting
END:VEVENT
END:VCALENDAR