BEGIN:VCALENDAR
VERSION:2.0
PRODID:-//Garden State Hog Chapter - ECPv6.15.17.1//NONSGML v1.0//EN
CALSCALE:GREGORIAN
METHOD:PUBLISH
X-ORIGINAL-URL:https://www.gardenstatehogchapter.com/welcome
X-WR-CALDESC:Events for Garden State Hog Chapter
REFRESH-INTERVAL;VALUE=DURATION:PT1H
X-Robots-Tag:noindex
X-PUBLISHED-TTL:PT1H
BEGIN:VTIMEZONE
TZID:America/New_York
BEGIN:DAYLIGHT
TZOFFSETFROM:-0500
TZOFFSETTO:-0400
TZNAME:EDT
DTSTART:20150308T070000
END:DAYLIGHT
BEGIN:STANDARD
TZOFFSETFROM:-0400
TZOFFSETTO:-0500
TZNAME:EST
DTSTART:20151101T060000
END:STANDARD
BEGIN:DAYLIGHT
TZOFFSETFROM:-0500
TZOFFSETTO:-0400
TZNAME:EDT
DTSTART:20160313T070000
END:DAYLIGHT
BEGIN:STANDARD
TZOFFSETFROM:-0400
TZOFFSETTO:-0500
TZNAME:EST
DTSTART:20161106T060000
END:STANDARD
BEGIN:DAYLIGHT
TZOFFSETFROM:-0500
TZOFFSETTO:-0400
TZNAME:EDT
DTSTART:20170312T070000
END:DAYLIGHT
BEGIN:STANDARD
TZOFFSETFROM:-0400
TZOFFSETTO:-0500
TZNAME:EST
DTSTART:20171105T060000
END:STANDARD
END:VTIMEZONE
BEGIN:VTIMEZONE
TZID:UTC
BEGIN:STANDARD
TZOFFSETFROM:+0000
TZOFFSETTO:+0000
TZNAME:UTC
DTSTART:20150101T000000
END:STANDARD
END:VTIMEZONE
BEGIN:VEVENT
DTSTART;TZID=America/New_York:20161015T090000
DTEND;TZID=America/New_York:20161015T100000
DTSTAMP:20260423T230240
CREATED:20161011T234600Z
LAST-MODIFIED:20161011T234600Z
UID:491-1476522000-1476525600@www.gardenstatehogchapter.com
SUMMARY:Chapter E-Board Meeting
DESCRIPTION:
URL:https://www.gardenstatehogchapter.com/welcome/event/chapter-e-board-meeting-14/
LOCATION:Garden State Harley-Davidson\, 1775 Route 10 East\, Morris Plains\, NJ\, 07950\, United States
CATEGORIES:Meeting
END:VEVENT
BEGIN:VEVENT
DTSTART;TZID=America/New_York:20160917T100000
DTEND;TZID=America/New_York:20160917T110000
DTSTAMP:20260423T230240
CREATED:20160830T003020Z
LAST-MODIFIED:20160830T003020Z
UID:473-1474106400-1474110000@www.gardenstatehogchapter.com
SUMMARY:General Membership Meeting
DESCRIPTION:
URL:https://www.gardenstatehogchapter.com/welcome/event/general-membership-meeting-7/
LOCATION:Garden State Harley-Davidson\, 1775 Route 10 East\, Morris Plains\, NJ\, 07950\, United States
CATEGORIES:Meeting
END:VEVENT
BEGIN:VEVENT
DTSTART;TZID=America/New_York:20160917T090000
DTEND;TZID=America/New_York:20160917T100000
DTSTAMP:20260423T230240
CREATED:20160830T002858Z
LAST-MODIFIED:20160830T002858Z
UID:472-1474102800-1474106400@www.gardenstatehogchapter.com
SUMMARY:Chapter E-Board Meeting
DESCRIPTION:
URL:https://www.gardenstatehogchapter.com/welcome/event/chapter-e-board-meeting-13/
LOCATION:Garden State Harley-Davidson\, 1775 Route 10 East\, Morris Plains\, NJ\, 07950\, United States
CATEGORIES:Meeting
END:VEVENT
BEGIN:VEVENT
DTSTART;TZID=America/New_York:20160915T183000
DTEND;TZID=America/New_York:20160915T193000
DTSTAMP:20260423T230240
CREATED:20160830T002646Z
LAST-MODIFIED:20160830T002646Z
UID:470-1473964200-1473967800@www.gardenstatehogchapter.com
SUMMARY:Ladies of Harley Meeting
DESCRIPTION:
URL:https://www.gardenstatehogchapter.com/welcome/event/ladies-of-harley-meeting-4/
LOCATION:Garden State Harley-Davidson\, 1775 Route 10 East\, Morris Plains\, NJ\, 07950\, United States
CATEGORIES:Meeting
END:VEVENT
BEGIN:VEVENT
DTSTART;TZID=America/New_York:20160903T100000
DTEND;TZID=America/New_York:20160903T110000
DTSTAMP:20260423T230240
CREATED:20160811T170919Z
LAST-MODIFIED:20160811T170919Z
UID:463-1472896800-1472900400@www.gardenstatehogchapter.com
SUMMARY:Ride Planning Meeting
DESCRIPTION:
URL:https://www.gardenstatehogchapter.com/welcome/event/ride-planning-meeting-11/
LOCATION:Garden State Harley-Davidson\, 1775 Route 10 East\, Morris Plains\, NJ\, 07950\, United States
CATEGORIES:Meeting
END:VEVENT
BEGIN:VEVENT
DTSTART;TZID=America/New_York:20160820T110000
DTEND;TZID=America/New_York:20160820T140000
DTSTAMP:20260423T230240
CREATED:20150609T042008Z
LAST-MODIFIED:20160811T163412Z
UID:159-1471690800-1471701600@www.gardenstatehogchapter.com
SUMMARY:White Castle/Cliff's Ice Cream
DESCRIPTION:John Cording will be leading a ride to Ledgewood NJ. The ride will go to White Castle located at 1113 US-46\, Ledgewood\, NJ 07852 and then Cliff’s Ice Cream located at 1475 US-46\, Ledgewood\, NJ 07852. \n 
URL:https://www.gardenstatehogchapter.com/welcome/event/white-castlecliffs-ice-cream/
LOCATION:Garden State Harley-Davidson\, 1775 Route 10 East\, Morris Plains\, NJ\, 07950\, United States
CATEGORIES:Meeting
END:VEVENT
BEGIN:VEVENT
DTSTART;TZID=America/New_York:20160820T100000
DTEND;TZID=America/New_York:20160820T230000
DTSTAMP:20260423T230240
CREATED:20160811T163004Z
LAST-MODIFIED:20160811T163635Z
UID:459-1471687200-1471734000@www.gardenstatehogchapter.com
SUMMARY:Chapter General Membership Meeting
DESCRIPTION:
URL:https://www.gardenstatehogchapter.com/welcome/event/chapter-general-membership-meeting/
LOCATION:Garden State Harley-Davidson\, 1775 Route 10 East\, Morris Plains\, NJ\, 07950\, United States
CATEGORIES:Meeting
END:VEVENT
BEGIN:VEVENT
DTSTART;TZID=America/New_York:20160820T090000
DTEND;TZID=America/New_York:20160820T220000
DTSTAMP:20260423T230240
CREATED:20160811T162847Z
LAST-MODIFIED:20160811T162847Z
UID:458-1471683600-1471730400@www.gardenstatehogchapter.com
SUMMARY:Chapter E-Board Meeting
DESCRIPTION:
URL:https://www.gardenstatehogchapter.com/welcome/event/chapter-e-board-meeting-12/
LOCATION:Garden State Harley-Davidson\, 1775 Route 10 East\, Morris Plains\, NJ\, 07950\, United States
CATEGORIES:Meeting
END:VEVENT
BEGIN:VEVENT
DTSTART;TZID=America/New_York:20160818T183000
DTEND;TZID=America/New_York:20160818T193000
DTSTAMP:20260423T230240
CREATED:20160811T170742Z
LAST-MODIFIED:20160811T170742Z
UID:462-1471545000-1471548600@www.gardenstatehogchapter.com
SUMMARY:Ladies of Harley Meeting
DESCRIPTION:
URL:https://www.gardenstatehogchapter.com/welcome/event/ladies-of-harley-meeting-3/
LOCATION:Garden State Harley-Davidson\, 1775 Route 10 East\, Morris Plains\, NJ\, 07950\, United States
CATEGORIES:Meeting
END:VEVENT
BEGIN:VEVENT
DTSTART;TZID=America/New_York:20160806T100000
DTEND;TZID=America/New_York:20160806T110000
DTSTAMP:20260423T230240
CREATED:20160801T130407Z
LAST-MODIFIED:20160801T130407Z
UID:455-1470477600-1470481200@www.gardenstatehogchapter.com
SUMMARY:Ride Planning Meeting
DESCRIPTION:The meeting is open to all members.
URL:https://www.gardenstatehogchapter.com/welcome/event/ride-planning-meeting-10/
LOCATION:Garden State Harley-Davidson\, 1775 Route 10 East\, Morris Plains\, NJ\, 07950\, United States
CATEGORIES:Meeting
END:VEVENT
BEGIN:VEVENT
DTSTART;TZID=UTC:20160716T100000
DTEND;TZID=UTC:20160716T100000
DTSTAMP:20260423T230240
CREATED:20160625T153017Z
LAST-MODIFIED:20160625T153017Z
UID:438-1468663200-1468663200@www.gardenstatehogchapter.com
SUMMARY:General Membership Meeting
DESCRIPTION:
URL:https://www.gardenstatehogchapter.com/welcome/event/general-membership-meeting-6/
LOCATION:Garden State Harley-Davidson\, 1775 Route 10 East\, Morris Plains\, NJ\, 07950\, United States
CATEGORIES:Meeting
END:VEVENT
BEGIN:VEVENT
DTSTART;TZID=UTC:20160716T090000
DTEND;TZID=UTC:20160716T100000
DTSTAMP:20260423T230240
CREATED:20160625T152858Z
LAST-MODIFIED:20160625T152858Z
UID:437-1468659600-1468663200@www.gardenstatehogchapter.com
SUMMARY:Chapter E-Board Meeting
DESCRIPTION:
URL:https://www.gardenstatehogchapter.com/welcome/event/chapter-e-board-meeting-11/
LOCATION:Garden State Harley-Davidson\, 1775 Route 10 East\, Morris Plains\, NJ\, 07950\, United States
CATEGORIES:Meeting
END:VEVENT
BEGIN:VEVENT
DTSTART;TZID=UTC:20160709T100000
DTEND;TZID=UTC:20160709T110000
DTSTAMP:20260423T230240
CREATED:20160625T152011Z
LAST-MODIFIED:20160625T152011Z
UID:435-1468058400-1468062000@www.gardenstatehogchapter.com
SUMMARY:Ride Planning Meeting
DESCRIPTION:
URL:https://www.gardenstatehogchapter.com/welcome/event/ride-planning-meeting-9/
LOCATION:Garden State Harley-Davidson\, 1775 Route 10 East\, Morris Plains\, NJ\, 07950\, United States
CATEGORIES:Meeting
END:VEVENT
BEGIN:VEVENT
DTSTART;TZID=UTC:20160618T090000
DTEND;TZID=UTC:20160618T170000
DTSTAMP:20260423T230240
CREATED:20160514T172016Z
LAST-MODIFIED:20160514T172016Z
UID:422-1466240400-1466269200@www.gardenstatehogchapter.com
SUMMARY:Chiton Memorial Hospital Ride
DESCRIPTION:
URL:https://www.gardenstatehogchapter.com/welcome/event/chiton-memorial-hospital-ride/
LOCATION:Garden State Harley-Davidson\, 1775 Route 10 East\, Morris Plains\, NJ\, 07950\, United States
CATEGORIES:Meeting
END:VEVENT
BEGIN:VEVENT
DTSTART;TZID=UTC:20160611T110000
DTEND;TZID=UTC:20160611T120000
DTSTAMP:20260423T230240
CREATED:20160603T060233Z
LAST-MODIFIED:20160606T181917Z
UID:428-1465642800-1465646400@www.gardenstatehogchapter.com
SUMMARY:Ride Planning Meeting
DESCRIPTION:
URL:https://www.gardenstatehogchapter.com/welcome/event/ride-planning-meeting-8/
LOCATION:Garden State Harley-Davidson\, 1775 Route 10 East\, Morris Plains\, NJ\, 07950\, United States
CATEGORIES:Meeting
END:VEVENT
BEGIN:VEVENT
DTSTART;TZID=UTC:20160611T100000
DTEND;TZID=UTC:20160611T110000
DTSTAMP:20260423T230240
CREATED:20160606T181717Z
LAST-MODIFIED:20160606T181717Z
UID:430-1465639200-1465642800@www.gardenstatehogchapter.com
SUMMARY:General Membership Meeting
DESCRIPTION:The General Membership meeting will be a week earlier to participate in the Chapter Charity Run on 6/17.
URL:https://www.gardenstatehogchapter.com/welcome/event/general-membership-meeting-5/
LOCATION:Garden State Harley-Davidson\, 1775 Route 10 East\, Morris Plains\, NJ\, 07950\, United States
CATEGORIES:Meeting
END:VEVENT
BEGIN:VEVENT
DTSTART;TZID=UTC:20160611T090000
DTEND;TZID=UTC:20160611T100000
DTSTAMP:20260423T230240
CREATED:20160606T181345Z
LAST-MODIFIED:20160606T181345Z
UID:429-1465635600-1465639200@www.gardenstatehogchapter.com
SUMMARY:E-Board Meeting
DESCRIPTION:Due to the Chapter Event on 6/18\, the E-Board will be meeting a week earlier this month.
URL:https://www.gardenstatehogchapter.com/welcome/event/e-board-meeting-4/
LOCATION:Garden State Harley-Davidson\, 1775 Route 10 East\, Morris Plains\, NJ\, 07950\, United States
CATEGORIES:Meeting
END:VEVENT
BEGIN:VEVENT
DTSTART;TZID=UTC:20160514T100000
DTEND;TZID=UTC:20160514T230000
DTSTAMP:20260423T230240
CREATED:20160514T174152Z
LAST-MODIFIED:20160514T174152Z
UID:426-1463220000-1463266800@www.gardenstatehogchapter.com
SUMMARY:General Membership Meeting
DESCRIPTION:
URL:https://www.gardenstatehogchapter.com/welcome/event/general-membership-meeting-4/
LOCATION:Garden State Harley-Davidson\, 1775 Route 10 East\, Morris Plains\, NJ\, 07950\, United States
CATEGORIES:Meeting
END:VEVENT
BEGIN:VEVENT
DTSTART;TZID=UTC:20160514T100000
DTEND;TZID=UTC:20160514T110000
DTSTAMP:20260423T230240
CREATED:20160416T072706Z
LAST-MODIFIED:20160416T072706Z
UID:407-1463220000-1463223600@www.gardenstatehogchapter.com
SUMMARY:Chapter Meeting
DESCRIPTION:The meeting is one week earlier this month.
URL:https://www.gardenstatehogchapter.com/welcome/event/chapter-meeting-3/
LOCATION:Garden State Harley-Davidson\, 1775 Route 10 East\, Morris Plains\, NJ\, 07950\, United States
CATEGORIES:Meeting
END:VEVENT
BEGIN:VEVENT
DTSTART;TZID=UTC:20160514T090000
DTEND;TZID=UTC:20160514T220000
DTSTAMP:20260423T230240
CREATED:20160514T174054Z
LAST-MODIFIED:20160514T174054Z
UID:425-1463216400-1463263200@www.gardenstatehogchapter.com
SUMMARY:Chapter E-Board Meeting
DESCRIPTION:
URL:https://www.gardenstatehogchapter.com/welcome/event/chapter-e-board-meeting-10/
LOCATION:Garden State Harley-Davidson\, 1775 Route 10 East\, Morris Plains\, NJ\, 07950\, United States
CATEGORIES:Meeting
END:VEVENT
BEGIN:VEVENT
DTSTART;TZID=UTC:20160514T090000
DTEND;TZID=UTC:20160514T100000
DTSTAMP:20260423T230240
CREATED:20160416T072606Z
LAST-MODIFIED:20160416T072606Z
UID:406-1463216400-1463220000@www.gardenstatehogchapter.com
SUMMARY:Chapter E-Board Meeting
DESCRIPTION:The meeting is one week earlier this month.
URL:https://www.gardenstatehogchapter.com/welcome/event/chapter-e-board-meeting-9/
LOCATION:Garden State Harley-Davidson\, 1775 Route 10 East\, Morris Plains\, NJ\, 07950\, United States
CATEGORIES:Meeting
END:VEVENT
BEGIN:VEVENT
DTSTART;TZID=UTC:20160507T100000
DTEND;TZID=UTC:20160507T110000
DTSTAMP:20260423T230240
CREATED:20160506T181554Z
LAST-MODIFIED:20160506T181554Z
UID:412-1462615200-1462618800@www.gardenstatehogchapter.com
SUMMARY:Ride Planning Meeting
DESCRIPTION:
URL:https://www.gardenstatehogchapter.com/welcome/event/ride-planning-meeting-7/
LOCATION:Garden State Harley-Davidson\, 1775 Route 10 East\, Morris Plains\, NJ\, 07950\, United States
CATEGORIES:Meeting
END:VEVENT
BEGIN:VEVENT
DTSTART;TZID=UTC:20160421T183000
DTEND;TZID=UTC:20160421T200000
DTSTAMP:20260423T230240
CREATED:20160309T045237Z
LAST-MODIFIED:20160402T191717Z
UID:361-1461263400-1461268800@www.gardenstatehogchapter.com
SUMMARY:Ladies of Harley Meeting
DESCRIPTION:Ladies of Harley will meet at the dealership in the Mezzanine level above the Clothing Counter.
URL:https://www.gardenstatehogchapter.com/welcome/event/ladies-of-harley-meeting-2/
LOCATION:Garden State Harley-Davidson\, 1775 Route 10 East\, Morris Plains\, NJ\, 07950\, United States
CATEGORIES:Meeting
END:VEVENT
BEGIN:VEVENT
DTSTART;TZID=UTC:20160416T100000
DTEND;TZID=UTC:20160416T110000
DTSTAMP:20260423T230240
CREATED:20160309T053528Z
LAST-MODIFIED:20160309T053528Z
UID:378-1460800800-1460804400@www.gardenstatehogchapter.com
SUMMARY:Chapter Membership Meeting
DESCRIPTION:
URL:https://www.gardenstatehogchapter.com/welcome/event/chapter-membership-meeting-4/
LOCATION:Garden State Harley-Davidson\, 1775 Route 10 East\, Morris Plains\, NJ\, 07950\, United States
CATEGORIES:Meeting
END:VEVENT
BEGIN:VEVENT
DTSTART;TZID=UTC:20160416T090000
DTEND;TZID=UTC:20160416T100000
DTSTAMP:20260423T230240
CREATED:20160309T053435Z
LAST-MODIFIED:20160311T082938Z
UID:377-1460797200-1460800800@www.gardenstatehogchapter.com
SUMMARY:Chapter E-Board Meeting
DESCRIPTION:
URL:https://www.gardenstatehogchapter.com/welcome/event/chapter-e-board-meeting-8/
LOCATION:Garden State Harley-Davidson\, 1775 Route 10 East\, Morris Plains\, NJ\, 07950\, United States
CATEGORIES:Meeting
END:VEVENT
BEGIN:VEVENT
DTSTART;TZID=UTC:20160410T100000
DTEND;TZID=UTC:20160410T130000
DTSTAMP:20260423T230240
CREATED:20160309T053017Z
LAST-MODIFIED:20160309T054213Z
UID:375-1460282400-1460293200@www.gardenstatehogchapter.com
SUMMARY:Apple Valley Family Restaurant Ride
DESCRIPTION:Join Road Captain Keith Ward to The Apple Valley Family Restaurant in Milford PA.
URL:https://www.gardenstatehogchapter.com/welcome/event/apple-valley-ride/
LOCATION:NJ
CATEGORIES:Meeting
END:VEVENT
BEGIN:VEVENT
DTSTART;TZID=UTC:20160402T100000
DTEND;TZID=UTC:20160402T110000
DTSTAMP:20260423T230240
CREATED:20160309T051829Z
LAST-MODIFIED:20160309T051829Z
UID:371-1459591200-1459594800@www.gardenstatehogchapter.com
SUMMARY:Ride Planning Meeting
DESCRIPTION:
URL:https://www.gardenstatehogchapter.com/welcome/event/ride-planning-meeting-6/
LOCATION:Garden State Harley-Davidson\, 1775 Route 10 East\, Morris Plains\, NJ\, 07950\, United States
CATEGORIES:Meeting
END:VEVENT
BEGIN:VEVENT
DTSTART;TZID=UTC:20160319T100000
DTEND;TZID=UTC:20160319T110000
DTSTAMP:20260423T230240
CREATED:20160309T051539Z
LAST-MODIFIED:20160309T051539Z
UID:370-1458381600-1458385200@www.gardenstatehogchapter.com
SUMMARY:Chapter Membership Meeting
DESCRIPTION:
URL:https://www.gardenstatehogchapter.com/welcome/event/chapter-membership-meeting-3/
LOCATION:Garden State Harley-Davidson\, 1775 Route 10 East\, Morris Plains\, NJ\, 07950\, United States
CATEGORIES:Meeting
END:VEVENT
BEGIN:VEVENT
DTSTART;TZID=UTC:20160319T090000
DTEND;TZID=UTC:20160319T100000
DTSTAMP:20260423T230240
CREATED:20160309T051432Z
LAST-MODIFIED:20160309T051432Z
UID:369-1458378000-1458381600@www.gardenstatehogchapter.com
SUMMARY:Chapter E-Board Meeting
DESCRIPTION:
URL:https://www.gardenstatehogchapter.com/welcome/event/chapter-e-board-meeting-7/
LOCATION:Garden State Harley-Davidson\, 1775 Route 10 East\, Morris Plains\, NJ\, 07950\, United States
CATEGORIES:Meeting
END:VEVENT
BEGIN:VEVENT
DTSTART;TZID=UTC:20160305T100000
DTEND;TZID=UTC:20160305T230000
DTSTAMP:20260423T230240
CREATED:20160226T045634Z
LAST-MODIFIED:20160226T045634Z
UID:359-1457172000-1457218800@www.gardenstatehogchapter.com
SUMMARY:Ride Planning Meeting
DESCRIPTION:There will be a Ride Planning Meeting at the dealership in the mezzanine level (above the motor clothes counter. The meeting is open to all members.
URL:https://www.gardenstatehogchapter.com/welcome/event/ride-planning-meeting-5/
LOCATION:Garden State Harley-Davidson\, 1775 Route 10 East\, Morris Plains\, NJ\, 07950\, United States
CATEGORIES:Meeting
END:VEVENT
END:VCALENDAR