BEGIN:VCALENDAR
VERSION:2.0
PRODID:-//Garden State Hog Chapter - ECPv6.15.17.1//NONSGML v1.0//EN
CALSCALE:GREGORIAN
METHOD:PUBLISH
X-WR-CALNAME:Garden State Hog Chapter
X-ORIGINAL-URL:https://www.gardenstatehogchapter.com/welcome
X-WR-CALDESC:Events for Garden State Hog Chapter
REFRESH-INTERVAL;VALUE=DURATION:PT1H
X-Robots-Tag:noindex
X-PUBLISHED-TTL:PT1H
BEGIN:VTIMEZONE
TZID:America/New_York
BEGIN:DAYLIGHT
TZOFFSETFROM:-0500
TZOFFSETTO:-0400
TZNAME:EDT
DTSTART:20220313T070000
END:DAYLIGHT
BEGIN:STANDARD
TZOFFSETFROM:-0400
TZOFFSETTO:-0500
TZNAME:EST
DTSTART:20221106T060000
END:STANDARD
BEGIN:DAYLIGHT
TZOFFSETFROM:-0500
TZOFFSETTO:-0400
TZNAME:EDT
DTSTART:20230312T070000
END:DAYLIGHT
BEGIN:STANDARD
TZOFFSETFROM:-0400
TZOFFSETTO:-0500
TZNAME:EST
DTSTART:20231105T060000
END:STANDARD
BEGIN:DAYLIGHT
TZOFFSETFROM:-0500
TZOFFSETTO:-0400
TZNAME:EDT
DTSTART:20240310T070000
END:DAYLIGHT
BEGIN:STANDARD
TZOFFSETFROM:-0400
TZOFFSETTO:-0500
TZNAME:EST
DTSTART:20241103T060000
END:STANDARD
BEGIN:DAYLIGHT
TZOFFSETFROM:-0500
TZOFFSETTO:-0400
TZNAME:EDT
DTSTART:20250309T070000
END:DAYLIGHT
BEGIN:STANDARD
TZOFFSETFROM:-0400
TZOFFSETTO:-0500
TZNAME:EST
DTSTART:20251102T060000
END:STANDARD
BEGIN:DAYLIGHT
TZOFFSETFROM:-0500
TZOFFSETTO:-0400
TZNAME:EDT
DTSTART:20260308T070000
END:DAYLIGHT
BEGIN:STANDARD
TZOFFSETFROM:-0400
TZOFFSETTO:-0500
TZNAME:EST
DTSTART:20261101T060000
END:STANDARD
BEGIN:DAYLIGHT
TZOFFSETFROM:-0500
TZOFFSETTO:-0400
TZNAME:EDT
DTSTART:20270314T070000
END:DAYLIGHT
BEGIN:STANDARD
TZOFFSETFROM:-0400
TZOFFSETTO:-0500
TZNAME:EST
DTSTART:20271107T060000
END:STANDARD
END:VTIMEZONE
BEGIN:VEVENT
DTSTART;TZID=America/New_York:20260418T090000
DTEND;TZID=America/New_York:20260418T100000
DTSTAMP:20260423T124258
CREATED:20260224T213557Z
LAST-MODIFIED:20260224T213557Z
UID:3725-1776502800-1776506400@www.gardenstatehogchapter.com
SUMMARY:Chapter Meeting - April
DESCRIPTION:Chapter Members and guests are invited to join our April Chapter Meeting on the 18th\, starting at 9:00AM.  Following the meeting will be a Chapter Ride.
URL:https://www.gardenstatehogchapter.com/welcome/event/chapter-meeting-april-2/
LOCATION:Garden State Harley-Davidson\, 1775 Route 10 East\, Morris Plains\, NJ\, 07950\, United States
CATEGORIES:Meeting
END:VEVENT
BEGIN:VEVENT
DTSTART;TZID=America/New_York:20260321T090000
DTEND;TZID=America/New_York:20260321T100000
DTSTAMP:20260423T124258
CREATED:20260224T210747Z
LAST-MODIFIED:20260224T210747Z
UID:3721-1774083600-1774087200@www.gardenstatehogchapter.com
SUMMARY:Chapter Meeting - March
DESCRIPTION:Stop by the Garden State Dealership for our March Chapter meeting on March 21st at 9:00AM.  Following the updates on what’s happening with the Chapter\, folks will take off on our short “Clear the Cobwebs” ride.
URL:https://www.gardenstatehogchapter.com/welcome/event/chapter-meeting-march-3/
LOCATION:Garden State Harley-Davidson\, 1775 Route 10 East\, Morris Plains\, NJ\, 07950\, United States
CATEGORIES:Meeting
END:VEVENT
BEGIN:VEVENT
DTSTART;TZID=America/New_York:20260221T100000
DTEND;TZID=America/New_York:20260221T110000
DTSTAMP:20260423T124258
CREATED:20251118T181232Z
LAST-MODIFIED:20251118T181232Z
UID:3709-1771668000-1771671600@www.gardenstatehogchapter.com
SUMMARY:February Chapter Breakfast Meeting
DESCRIPTION:Chapter Members are invited to our annual Breakfast Meeting to kick off the new year.  The meeting will start at 10AM.  Come for the bacon and stay for the fellowship and information.
URL:https://www.gardenstatehogchapter.com/welcome/event/february-chapter-breakfast-meeting/
LOCATION:Garden State Harley-Davidson\, 1775 Route 10 East\, Morris Plains\, NJ\, 07950\, United States
CATEGORIES:Meeting
END:VEVENT
BEGIN:VEVENT
DTSTART;TZID=America/New_York:20251115T090000
DTEND;TZID=America/New_York:20251115T100000
DTSTAMP:20260423T124258
CREATED:20251014T194351Z
LAST-MODIFIED:20251014T194351Z
UID:3686-1763197200-1763200800@www.gardenstatehogchapter.com
SUMMARY:November Chapter Meeting
DESCRIPTION:We welcome all Garden State HOG Chapter Members and guests to the last meeting of the year\, located at Garden State H-D.  We will review details about the various end of year activities\, including the End of Season Dinner that will take place later that evening.
URL:https://www.gardenstatehogchapter.com/welcome/event/november-chapter-meeting-3/
LOCATION:Garden State Harley-Davidson\, 1775 Route 10 East\, Morris Plains\, NJ\, 07950\, United States
CATEGORIES:Meeting
END:VEVENT
BEGIN:VEVENT
DTSTART;TZID=America/New_York:20251018T090000
DTEND;TZID=America/New_York:20251018T100000
DTSTAMP:20260423T124258
CREATED:20250819T225913Z
LAST-MODIFIED:20250819T225913Z
UID:3634-1760778000-1760781600@www.gardenstatehogchapter.com
SUMMARY:October Chapter Meeting
DESCRIPTION:Join our Chapter members at Garden State Harley-Davidson at 9AM on October 18th.  Learn about the remining activities for the riding season and what other we have going on.  We may have a guest speaker.
URL:https://www.gardenstatehogchapter.com/welcome/event/october-chapter-meeting-4/
LOCATION:Garden State Harley-Davidson\, 1775 Route 10 East\, Morris Plains\, NJ\, 07950\, United States
CATEGORIES:Meeting
END:VEVENT
BEGIN:VEVENT
DTSTART;TZID=America/New_York:20250920T090000
DTEND;TZID=America/New_York:20250920T100000
DTSTAMP:20260423T124258
CREATED:20250819T225618Z
LAST-MODIFIED:20250819T225618Z
UID:3632-1758358800-1758362400@www.gardenstatehogchapter.com
SUMMARY:September Chapter Meeting
DESCRIPTION:Join our Chapter members at Garden State Harley-Davidson at 9AM on September 20th.  Hear what is happening with the upcoming rides and other events.  We may have a guest speaker.
URL:https://www.gardenstatehogchapter.com/welcome/event/september-chapter-meeting-3/
LOCATION:Garden State Harley-Davidson\, 1775 Route 10 East\, Morris Plains\, NJ\, 07950\, United States
CATEGORIES:Meeting
END:VEVENT
BEGIN:VEVENT
DTSTART;TZID=America/New_York:20250816T090000
DTEND;TZID=America/New_York:20250816T100000
DTSTAMP:20260423T124258
CREATED:20250709T005139Z
LAST-MODIFIED:20250709T005139Z
UID:3604-1755334800-1755338400@www.gardenstatehogchapter.com
SUMMARY:August Chapter Meeting
DESCRIPTION:Please join fellow Chapter members at Garden State H-D for our August meeting.  We will start at 9:00AM on August 16th.  Hope to see you there.
URL:https://www.gardenstatehogchapter.com/welcome/event/august-chapter-meeting-3/
LOCATION:Garden State Harley-Davidson\, 1775 Route 10 East\, Morris Plains\, NJ\, 07950\, United States
CATEGORIES:Meeting
END:VEVENT
BEGIN:VEVENT
DTSTART;TZID=America/New_York:20250712T090000
DTEND;TZID=America/New_York:20250712T100000
DTSTAMP:20260423T124258
CREATED:20250609T234347Z
LAST-MODIFIED:20250609T234347Z
UID:3582-1752310800-1752314400@www.gardenstatehogchapter.com
SUMMARY:July Chapter Meeting
DESCRIPTION:We will be hosting the July Chapter Meeting a week early\, due to missing the one in June.  Location is Garden State Harley-Davidson\, time is 9:00AM.  See you there.
URL:https://www.gardenstatehogchapter.com/welcome/event/july-chapter-meeting-3/
LOCATION:Garden State Harley-Davidson\, 1775 Route 10 East\, Morris Plains\, NJ\, 07950\, United States
CATEGORIES:Meeting
END:VEVENT
BEGIN:VEVENT
DTSTART;TZID=America/New_York:20250621T090000
DTEND;TZID=America/New_York:20250621T100000
DTSTAMP:20260423T124258
CREATED:20250519T235901Z
LAST-MODIFIED:20250604T002152Z
UID:3569-1750496400-1750500000@www.gardenstatehogchapter.com
SUMMARY:June Chapter Meeting - Cancelled
DESCRIPTION:Cancelled due to overlap with the Howe Caverns trip \nThe Chapter will gather on June 21st to review current rides and events.  All are welcome at the Garden State Dealership at 9:00AM.
URL:https://www.gardenstatehogchapter.com/welcome/event/june-chapter-meeting-4/
LOCATION:Garden State Harley-Davidson\, 1775 Route 10 East\, Morris Plains\, NJ\, 07950\, United States
CATEGORIES:Meeting
END:VEVENT
BEGIN:VEVENT
DTSTART;TZID=America/New_York:20250517T090000
DTEND;TZID=America/New_York:20250517T100000
DTSTAMP:20260423T124258
CREATED:20250205T010637Z
LAST-MODIFIED:20250205T010637Z
UID:3508-1747472400-1747476000@www.gardenstatehogchapter.com
SUMMARY:May Chapter Meeting
DESCRIPTION:Stop by the Dealership for the May Chapter Meeting.  Meetings will start at 9AM going forward\, to allow more time for lunch rides\, or charity rides scheduled on the same day.
URL:https://www.gardenstatehogchapter.com/welcome/event/may-chapter-meeting-2/
LOCATION:Garden State Harley-Davidson\, 1775 Route 10 East\, Morris Plains\, NJ\, 07950\, United States
CATEGORIES:Meeting
END:VEVENT
BEGIN:VEVENT
DTSTART;TZID=America/New_York:20250419T090000
DTEND;TZID=America/New_York:20250419T100000
DTSTAMP:20260423T124258
CREATED:20250205T010518Z
LAST-MODIFIED:20250205T010518Z
UID:3506-1745053200-1745056800@www.gardenstatehogchapter.com
SUMMARY:April Chapter Meeting
DESCRIPTION:Stop by the Dealership for the April Chapter Meeting.  Meetings will start at 9AM going forward\, to allow more time for lunch rides\, or charity rides scheduled on the same day.
URL:https://www.gardenstatehogchapter.com/welcome/event/april-chapter-meeting-4/
LOCATION:Garden State Harley-Davidson\, 1775 Route 10 East\, Morris Plains\, NJ\, 07950\, United States
CATEGORIES:Meeting
END:VEVENT
BEGIN:VEVENT
DTSTART;TZID=America/New_York:20250315T090000
DTEND;TZID=America/New_York:20250315T100000
DTSTAMP:20260423T124258
CREATED:20250205T010403Z
LAST-MODIFIED:20250205T010403Z
UID:3504-1742029200-1742032800@www.gardenstatehogchapter.com
SUMMARY:March Chapter Meeting
DESCRIPTION:Stop by the Dealership for the March Chapter Meeting.  Meetings will start at 9AM going forward\, to allow more time for lunch rides\, or charity rides scheduled on the same day.
URL:https://www.gardenstatehogchapter.com/welcome/event/march-chapter-meeting-3/
LOCATION:Garden State Harley-Davidson\, 1775 Route 10 East\, Morris Plains\, NJ\, 07950\, United States
CATEGORIES:Meeting
END:VEVENT
BEGIN:VEVENT
DTSTART;TZID=America/New_York:20250215T093000
DTEND;TZID=America/New_York:20250215T103000
DTSTAMP:20260423T124258
CREATED:20250116T014744Z
LAST-MODIFIED:20250116T014744Z
UID:3491-1739611800-1739615400@www.gardenstatehogchapter.com
SUMMARY:February Chapter Meeting - Breakfast Meeting
DESCRIPTION:Help us kickoff the 2025 Chapter Program year at Garden State HD.  Saturday February 15th at 9:30AM.  Breakfast will be available.
URL:https://www.gardenstatehogchapter.com/welcome/event/february-chapter-meeting-breakfast-meeting/
LOCATION:Garden State Harley-Davidson\, 1775 Route 10 East\, Morris Plains\, NJ\, 07950\, United States
CATEGORIES:Meeting
END:VEVENT
BEGIN:VEVENT
DTSTART;TZID=America/New_York:20241116T093000
DTEND;TZID=America/New_York:20241116T103000
DTSTAMP:20260423T124258
CREATED:20241023T000733Z
LAST-MODIFIED:20241023T000733Z
UID:3471-1731749400-1731753000@www.gardenstatehogchapter.com
SUMMARY:Chapter Meeting - November
DESCRIPTION:Hello Folks.  Come to the Dealership to check out what is going on with the Chapter as we transition into the holidays and prep for 2025.  The meeting starts at 9:30AM.
URL:https://www.gardenstatehogchapter.com/welcome/event/chapter-meeting-november/
LOCATION:Garden State Harley-Davidson\, 1775 Route 10 East\, Morris Plains\, NJ\, 07950\, United States
CATEGORIES:Meeting
END:VEVENT
BEGIN:VEVENT
DTSTART;TZID=America/New_York:20241019T090000
DTEND;TZID=America/New_York:20241019T093000
DTSTAMP:20260423T124258
CREATED:20241002T001942Z
LAST-MODIFIED:20241002T001942Z
UID:3446-1729328400-1729330200@www.gardenstatehogchapter.com
SUMMARY:Chapter Meeting - October Edition
DESCRIPTION:Come One\, Come All to the October Chapter Meeting at that Dealership.  The meeting is being move up to 9:00AM to buy some time for a long ride.
URL:https://www.gardenstatehogchapter.com/welcome/event/chapter-meeting-october-edition/
LOCATION:Garden State Harley-Davidson\, 1775 Route 10 East\, Morris Plains\, NJ\, 07950\, United States
CATEGORIES:Meeting
END:VEVENT
BEGIN:VEVENT
DTSTART;TZID=America/New_York:20240921T090000
DTEND;TZID=America/New_York:20240921T093000
DTSTAMP:20260423T124258
CREATED:20240817T152120Z
LAST-MODIFIED:20240817T152120Z
UID:3405-1726909200-1726911000@www.gardenstatehogchapter.com
SUMMARY:Chapter Meeting - September
DESCRIPTION:Come join fellow Chapter members at the September meeting\, moved 30 minutes earlier for the Eric C. Blohm charity ride.
URL:https://www.gardenstatehogchapter.com/welcome/event/chapter-meeting-september-2/
LOCATION:Garden State Harley-Davidson\, 1775 Route 10 East\, Morris Plains\, NJ\, 07950\, United States
CATEGORIES:Meeting
END:VEVENT
BEGIN:VEVENT
DTSTART;TZID=America/New_York:20240817T093000
DTEND;TZID=America/New_York:20240817T103000
DTSTAMP:20260423T124258
CREATED:20240618T233130Z
LAST-MODIFIED:20240618T233130Z
UID:3361-1723887000-1723890600@www.gardenstatehogchapter.com
SUMMARY:August Chapter Meeting
DESCRIPTION:Join fellow Chapter Members\, and a stray guest from time to time\, at the August Chapter Meeting.  The meeting starts at 9:30AM at the Dealership.  See you there.
URL:https://www.gardenstatehogchapter.com/welcome/event/august-chapter-meeting-2/
LOCATION:Garden State Harley-Davidson\, 1775 Route 10 East\, Morris Plains\, NJ\, 07950\, United States
CATEGORIES:Meeting
END:VEVENT
BEGIN:VEVENT
DTSTART;TZID=America/New_York:20240720T090000
DTEND;TZID=America/New_York:20240720T093000
DTSTAMP:20260423T124258
CREATED:20240618T230745Z
LAST-MODIFIED:20240618T230745Z
UID:3351-1721466000-1721467800@www.gardenstatehogchapter.com
SUMMARY:July Chapter Meeting - Garden State H-D
DESCRIPTION:Garden State HOG Members\, and guests who want to check out the Chapter\, are invited to the July installment of our monthly meetings.  We’ll see you at 9:00AM (a half hour early to accommodate the Morris Plains FD charity ride) at Garden State H-D.
URL:https://www.gardenstatehogchapter.com/welcome/event/july-chapter-meeting-garden-state-h-d/
LOCATION:Garden State Harley-Davidson\, 1775 Route 10 East\, Morris Plains\, NJ\, 07950\, United States
CATEGORIES:Meeting
END:VEVENT
BEGIN:VEVENT
DTSTART;TZID=America/New_York:20240615T093000
DTEND;TZID=America/New_York:20240615T223000
DTSTAMP:20260423T124258
CREATED:20240529T230940Z
LAST-MODIFIED:20240529T230940Z
UID:3334-1718443800-1718490600@www.gardenstatehogchapter.com
SUMMARY:June Chapter Meeting
DESCRIPTION:Please join fellow Chapter members at the Dealership for our June meeting.  We will be reviewing rides and events\, and covering riding tips and tricks for all to enjoy.
URL:https://www.gardenstatehogchapter.com/welcome/event/june-chapter-meeting-3/
LOCATION:Garden State Harley-Davidson\, 1775 Route 10 East\, Morris Plains\, NJ\, 07950\, United States
CATEGORIES:Meeting
END:VEVENT
BEGIN:VEVENT
DTSTART;TZID=America/New_York:20240511T093000
DTEND;TZID=America/New_York:20240511T103000
DTSTAMP:20260423T124258
CREATED:20240207T002109Z
LAST-MODIFIED:20240508T000803Z
UID:3241-1715419800-1715423400@www.gardenstatehogchapter.com
SUMMARY:May Chapter Meeting
DESCRIPTION:Our May Chapter Meeting is being moved earlier in the month to support the Nashville trip.  See you at the Dealership at 9:30AM.
URL:https://www.gardenstatehogchapter.com/welcome/event/may-chapter-meeting/
LOCATION:Garden State Harley-Davidson\, 1775 Route 10 East\, Morris Plains\, NJ\, 07950\, United States
CATEGORIES:Meeting
END:VEVENT
BEGIN:VEVENT
DTSTART;TZID=America/New_York:20240420T093000
DTEND;TZID=America/New_York:20240420T103000
DTSTAMP:20260423T124258
CREATED:20240207T001914Z
LAST-MODIFIED:20240207T001914Z
UID:3239-1713605400-1713609000@www.gardenstatehogchapter.com
SUMMARY:April Chapter Meeting
DESCRIPTION:Stop by the Dealership to hear what is happening with the Garden State HOG Chapter and reconnect with fellow Harley riders.
URL:https://www.gardenstatehogchapter.com/welcome/event/april-chapter-meeting-3/
LOCATION:Garden State Harley-Davidson\, 1775 Route 10 East\, Morris Plains\, NJ\, 07950\, United States
CATEGORIES:Meeting
END:VEVENT
BEGIN:VEVENT
DTSTART;TZID=America/New_York:20240316T093000
DTEND;TZID=America/New_York:20240316T103000
DTSTAMP:20260423T124258
CREATED:20240207T001641Z
LAST-MODIFIED:20240207T001641Z
UID:3237-1710581400-1710585000@www.gardenstatehogchapter.com
SUMMARY:March Chapter Meeting
DESCRIPTION:This is our March edition of the monthly Garden State HOG Chapter meeting.  Stop by to reconnect with other Harley enthusiasts and hear what is going on.
URL:https://www.gardenstatehogchapter.com/welcome/event/march-chapter-meeting-2/
LOCATION:Garden State Harley-Davidson\, 1775 Route 10 East\, Morris Plains\, NJ\, 07950\, United States
CATEGORIES:Meeting
END:VEVENT
BEGIN:VEVENT
DTSTART;TZID=America/New_York:20240217T090000
DTEND;TZID=America/New_York:20240217T110000
DTSTAMP:20260423T124258
CREATED:20240110T011531Z
LAST-MODIFIED:20240206T234921Z
UID:3224-1708160400-1708167600@www.gardenstatehogchapter.com
SUMMARY:February Chapter Meeting with Breakfast!
DESCRIPTION:Stop by the Dealership for our February Chapter Meeting.  Breakfast will be provided prior to the meeting\, so plan on arriving early.  Bring by your membership form and dues for the 2024 year\, if you haven’t dropped it off already.
URL:https://www.gardenstatehogchapter.com/welcome/event/february-chapter-meeting/
LOCATION:Garden State Harley-Davidson\, 1775 Route 10 East\, Morris Plains\, NJ\, 07950\, United States
CATEGORIES:Meeting
END:VEVENT
BEGIN:VEVENT
DTSTART;TZID=America/New_York:20231118T093000
DTEND;TZID=America/New_York:20231118T103000
DTSTAMP:20260423T124258
CREATED:20231107T010157Z
LAST-MODIFIED:20231107T010157Z
UID:3213-1700299800-1700303400@www.gardenstatehogchapter.com
SUMMARY:November Chapter Meeting
DESCRIPTION:Join fellow Chapter Members for our last meeting of the year.  We will review upcoming holiday photos\, end of season dinner\, Wally’s Turkey Trot\, and more.  Join us at the Dealership at 9:30AM.
URL:https://www.gardenstatehogchapter.com/welcome/event/november-chapter-meeting-2/
LOCATION:Garden State Harley-Davidson\, 1775 Route 10 East\, Morris Plains\, NJ\, 07950\, United States
CATEGORIES:Meeting
END:VEVENT
BEGIN:VEVENT
DTSTART;TZID=America/New_York:20231021T090000
DTEND;TZID=America/New_York:20231021T093000
DTSTAMP:20260423T124258
CREATED:20230927T000804Z
LAST-MODIFIED:20230927T000804Z
UID:3193-1697878800-1697880600@www.gardenstatehogchapter.com
SUMMARY:October Chapter Meeting
DESCRIPTION:Stop by the Dealership to check in on what’s going on with the Chapter.  Meeting start moved to 9AM to allow support for the Celebrate the Children Charity Ride.
URL:https://www.gardenstatehogchapter.com/welcome/event/october-chapter-meeting-3/
LOCATION:Garden State Harley-Davidson\, 1775 Route 10 East\, Morris Plains\, NJ\, 07950\, United States
CATEGORIES:Meeting
END:VEVENT
BEGIN:VEVENT
DTSTART;TZID=America/New_York:20230916T090000
DTEND;TZID=America/New_York:20230916T093000
DTSTAMP:20260423T124258
CREATED:20230905T214611Z
LAST-MODIFIED:20230905T214611Z
UID:3163-1694854800-1694856600@www.gardenstatehogchapter.com
SUMMARY:Chapter Meeting - September
DESCRIPTION:Drop by the Dealership at 9:00 on Saturday September 16th for a quick catch up on Chapter activities.  Immediately following will be the Eric Blohm Charity Ride\, where support for parking\, registration and grilling will be needed.
URL:https://www.gardenstatehogchapter.com/welcome/event/chapter-meeting-september/
LOCATION:Garden State Harley-Davidson\, 1775 Route 10 East\, Morris Plains\, NJ\, 07950\, United States
CATEGORIES:Meeting
END:VEVENT
BEGIN:VEVENT
DTSTART;TZID=America/New_York:20230819T093000
DTEND;TZID=America/New_York:20230819T103000
DTSTAMP:20260423T124258
CREATED:20230724T235041Z
LAST-MODIFIED:20230724T235041Z
UID:3117-1692437400-1692441000@www.gardenstatehogchapter.com
SUMMARY:August Chapter Meeting
DESCRIPTION:Join fellow Chapter Members at the Dealership for the August installment of the Chapter Meeting.  Catch up with friends to hear what is happening as we turn the corner towards Fall riding.
URL:https://www.gardenstatehogchapter.com/welcome/event/august-chapter-meeting/
LOCATION:Garden State Harley-Davidson\, 1775 Route 10 East\, Morris Plains\, NJ\, 07950\, United States
CATEGORIES:Meeting
END:VEVENT
BEGIN:VEVENT
DTSTART;TZID=America/New_York:20230722T110000
DTEND;TZID=America/New_York:20230722T123000
DTSTAMP:20260423T124258
CREATED:20230611T203334Z
LAST-MODIFIED:20230621T003011Z
UID:3062-1690023600-1690029000@www.gardenstatehogchapter.com
SUMMARY:July Chapter Meeting
DESCRIPTION:Come to the Garden State H-D Dealership for the June Chapter Meeting.  We will be discussing upcoming rides and events.  Lunch to be provided following the meeting in celebration of HOG’s 40th Anniversary. \nThe July meeting is being pushed a week due to the Milwaukee Trip.
URL:https://www.gardenstatehogchapter.com/welcome/event/july-chapter-meeting-2/
LOCATION:Garden State Harley-Davidson\, 1775 Route 10 East\, Morris Plains\, NJ\, 07950\, United States
CATEGORIES:Meeting
END:VEVENT
BEGIN:VEVENT
DTSTART;TZID=America/New_York:20230617T093000
DTEND;TZID=America/New_York:20230617T103000
DTSTAMP:20260423T124258
CREATED:20230611T203113Z
LAST-MODIFIED:20230611T203113Z
UID:3060-1686994200-1686997800@www.gardenstatehogchapter.com
SUMMARY:June Chapter Meeting
DESCRIPTION:Come to the Garden State H-D Dealership for the June Chapter Meeting.  We will be discussing upcoming rides and events.  Stick around for the Dealership Open House.  Grilling and HOG table support will be needed.
URL:https://www.gardenstatehogchapter.com/welcome/event/june-chapter-meeting-2/
LOCATION:Garden State Harley-Davidson\, 1775 Route 10 East\, Morris Plains\, NJ\, 07950\, United States
CATEGORIES:Meeting
END:VEVENT
BEGIN:VEVENT
DTSTART;TZID=America/New_York:20230520T093000
DTEND;TZID=America/New_York:20230520T103000
DTSTAMP:20260423T124258
CREATED:20230423T235413Z
LAST-MODIFIED:20230423T235413Z
UID:3002-1684575000-1684578600@www.gardenstatehogchapter.com
SUMMARY:Cancelled - May Chapter Meeting
DESCRIPTION:Due to the overlap with the Niagara Falls trip\, the May Chapter Meeting is cancelled.
URL:https://www.gardenstatehogchapter.com/welcome/event/cancelled-may-chapter-meeting/
LOCATION:Garden State Harley-Davidson\, 1775 Route 10 East\, Morris Plains\, NJ\, 07950\, United States
CATEGORIES:Meeting
END:VEVENT
END:VCALENDAR