BEGIN:VCALENDAR
VERSION:2.0
PRODID:-//Garden State Hog Chapter - ECPv6.15.17.1//NONSGML v1.0//EN
CALSCALE:GREGORIAN
METHOD:PUBLISH
X-WR-CALNAME:Garden State Hog Chapter
X-ORIGINAL-URL:https://www.gardenstatehogchapter.com/welcome
X-WR-CALDESC:Events for Garden State Hog Chapter
REFRESH-INTERVAL;VALUE=DURATION:PT1H
X-Robots-Tag:noindex
X-PUBLISHED-TTL:PT1H
BEGIN:VTIMEZONE
TZID:America/New_York
BEGIN:DAYLIGHT
TZOFFSETFROM:-0500
TZOFFSETTO:-0400
TZNAME:EDT
DTSTART:20160313T070000
END:DAYLIGHT
BEGIN:STANDARD
TZOFFSETFROM:-0400
TZOFFSETTO:-0500
TZNAME:EST
DTSTART:20161106T060000
END:STANDARD
BEGIN:DAYLIGHT
TZOFFSETFROM:-0500
TZOFFSETTO:-0400
TZNAME:EDT
DTSTART:20170312T070000
END:DAYLIGHT
BEGIN:STANDARD
TZOFFSETFROM:-0400
TZOFFSETTO:-0500
TZNAME:EST
DTSTART:20171105T060000
END:STANDARD
BEGIN:DAYLIGHT
TZOFFSETFROM:-0500
TZOFFSETTO:-0400
TZNAME:EDT
DTSTART:20180311T070000
END:DAYLIGHT
BEGIN:STANDARD
TZOFFSETFROM:-0400
TZOFFSETTO:-0500
TZNAME:EST
DTSTART:20181104T060000
END:STANDARD
BEGIN:DAYLIGHT
TZOFFSETFROM:-0500
TZOFFSETTO:-0400
TZNAME:EDT
DTSTART:20190310T070000
END:DAYLIGHT
BEGIN:STANDARD
TZOFFSETFROM:-0400
TZOFFSETTO:-0500
TZNAME:EST
DTSTART:20191103T060000
END:STANDARD
BEGIN:DAYLIGHT
TZOFFSETFROM:-0500
TZOFFSETTO:-0400
TZNAME:EDT
DTSTART:20200308T070000
END:DAYLIGHT
BEGIN:STANDARD
TZOFFSETFROM:-0400
TZOFFSETTO:-0500
TZNAME:EST
DTSTART:20201101T060000
END:STANDARD
BEGIN:DAYLIGHT
TZOFFSETFROM:-0500
TZOFFSETTO:-0400
TZNAME:EDT
DTSTART:20210314T070000
END:DAYLIGHT
BEGIN:STANDARD
TZOFFSETFROM:-0400
TZOFFSETTO:-0500
TZNAME:EST
DTSTART:20211107T060000
END:STANDARD
BEGIN:DAYLIGHT
TZOFFSETFROM:-0500
TZOFFSETTO:-0400
TZNAME:EDT
DTSTART:20220313T070000
END:DAYLIGHT
BEGIN:STANDARD
TZOFFSETFROM:-0400
TZOFFSETTO:-0500
TZNAME:EST
DTSTART:20221106T060000
END:STANDARD
BEGIN:DAYLIGHT
TZOFFSETFROM:-0500
TZOFFSETTO:-0400
TZNAME:EDT
DTSTART:20230312T070000
END:DAYLIGHT
BEGIN:STANDARD
TZOFFSETFROM:-0400
TZOFFSETTO:-0500
TZNAME:EST
DTSTART:20231105T060000
END:STANDARD
BEGIN:DAYLIGHT
TZOFFSETFROM:-0500
TZOFFSETTO:-0400
TZNAME:EDT
DTSTART:20240310T070000
END:DAYLIGHT
BEGIN:STANDARD
TZOFFSETFROM:-0400
TZOFFSETTO:-0500
TZNAME:EST
DTSTART:20241103T060000
END:STANDARD
BEGIN:DAYLIGHT
TZOFFSETFROM:-0500
TZOFFSETTO:-0400
TZNAME:EDT
DTSTART:20250309T070000
END:DAYLIGHT
BEGIN:STANDARD
TZOFFSETFROM:-0400
TZOFFSETTO:-0500
TZNAME:EST
DTSTART:20251102T060000
END:STANDARD
BEGIN:DAYLIGHT
TZOFFSETFROM:-0500
TZOFFSETTO:-0400
TZNAME:EDT
DTSTART:20260308T070000
END:DAYLIGHT
BEGIN:STANDARD
TZOFFSETFROM:-0400
TZOFFSETTO:-0500
TZNAME:EST
DTSTART:20261101T060000
END:STANDARD
END:VTIMEZONE
BEGIN:VEVENT
DTSTART;TZID=America/New_York:20251115T180000
DTEND;TZID=America/New_York:20251115T220000
DTSTAMP:20260423T135241
CREATED:20250908T123804Z
LAST-MODIFIED:20250908T123804Z
UID:3671-1763229600-1763244000@www.gardenstatehogchapter.com
SUMMARY:End of Season Dinner
DESCRIPTION:Register today for the 2025 Garden State HOG Chapter End of Season Dinner! \n\nDate: Saturday\, November 15\, 2025\nTime: 6-10pm\nLocation: Il Palazzo\, 600 Ringwood Avenue\, Wanaque\nPrice: $50/person\, includes buffet\, soda\, water\, coffee\, tea; cash bar\n\nJoin the chapter for an evening of music\, dancing\, great food\, and prizes! Hang with your old friends and make new ones! Reservations being accepted now! Pay by check\, cash\, or credit card. \nCheck: Bring in person to the chapter meeting or leave with Randi or Nikki at Merchandise\, GSHD\, 1775 Route 10\, Morris Plains\, NJ 07950 (you may also mail in) \nCash/credit cards/checks: Please see MaryAlice Breuninger in person at a Chapter Meeting or ride.
URL:https://www.gardenstatehogchapter.com/welcome/event/end-of-season-dinner-3/
LOCATION:Il Palazzo\, 600 Ringwood Avenue\, Wanaque\, NJ\, 07465
CATEGORIES:Dinner
END:VEVENT
BEGIN:VEVENT
DTSTART;TZID=America/New_York:20241116T180000
DTEND;TZID=America/New_York:20241116T210000
DTSTAMP:20260423T135241
CREATED:20240911T002005Z
LAST-MODIFIED:20240911T002005Z
UID:3433-1731780000-1731790800@www.gardenstatehogchapter.com
SUMMARY:End of Season Dinner - The Jefferson House
DESCRIPTION:The date is set for our annual End of Season Chapter Dinner on November 16th\, starting at 6PM.  Location is The Jefferson House in Lake Hopatcong\, and cost is $50 per person. \nPayments can be made by: \n\nCredit card while at the Sep 21st or Oct 19th chapter meeting.\nCheck payable to Garden State Harley HOG Chapter with Holiday dinner in the memo and may be mailed to Diane Borowsky\, 42 Parkside Road\, Bedminster\, NJ 07921.\nZELLE to 973.801.9287\nVENMO to @diane-borowsky\nCash\n\nPayment must be received by November 4th.
URL:https://www.gardenstatehogchapter.com/welcome/event/end-of-season-dinner-the-jefferson-house/
LOCATION:The Jefferson House\, Lake Hopatcong\, NJ
CATEGORIES:Dinner
END:VEVENT
BEGIN:VEVENT
DTSTART;TZID=America/New_York:20231202T180000
DTEND;TZID=America/New_York:20231202T220000
DTSTAMP:20260423T135241
CREATED:20230912T234314Z
LAST-MODIFIED:20230912T234314Z
UID:3172-1701540000-1701554400@www.gardenstatehogchapter.com
SUMMARY:End of Season Dinner - Reservations Required
DESCRIPTION:Please register via the Newsletter registration link to join fellow Chapter members and many significant others for an enjoyable evening.  This year will be at The Jefferson House overlooking Lake Hopatcong.
URL:https://www.gardenstatehogchapter.com/welcome/event/end-of-season-dinner-reservations-required/
LOCATION:The Jefferson House\, Lake Hopatcong\, NJ
CATEGORIES:Dinner
END:VEVENT
BEGIN:VEVENT
DTSTART;TZID=America/New_York:20221119T180000
DTEND;TZID=America/New_York:20221119T210000
DTSTAMP:20260423T135241
CREATED:20221012T011957Z
LAST-MODIFIED:20221116T011749Z
UID:2891-1668880800-1668891600@www.gardenstatehogchapter.com
SUMMARY:End Of Season Dinner
DESCRIPTION:Join Garden State HOG for our annual End of Season Dinner\, held this year at The Exchange in Rockaway\, NJ. Cost is $40 per person for a buffet of appetizers\, entrees\, soft drinks and deserts in their private banquet room. Cash bar available as well.   \nSpace is limited to 80\, so please secure your seats by using the link below to register\, in addition to paying in advance; either at the upcoming October 15th Chapter Meeting\, or by mailing Treasurer Rich Seitz at 134 Dupont Ave. Hopatcong\, NJ 07843. We will stop taking reservations either when we reach capacity\, or when we hit November 17th.   \n Hope to see you there!
URL:https://www.gardenstatehogchapter.com/welcome/event/end-of-season-dinner-2/
LOCATION:The Exchange\, Rockaway\, NJ
CATEGORIES:Dinner
END:VEVENT
BEGIN:VEVENT
DTSTART;TZID=America/New_York:20211113T183000
DTEND;TZID=America/New_York:20211113T213000
DTSTAMP:20260423T135241
CREATED:20210718T131548Z
LAST-MODIFIED:20210720T213228Z
UID:2573-1636828200-1636839000@www.gardenstatehogchapter.com
SUMMARY:End of Season Chapter Dinner
DESCRIPTION:The End of Season Dinner returns for 2021.  Location is Black River Barn in Randolph\, NJ.  Reservation and pre-payment required.
URL:https://www.gardenstatehogchapter.com/welcome/event/end-of-season-chapter-dinner-2/
LOCATION:Black River Barn\, 1178 NJ 10\, Randolph\, NJ\, 07869
CATEGORIES:Dinner
END:VEVENT
BEGIN:VEVENT
DTSTART;TZID=America/New_York:20191109T180000
DTEND;TZID=America/New_York:20191109T203000
DTSTAMP:20260423T135241
CREATED:20191006T193449Z
LAST-MODIFIED:20191006T193449Z
UID:2245-1573322400-1573331400@www.gardenstatehogchapter.com
SUMMARY:End of Season Dinner - Sold Out
DESCRIPTION:Mohawk House will be our end of season dinner destination this year.  This event is sold out. \nhttp://www.mohawkhouse.com/
URL:https://www.gardenstatehogchapter.com/welcome/event/end-of-season-dinner-sold-out/
LOCATION:Mohawk House\, 3 S Sparta Ave\, Sparta Township\, NJ\, 07871
CATEGORIES:Dinner
END:VEVENT
BEGIN:VEVENT
DTSTART;TZID=America/New_York:20181117T180000
DTEND;TZID=America/New_York:20181117T203000
DTSTAMP:20260423T135241
CREATED:20180807T224818Z
LAST-MODIFIED:20180920T222814Z
UID:1791-1542477600-1542486600@www.gardenstatehogchapter.com
SUMMARY:End of Season Chapter Dinner
DESCRIPTION:Join the Chapter for an end of season celebration!   \nTickets are $40 per person (limit two per Chapter Member).  The Chapter is helping to lower the cost by $10 per person.  While we have a bigger space this year\, it is still limited given the size of the Chapter\, so please reserve a spot early
URL:https://www.gardenstatehogchapter.com/welcome/event/end-of-season-chapter-dinner/
LOCATION:The Publick House\, 111 Main Street\, Chester\, New Jersey\, 07930
CATEGORIES:Dinner
END:VEVENT
BEGIN:VEVENT
DTSTART;TZID=America/New_York:20171111T180000
DTEND;TZID=America/New_York:20171111T203000
DTSTAMP:20260423T135241
CREATED:20171015T114147Z
LAST-MODIFIED:20171015T114147Z
UID:1067-1510423200-1510432200@www.gardenstatehogchapter.com
SUMMARY:End of Season Dinner
DESCRIPTION:
URL:https://www.gardenstatehogchapter.com/welcome/event/end-of-season-dinner/
LOCATION:Long Valley Brew Pub\, 1 Fairmont Road\, Long Valley\, NJ\, 07853\, United States
CATEGORIES:Dinner
END:VEVENT
END:VCALENDAR