BEGIN:VCALENDAR
VERSION:2.0
PRODID:-//Garden State Hog Chapter - ECPv6.15.17.1//NONSGML v1.0//EN
CALSCALE:GREGORIAN
METHOD:PUBLISH
X-ORIGINAL-URL:https://www.gardenstatehogchapter.com/welcome
X-WR-CALDESC:Events for Garden State Hog Chapter
REFRESH-INTERVAL;VALUE=DURATION:PT1H
X-Robots-Tag:noindex
X-PUBLISHED-TTL:PT1H
BEGIN:VTIMEZONE
TZID:America/New_York
BEGIN:DAYLIGHT
TZOFFSETFROM:-0500
TZOFFSETTO:-0400
TZNAME:EDT
DTSTART:20170312T070000
END:DAYLIGHT
BEGIN:STANDARD
TZOFFSETFROM:-0400
TZOFFSETTO:-0500
TZNAME:EST
DTSTART:20171105T060000
END:STANDARD
BEGIN:DAYLIGHT
TZOFFSETFROM:-0500
TZOFFSETTO:-0400
TZNAME:EDT
DTSTART:20180311T070000
END:DAYLIGHT
BEGIN:STANDARD
TZOFFSETFROM:-0400
TZOFFSETTO:-0500
TZNAME:EST
DTSTART:20181104T060000
END:STANDARD
BEGIN:DAYLIGHT
TZOFFSETFROM:-0500
TZOFFSETTO:-0400
TZNAME:EDT
DTSTART:20190310T070000
END:DAYLIGHT
BEGIN:STANDARD
TZOFFSETFROM:-0400
TZOFFSETTO:-0500
TZNAME:EST
DTSTART:20191103T060000
END:STANDARD
END:VTIMEZONE
BEGIN:VEVENT
DTSTART;TZID=America/New_York:20180517T180000
DTEND;TZID=America/New_York:20180517T200000
DTSTAMP:20260423T190938
CREATED:20180407T152754Z
LAST-MODIFIED:20180512T142533Z
UID:1618-1526580000-1526587200@www.gardenstatehogchapter.com
SUMMARY:Bike Night
DESCRIPTION:
URL:https://www.gardenstatehogchapter.com/welcome/event/bike-night-4/
LOCATION:Garden State Harley-Davidson\, 1775 Route 10 East\, Morris Plains\, NJ\, 07950\, United States
CATEGORIES:Dealership Event
END:VEVENT
BEGIN:VEVENT
DTSTART;TZID=America/New_York:20180428T100000
DTEND;TZID=America/New_York:20180428T150000
DTSTAMP:20260423T190938
CREATED:20180316T233316Z
LAST-MODIFIED:20180331T094404Z
UID:1528-1524909600-1524927600@www.gardenstatehogchapter.com
SUMMARY:Blood Drive at Garden State H-D
DESCRIPTION:
URL:https://www.gardenstatehogchapter.com/welcome/event/blood-drive-at-garden-state-h-d/
LOCATION:Garden State Harley-Davidson\, 1775 Route 10 East\, Morris Plains\, NJ\, 07950\, United States
CATEGORIES:Dealership Event
END:VEVENT
BEGIN:VEVENT
DTSTART;TZID=America/New_York:20180414T090000
DTEND;TZID=America/New_York:20180414T170000
DTSTAMP:20260423T190938
CREATED:20180316T223521Z
LAST-MODIFIED:20180331T095106Z
UID:1526-1523696400-1523725200@www.gardenstatehogchapter.com
SUMMARY:Garden State H-D Open House
DESCRIPTION:
URL:https://www.gardenstatehogchapter.com/welcome/event/garden-state-h-d-open-house-2/
LOCATION:Garden State Harley-Davidson\, 1775 Route 10 East\, Morris Plains\, NJ\, 07950\, United States
CATEGORIES:Dealership Event
END:VEVENT
END:VCALENDAR