BEGIN:VCALENDAR
VERSION:2.0
PRODID:-//Garden State Hog Chapter - ECPv6.15.17.1//NONSGML v1.0//EN
CALSCALE:GREGORIAN
METHOD:PUBLISH
X-ORIGINAL-URL:https://www.gardenstatehogchapter.com/welcome
X-WR-CALDESC:Events for Garden State Hog Chapter
REFRESH-INTERVAL;VALUE=DURATION:PT1H
X-Robots-Tag:noindex
X-PUBLISHED-TTL:PT1H
BEGIN:VTIMEZONE
TZID:America/New_York
BEGIN:DAYLIGHT
TZOFFSETFROM:-0500
TZOFFSETTO:-0400
TZNAME:EDT
DTSTART:20170312T070000
END:DAYLIGHT
BEGIN:STANDARD
TZOFFSETFROM:-0400
TZOFFSETTO:-0500
TZNAME:EST
DTSTART:20171105T060000
END:STANDARD
BEGIN:DAYLIGHT
TZOFFSETFROM:-0500
TZOFFSETTO:-0400
TZNAME:EDT
DTSTART:20180311T070000
END:DAYLIGHT
BEGIN:STANDARD
TZOFFSETFROM:-0400
TZOFFSETTO:-0500
TZNAME:EST
DTSTART:20181104T060000
END:STANDARD
BEGIN:DAYLIGHT
TZOFFSETFROM:-0500
TZOFFSETTO:-0400
TZNAME:EDT
DTSTART:20190310T070000
END:DAYLIGHT
BEGIN:STANDARD
TZOFFSETFROM:-0400
TZOFFSETTO:-0500
TZNAME:EST
DTSTART:20191103T060000
END:STANDARD
BEGIN:DAYLIGHT
TZOFFSETFROM:-0500
TZOFFSETTO:-0400
TZNAME:EDT
DTSTART:20200308T070000
END:DAYLIGHT
BEGIN:STANDARD
TZOFFSETFROM:-0400
TZOFFSETTO:-0500
TZNAME:EST
DTSTART:20201101T060000
END:STANDARD
END:VTIMEZONE
BEGIN:VEVENT
DTSTART;TZID=America/New_York:20190316T090000
DTEND;TZID=America/New_York:20190316T100000
DTSTAMP:20260423T175751
CREATED:20190217T150917Z
LAST-MODIFIED:20190217T150917Z
UID:1969-1552726800-1552730400@www.gardenstatehogchapter.com
SUMMARY:SOAP Project Volunteer Pre-meeting Event
DESCRIPTION:Chapter volunteers will apply National Human Trafficking Hotline labels to bars of soap to be delivered to hotels for SOAP Project
URL:https://www.gardenstatehogchapter.com/welcome/event/soap-project-volunteer-pre-meeting-event/
LOCATION:Garden State Harley-Davidson\, 1775 Route 10 East\, Morris Plains\, NJ\, 07950\, United States
CATEGORIES:Dealership Event
END:VEVENT
BEGIN:VEVENT
DTSTART;TZID=America/New_York:20190223T120000
DTEND;TZID=America/New_York:20190223T160000
DTSTAMP:20260423T175751
CREATED:20190217T145502Z
LAST-MODIFIED:20190217T145503Z
UID:1967-1550923200-1550937600@www.gardenstatehogchapter.com
SUMMARY:Classic Harley Show Wrap Party
DESCRIPTION:Prizes\, Food\, Drink\, Fellowship
URL:https://www.gardenstatehogchapter.com/welcome/event/classic-harley-show-wrap-party/
LOCATION:Garden State Harley-Davidson\, 1775 Route 10 East\, Morris Plains\, NJ\, 07950\, United States
CATEGORIES:Dealership Event
END:VEVENT
BEGIN:VEVENT
DTSTART;TZID=America/New_York:20190124T180000
DTEND;TZID=America/New_York:20190124T193000
DTSTAMP:20260423T175751
CREATED:20190112T010133Z
LAST-MODIFIED:20190112T011740Z
UID:1922-1548352800-1548358200@www.gardenstatehogchapter.com
SUMMARY:Garden State Service Seminar
DESCRIPTION:
URL:https://www.gardenstatehogchapter.com/welcome/event/garden-state-service-seminar/
LOCATION:Garden State Harley-Davidson\, 1775 Route 10 East\, Morris Plains\, NJ\, 07950\, United States
CATEGORIES:Dealership Event
END:VEVENT
BEGIN:VEVENT
DTSTART;TZID=America/New_York:20181221T130000
DTEND;TZID=America/New_York:20181221T190000
DTSTAMP:20260423T175751
CREATED:20181118T122725Z
LAST-MODIFIED:20181118T122725Z
UID:1888-1545397200-1545418800@www.gardenstatehogchapter.com
SUMMARY:Blood Drive at Garden State H-D
DESCRIPTION:What better way to give back this holiday season than with the gift of life! Every donor will receive TWO tickets to a 2019 Season METS GAME… Plus a GSH-D dealer t-shirt as a thank you!
URL:https://www.gardenstatehogchapter.com/welcome/event/blood-drive-at-garden-state-h-d-2/
LOCATION:Garden State Harley-Davidson\, 1775 Route 10 East\, Morris Plains\, NJ\, 07950\, United States
CATEGORIES:Dealership Event
END:VEVENT
BEGIN:VEVENT
DTSTART;TZID=America/New_York:20181215T110000
DTEND;TZID=America/New_York:20181215T140000
DTSTAMP:20260423T175751
CREATED:20181118T123925Z
LAST-MODIFIED:20181118T123925Z
UID:1892-1544871600-1544882400@www.gardenstatehogchapter.com
SUMMARY:Santa Pictures on a Harley
DESCRIPTION:Chapter members are asked to support Garden State H-D with their Santa Pictures on a Harley event.  This has become an annual tradition for our Chapter.  Time will be from 11AM to 2PM\, and volunteers are welcome to join other Chapter members for lunch afterwards.
URL:https://www.gardenstatehogchapter.com/welcome/event/santa-pictures-on-a-harley-2/
LOCATION:Garden State Harley-Davidson\, 1775 Route 10 East\, Morris Plains\, NJ\, 07950\, United States
CATEGORIES:Dealership Event
END:VEVENT
BEGIN:VEVENT
DTSTART;TZID=America/New_York:20181208T110000
DTEND;TZID=America/New_York:20181208T140000
DTSTAMP:20260423T175751
CREATED:20181118T123729Z
LAST-MODIFIED:20181118T123729Z
UID:1890-1544266800-1544277600@www.gardenstatehogchapter.com
SUMMARY:Santa Pictures on a Harley!
DESCRIPTION:Chapter members are asked to support Garden State H-D with their Santa Pictures on a Harley event.  This has become an annual tradition for our Chapter.  Time will be from 11AM to 2PM\, and volunteers are welcome to join other Chapter members for lunch afterwards.
URL:https://www.gardenstatehogchapter.com/welcome/event/santa-pictures-on-a-harley/
LOCATION:Garden State Harley-Davidson\, 1775 Route 10 East\, Morris Plains\, NJ\, 07950\, United States
CATEGORIES:Dealership Event
END:VEVENT
BEGIN:VEVENT
DTSTART;TZID=America/New_York:20181129T184500
DTEND;TZID=America/New_York:20181129T200000
DTSTAMP:20260423T175751
CREATED:20181118T122307Z
LAST-MODIFIED:20181118T122307Z
UID:1886-1543517100-1543521600@www.gardenstatehogchapter.com
SUMMARY:Screaming Eagle Performance Workshop
DESCRIPTION:Ask questions and learn all you need to know about Screamin’ Eagle Performance!
URL:https://www.gardenstatehogchapter.com/welcome/event/screaming-eagle-performance-workshop/
LOCATION:Garden State Harley-Davidson\, 1775 Route 10 East\, Morris Plains\, NJ\, 07950\, United States
CATEGORIES:Dealership Event
END:VEVENT
BEGIN:VEVENT
DTSTART;TZID=America/New_York:20181027T090000
DTEND;TZID=America/New_York:20181027T170000
DTSTAMP:20260423T175751
CREATED:20181014T151403Z
LAST-MODIFIED:20181014T151403Z
UID:1861-1540630800-1540659600@www.gardenstatehogchapter.com
SUMMARY:Garden State H-D Fall Open House and Octoberfest!
DESCRIPTION:
URL:https://www.gardenstatehogchapter.com/welcome/event/garden-state-h-d-fall-open-house-and-octoberfest/
LOCATION:NJ
CATEGORIES:Dealership Event
END:VEVENT
BEGIN:VEVENT
DTSTART;TZID=America/New_York:20180623T100000
DTEND;TZID=America/New_York:20180623T130000
DTSTAMP:20260423T175751
CREATED:20180512T182726Z
LAST-MODIFIED:20180617T143412Z
UID:1670-1529748000-1529758800@www.gardenstatehogchapter.com
SUMMARY:Sena Workshop - Bluetooth Communication & Audio Products
DESCRIPTION:Come to Garden State H-D to learn about Sena Bluetooth products.  The Chapter is reviewing group ride communication solutions. \nhttps://www.sena.com/
URL:https://www.gardenstatehogchapter.com/welcome/event/cold-springs-depot-cold-springs-ny/
LOCATION:Garden State Harley-Davidson\, 1775 Route 10 East\, Morris Plains\, NJ\, 07950\, United States
CATEGORIES:Dealership Event
END:VEVENT
BEGIN:VEVENT
DTSTART;TZID=America/New_York:20180519T190000
DTEND;TZID=America/New_York:20180519T230000
DTSTAMP:20260423T175751
CREATED:20180316T222535Z
LAST-MODIFIED:20180331T094806Z
UID:1524-1526756400-1526770800@www.gardenstatehogchapter.com
SUMMARY:Casino Night at Garden State H-D
DESCRIPTION:
URL:https://www.gardenstatehogchapter.com/welcome/event/casino-night-at-garden-state-h-d/
LOCATION:Garden State Harley-Davidson\, 1775 Route 10 East\, Morris Plains\, NJ\, 07950\, United States
CATEGORIES:Dealership Event
END:VEVENT
BEGIN:VEVENT
DTSTART;TZID=America/New_York:20180517T180000
DTEND;TZID=America/New_York:20180517T200000
DTSTAMP:20260423T175751
CREATED:20180407T152754Z
LAST-MODIFIED:20180512T142533Z
UID:1618-1526580000-1526587200@www.gardenstatehogchapter.com
SUMMARY:Bike Night
DESCRIPTION:
URL:https://www.gardenstatehogchapter.com/welcome/event/bike-night-4/
LOCATION:Garden State Harley-Davidson\, 1775 Route 10 East\, Morris Plains\, NJ\, 07950\, United States
CATEGORIES:Dealership Event
END:VEVENT
BEGIN:VEVENT
DTSTART;TZID=America/New_York:20180428T100000
DTEND;TZID=America/New_York:20180428T150000
DTSTAMP:20260423T175751
CREATED:20180316T233316Z
LAST-MODIFIED:20180331T094404Z
UID:1528-1524909600-1524927600@www.gardenstatehogchapter.com
SUMMARY:Blood Drive at Garden State H-D
DESCRIPTION:
URL:https://www.gardenstatehogchapter.com/welcome/event/blood-drive-at-garden-state-h-d/
LOCATION:Garden State Harley-Davidson\, 1775 Route 10 East\, Morris Plains\, NJ\, 07950\, United States
CATEGORIES:Dealership Event
END:VEVENT
BEGIN:VEVENT
DTSTART;TZID=America/New_York:20180414T090000
DTEND;TZID=America/New_York:20180414T170000
DTSTAMP:20260423T175751
CREATED:20180316T223521Z
LAST-MODIFIED:20180331T095106Z
UID:1526-1523696400-1523725200@www.gardenstatehogchapter.com
SUMMARY:Garden State H-D Open House
DESCRIPTION:
URL:https://www.gardenstatehogchapter.com/welcome/event/garden-state-h-d-open-house-2/
LOCATION:Garden State Harley-Davidson\, 1775 Route 10 East\, Morris Plains\, NJ\, 07950\, United States
CATEGORIES:Dealership Event
END:VEVENT
END:VCALENDAR