BEGIN:VCALENDAR
VERSION:2.0
PRODID:-//Garden State Hog Chapter - ECPv6.15.17.1//NONSGML v1.0//EN
CALSCALE:GREGORIAN
METHOD:PUBLISH
X-ORIGINAL-URL:https://www.gardenstatehogchapter.com/welcome
X-WR-CALDESC:Events for Garden State Hog Chapter
REFRESH-INTERVAL;VALUE=DURATION:PT1H
X-Robots-Tag:noindex
X-PUBLISHED-TTL:PT1H
BEGIN:VTIMEZONE
TZID:America/New_York
BEGIN:DAYLIGHT
TZOFFSETFROM:-0500
TZOFFSETTO:-0400
TZNAME:EDT
DTSTART:20180311T070000
END:DAYLIGHT
BEGIN:STANDARD
TZOFFSETFROM:-0400
TZOFFSETTO:-0500
TZNAME:EST
DTSTART:20181104T060000
END:STANDARD
BEGIN:DAYLIGHT
TZOFFSETFROM:-0500
TZOFFSETTO:-0400
TZNAME:EDT
DTSTART:20190310T070000
END:DAYLIGHT
BEGIN:STANDARD
TZOFFSETFROM:-0400
TZOFFSETTO:-0500
TZNAME:EST
DTSTART:20191103T060000
END:STANDARD
BEGIN:DAYLIGHT
TZOFFSETFROM:-0500
TZOFFSETTO:-0400
TZNAME:EDT
DTSTART:20200308T070000
END:DAYLIGHT
BEGIN:STANDARD
TZOFFSETFROM:-0400
TZOFFSETTO:-0500
TZNAME:EST
DTSTART:20201101T060000
END:STANDARD
BEGIN:DAYLIGHT
TZOFFSETFROM:-0500
TZOFFSETTO:-0400
TZNAME:EDT
DTSTART:20210314T070000
END:DAYLIGHT
BEGIN:STANDARD
TZOFFSETFROM:-0400
TZOFFSETTO:-0500
TZNAME:EST
DTSTART:20211107T060000
END:STANDARD
BEGIN:DAYLIGHT
TZOFFSETFROM:-0500
TZOFFSETTO:-0400
TZNAME:EDT
DTSTART:20220313T070000
END:DAYLIGHT
BEGIN:STANDARD
TZOFFSETFROM:-0400
TZOFFSETTO:-0500
TZNAME:EST
DTSTART:20221106T060000
END:STANDARD
BEGIN:DAYLIGHT
TZOFFSETFROM:-0500
TZOFFSETTO:-0400
TZNAME:EDT
DTSTART:20230312T070000
END:DAYLIGHT
BEGIN:STANDARD
TZOFFSETFROM:-0400
TZOFFSETTO:-0500
TZNAME:EST
DTSTART:20231105T060000
END:STANDARD
BEGIN:DAYLIGHT
TZOFFSETFROM:-0500
TZOFFSETTO:-0400
TZNAME:EDT
DTSTART:20240310T070000
END:DAYLIGHT
BEGIN:STANDARD
TZOFFSETFROM:-0400
TZOFFSETTO:-0500
TZNAME:EST
DTSTART:20241103T060000
END:STANDARD
END:VTIMEZONE
BEGIN:VEVENT
DTSTART;TZID=America/New_York:20230513T083000
DTEND;TZID=America/New_York:20230513T140000
DTSTAMP:20260423T142216
CREATED:20230406T000431Z
LAST-MODIFIED:20230509T225003Z
UID:2983-1683966600-1683986400@www.gardenstatehogchapter.com
SUMMARY:Eleventh Hour Rescue Adoption & Ride
DESCRIPTION:Chapter members and guests are encouraged to come to the Dealership in support of Eleventh Hour Rescue.  In addition to the adoption event\, there will be a charity ride to raise money for the organization.  The Chapter will be supporting parking\, HOG table\, possibly registration for the ride.  The Morris Plains FD will support the grilling.
URL:https://www.gardenstatehogchapter.com/welcome/event/eleventh-hour-rescue-adoption-ride/
LOCATION:Garden State Harley-Davidson\, 1775 Route 10 East\, Morris Plains\, NJ\, 07950\, United States
CATEGORIES:Dealership Event
END:VEVENT
BEGIN:VEVENT
DTSTART;TZID=America/New_York:20230507T070000
DTEND;TZID=America/New_York:20230507T110000
DTSTAMP:20260423T142216
CREATED:20230323T003818Z
LAST-MODIFIED:20230323T003818Z
UID:2965-1683442800-1683457200@www.gardenstatehogchapter.com
SUMMARY:Bike & Brew - Garden State H-D
DESCRIPTION:Come alone\, or meet your crew at GSH-D for coffee\, and a lite breakfast before you head out on your Sunday Ride! \nChris\, Lou & Randi will be on-site to discuss what’s new for the  2023 H-D Model Line Up that continue to roll in!  \n Plus\, check out the latest in H-D Riding Gear\, Apparel new for the 2023 Riding season. \nAsk Louie about everything you need to customize\, accessorize\, and maintain your ride!  \nWe look forward to helping you make 2023 the BEST riding season yet!
URL:https://www.gardenstatehogchapter.com/welcome/event/bike-brew-garden-state-h-d/
LOCATION:Garden State Harley-Davidson\, 1775 Route 10 East\, Morris Plains\, NJ\, 07950\, United States
CATEGORIES:Dealership Event
END:VEVENT
BEGIN:VEVENT
DTSTART;TZID=America/New_York:20230422T120000
DTEND;TZID=America/New_York:20230422T150000
DTSTAMP:20260423T142216
CREATED:20230405T235423Z
LAST-MODIFIED:20230405T235423Z
UID:2978-1682164800-1682175600@www.gardenstatehogchapter.com
SUMMARY:Bike Blessing at GSH-D
DESCRIPTION:Kick off the riding season at GSH-D\, and join us for Biker Blessing by Pastor Chuck of Church of the Nazarene at 1pm!\nPLUS\, a BBQ & Live Music from 12pm to 3pm
URL:https://www.gardenstatehogchapter.com/welcome/event/bike-blessing-at-gsh-d/
LOCATION:Garden State Harley-Davidson\, 1775 Route 10 East\, Morris Plains\, NJ\, 07950\, United States
CATEGORIES:Dealership Event
END:VEVENT
BEGIN:VEVENT
DTSTART;TZID=America/New_York:20230325T100000
DTEND;TZID=America/New_York:20230325T170000
DTSTAMP:20260423T142216
CREATED:20230323T002921Z
LAST-MODIFIED:20230323T002921Z
UID:2962-1679738400-1679763600@www.gardenstatehogchapter.com
SUMMARY:2023 SPRING OPENER!  Garden State H-D
DESCRIPTION:March 25\, 2023 10:00AM – 5:00PM\nYou’re invited to celebrate 120 years of Harley-Davidson at our National Spring Season Opener\, Saturday March 25th. \n\nCheck out the new 2023 motorcycles and products\, including the 120th Anniversary lineup and apparel\nEarn Prizes & Giveaways*\nLunch at 12PM (While supplies last)\nPatch Sewing from 10AM to 3PM\nDepartment Specials (Stay Tuned)\nRegister for your chance to win** a 2023 Harley-Davidson® Breakout 117 motorcycle\, (2) Tickets to Homecoming™ Festival\, a 4-night stay in Milwaukee and $900 in travel money\n\n  \n 
URL:https://www.gardenstatehogchapter.com/welcome/event/2023-spring-opener-garden-state-h-d/
LOCATION:Garden State Harley-Davidson\, 1775 Route 10 East\, Morris Plains\, NJ\, 07950\, United States
CATEGORIES:Dealership Event
END:VEVENT
BEGIN:VEVENT
DTSTART;TZID=America/New_York:20230304T120000
DTEND;TZID=America/New_York:20230304T150000
DTSTAMP:20260423T142216
CREATED:20230223T014321Z
LAST-MODIFIED:20230223T014321Z
UID:2947-1677931200-1677942000@www.gardenstatehogchapter.com
SUMMARY:GSHD Chili Competition
DESCRIPTION:
URL:https://www.gardenstatehogchapter.com/welcome/event/gshd-chili-competition/
LOCATION:Garden State Harley-Davidson\, 1775 Route 10 East\, Morris Plains\, NJ\, 07950\, United States
CATEGORIES:Dealership Event
END:VEVENT
BEGIN:VEVENT
DTSTART;TZID=America/New_York:20221218T110000
DTEND;TZID=America/New_York:20221218T140000
DTSTAMP:20260423T142216
CREATED:20221026T001839Z
LAST-MODIFIED:20221026T001839Z
UID:2921-1671361200-1671372000@www.gardenstatehogchapter.com
SUMMARY:Dealership Santa Pics
DESCRIPTION:
URL:https://www.gardenstatehogchapter.com/welcome/event/dealership-santa-pics-3/
LOCATION:Garden State Harley-Davidson\, 1775 Route 10 East\, Morris Plains\, NJ\, 07950\, United States
CATEGORIES:Dealership Event
END:VEVENT
BEGIN:VEVENT
DTSTART;TZID=America/New_York:20221217T110000
DTEND;TZID=America/New_York:20221217T140000
DTSTAMP:20260423T142216
CREATED:20221026T001628Z
LAST-MODIFIED:20221026T001628Z
UID:2919-1671274800-1671285600@www.gardenstatehogchapter.com
SUMMARY:Dealership Santa Pics
DESCRIPTION:
URL:https://www.gardenstatehogchapter.com/welcome/event/dealership-santa-pics-2/
LOCATION:Garden State Harley-Davidson\, 1775 Route 10 East\, Morris Plains\, NJ\, 07950\, United States
CATEGORIES:Dealership Event
END:VEVENT
BEGIN:VEVENT
DTSTART;TZID=America/New_York:20221203T110000
DTEND;TZID=America/New_York:20221203T140000
DTSTAMP:20260423T142216
CREATED:20221026T001427Z
LAST-MODIFIED:20221026T001427Z
UID:2916-1670065200-1670076000@www.gardenstatehogchapter.com
SUMMARY:Dealership Santa Pics
DESCRIPTION:
URL:https://www.gardenstatehogchapter.com/welcome/event/dealership-santa-pics/
LOCATION:Garden State Harley-Davidson\, 1775 Route 10 East\, Morris Plains\, NJ\, 07950\, United States
CATEGORIES:Dealership Event
END:VEVENT
BEGIN:VEVENT
DTSTART;TZID=America/New_York:20221015T100000
DTEND;TZID=America/New_York:20221015T170000
DTSTAMP:20260423T142216
CREATED:20221012T011656Z
LAST-MODIFIED:20221012T011656Z
UID:2888-1665828000-1665853200@www.gardenstatehogchapter.com
SUMMARY:Garden State Fall Open House
DESCRIPTION:
URL:https://www.gardenstatehogchapter.com/welcome/event/garden-state-fall-open-house/
LOCATION:Garden State Harley-Davidson\, 1775 Route 10 East\, Morris Plains\, NJ\, 07950\, United States
CATEGORIES:Dealership Event
END:VEVENT
BEGIN:VEVENT
DTSTART;TZID=America/New_York:20220917T083000
DTEND;TZID=America/New_York:20220917T133000
DTSTAMP:20260423T142216
CREATED:20220807T175942Z
LAST-MODIFIED:20220807T175942Z
UID:2838-1663403400-1663421400@www.gardenstatehogchapter.com
SUMMARY:Eric C. Blohm 7th Annual Ride
DESCRIPTION:Join as we ride for the 7th year in a row to help local children with serious illnesses! Registration begins at 10am and Kickstands up at 11am! The ride will be police escorted and will end back at the dealership with a BBQ & Music.
URL:https://www.gardenstatehogchapter.com/welcome/event/eric-c-blohm-7th-annual-ride/
LOCATION:Garden State Harley-Davidson\, 1775 Route 10 East\, Morris Plains\, NJ\, 07950\, United States
CATEGORIES:Dealership Event
END:VEVENT
BEGIN:VEVENT
DTSTART;TZID=America/New_York:20220604T120000
DTEND;TZID=America/New_York:20220604T150000
DTSTAMP:20260423T142216
CREATED:20220526T174837Z
LAST-MODIFIED:20220526T174837Z
UID:2762-1654344000-1654354800@www.gardenstatehogchapter.com
SUMMARY:Cool Cats & HOGS for Dogs Pet Adoption
DESCRIPTION:The Garden State Dealership is hosting 11th Hour Rescue folks again for a worthwhile cause.  Please stop by!
URL:https://www.gardenstatehogchapter.com/welcome/event/cool-cats-hogs-for-dogs-pet-adoption/
LOCATION:Garden State Harley-Davidson\, 1775 Route 10 East\, Morris Plains\, NJ\, 07950\, United States
CATEGORIES:Dealership Event
END:VEVENT
BEGIN:VEVENT
DTSTART;TZID=America/New_York:20220507T110000
DTEND;TZID=America/New_York:20220507T143000
DTSTAMP:20260423T142216
CREATED:20220425T145517Z
LAST-MODIFIED:20220505T204645Z
UID:2729-1651921200-1651933800@www.gardenstatehogchapter.com
SUMMARY:*** CANCELLED*** Williams H-D Spring Open House
DESCRIPTION:Due to weather\, the Williams Spring Open House is cancelled.  
URL:https://www.gardenstatehogchapter.com/welcome/event/williams-h-d-spring-open-house/
LOCATION:Williams H-D\, 1100 US-22\, Lebanon\, NJ\, 08833\, United States
CATEGORIES:Dealership Event,Ride
END:VEVENT
BEGIN:VEVENT
DTSTART;TZID=America/New_York:20220423T090000
DTEND;TZID=America/New_York:20220423T163000
DTSTAMP:20260423T142216
CREATED:20220311T213050Z
LAST-MODIFIED:20220311T213050Z
UID:2700-1650704400-1650731400@www.gardenstatehogchapter.com
SUMMARY:Garden State H-D Dealership Spring Opener
DESCRIPTION:Come test ride a new 2022 H-D\, check out what’s new in Riding Gear\, Parts & Service! BBQ lunch from 12-2\, music & more! Plus Amy from Silver Ladies Sewing will be here to stitch those patches on your leathers!
URL:https://www.gardenstatehogchapter.com/welcome/event/garden-state-h-d-dealership-spring-opener/
LOCATION:Garden State Harley-Davidson\, 1775 Route 10 East\, Morris Plains\, NJ\, 07950\, United States
CATEGORIES:Dealership Event
END:VEVENT
BEGIN:VEVENT
DTSTART;TZID=America/New_York:20220410T093000
DTEND;TZID=America/New_York:20220410T133000
DTSTAMP:20260423T142216
CREATED:20220410T114732Z
LAST-MODIFIED:20220410T114732Z
UID:2712-1649583000-1649597400@www.gardenstatehogchapter.com
SUMMARY:Chapter Ride - Williams H-D Spring Open House
DESCRIPTION:Director Russell Breuninger will lead a ride to Williams H-D to support their Spring Open House.  Guests are welcome if they sign a waiver.
URL:https://www.gardenstatehogchapter.com/welcome/event/chapter-ride-williams-h-d-spring-open-house/
LOCATION:Williams H-D\, 1100 US-22\, Lebanon\, NJ\, 08833\, United States
CATEGORIES:Dealership Event,Ride
END:VEVENT
BEGIN:VEVENT
DTSTART;TZID=America/New_York:20211218T110000
DTEND;TZID=America/New_York:20211218T140000
DTSTAMP:20260423T142216
CREATED:20211124T021350Z
LAST-MODIFIED:20211124T021350Z
UID:2669-1639825200-1639836000@www.gardenstatehogchapter.com
SUMMARY:Picture with Santa & Toys For Tots Drive
DESCRIPTION:Tis the season for a photo with Santa on a Harley!  And while you are at it\, bring by some toys to donate to the Toys for Tots campaign\, to help families in need this holiday season.  The dates are December 5th\, 11th and 18th\, hours from 11AM to 2PM.
URL:https://www.gardenstatehogchapter.com/welcome/event/picture-with-santa-toys-for-tots-drive-2/
LOCATION:Garden State Harley-Davidson\, 1775 Route 10 East\, Morris Plains\, NJ\, 07950\, United States
CATEGORIES:Dealership Event
END:VEVENT
BEGIN:VEVENT
DTSTART;TZID=America/New_York:20211211T110000
DTEND;TZID=America/New_York:20211211T140000
DTSTAMP:20260423T142216
CREATED:20211124T021202Z
LAST-MODIFIED:20211124T021202Z
UID:2666-1639220400-1639231200@www.gardenstatehogchapter.com
SUMMARY:Picture with Santa & Toys For Tots Drive
DESCRIPTION:Tis the season for a photo with Santa on a Harley!  And while you are at it\, bring by some toys to donate to the Toys for Tots campaign\, to help families in need this holiday season.  The dates are December 5th\, 11th and 18th\, hours from 11AM to 2PM.
URL:https://www.gardenstatehogchapter.com/welcome/event/picture-with-santa-toys-for-tots-drive/
LOCATION:Garden State Harley-Davidson\, 1775 Route 10 East\, Morris Plains\, NJ\, 07950\, United States
CATEGORIES:Dealership Event
END:VEVENT
BEGIN:VEVENT
DTSTART;TZID=America/New_York:20211205T110000
DTEND;TZID=America/New_York:20211205T140000
DTSTAMP:20260423T142216
CREATED:20211124T020846Z
LAST-MODIFIED:20211124T020846Z
UID:2663-1638702000-1638712800@www.gardenstatehogchapter.com
SUMMARY:Pictures with Santa & Toys For Tots Drive
DESCRIPTION:Tis the season for a photo with Santa on a Harley!  And while you are at it\, bring by some toys to donate to the Toys for Tots campaign\, to help families in need this holiday season.  The dates are December 5th\, 11th and 18th\, hours from 11AM to 2PM.
URL:https://www.gardenstatehogchapter.com/welcome/event/pictures-with-santa-toys-for-tots-drive/
LOCATION:Garden State Harley-Davidson\, 1775 Route 10 East\, Morris Plains\, NJ\, 07950\, United States
CATEGORIES:Dealership Event
END:VEVENT
BEGIN:VEVENT
DTSTART;TZID=America/New_York:20211014T183000
DTEND;TZID=America/New_York:20211014T210000
DTSTAMP:20260423T142216
CREATED:20211006T004534Z
LAST-MODIFIED:20211006T004534Z
UID:2626-1634236200-1634245200@www.gardenstatehogchapter.com
SUMMARY:Movie Night - Wild Hogs
DESCRIPTION:Chapter members are invited to the Dealership for pizza and a movie…Wild Hogs!  Please register at: https://www.eventbrite.com/e/movie-night-tickets-178391332277
URL:https://www.gardenstatehogchapter.com/welcome/event/movie-night-wild-hogs/
LOCATION:Garden State Harley-Davidson\, 1775 Route 10 East\, Morris Plains\, NJ\, 07950\, United States
CATEGORIES:Dealership Event
END:VEVENT
BEGIN:VEVENT
DTSTART;TZID=America/New_York:20210918T090000
DTEND;TZID=America/New_York:20210918T133000
DTSTAMP:20260423T142216
CREATED:20210909T010102Z
LAST-MODIFIED:20210909T010102Z
UID:2612-1631955600-1631971800@www.gardenstatehogchapter.com
SUMMARY:Eric C Blohm Foundation Ride
DESCRIPTION:Chapter support needed with parking and registration.  
URL:https://www.gardenstatehogchapter.com/welcome/event/eric-c-blohm-foundation-ride/
LOCATION:Garden State Harley-Davidson\, 1775 Route 10 East\, Morris Plains\, NJ\, 07950\, United States
CATEGORIES:Dealership Event
END:VEVENT
BEGIN:VEVENT
DTSTART;TZID=America/New_York:20210828T083000
DTEND;TZID=America/New_York:20210828T140000
DTSTAMP:20260423T142216
CREATED:20210718T115607Z
LAST-MODIFIED:20210827T202156Z
UID:2565-1630139400-1630159200@www.gardenstatehogchapter.com
SUMMARY:CANCELLED - Charity Ride - Celebrate the Children
DESCRIPTION:******CANCELLED****** \nGarden State H-D and HOG hosts a ride for the benefit of the Celebrate the Children School\, located in Denville\, NJ.
URL:https://www.gardenstatehogchapter.com/welcome/event/charity-ride-celebrate-the-children/
LOCATION:Garden State Harley-Davidson\, 1775 Route 10 East\, Morris Plains\, NJ\, 07950\, United States
CATEGORIES:Dealership Event
END:VEVENT
BEGIN:VEVENT
DTSTART;TZID=America/New_York:20210612T120000
DTEND;TZID=America/New_York:20210612T150000
DTSTAMP:20260423T142216
CREATED:20210610T004913Z
LAST-MODIFIED:20210610T004913Z
UID:2517-1623499200-1623510000@www.gardenstatehogchapter.com
SUMMARY:Cool Cats & Hogs for Dogs Awareness & Adoption Event
DESCRIPTION:Join us at Garden State Harley-Davidson for the Eleventh Hour Rescue awareness & adoption event! Stop in to see some chrome\, eat some food\, and get some cuddles! \nRepresentatives from EHR will be on site with adoptable dogs and cats (applications must be in before the event) and they will also be accepting donations of items and supplies! Stop by and say hi\, and maybe find your new FURever family member! \nAdoption applications can be found at www.EHRdogs.org/adopt \nAlso on site will be Summer Daze Catering food truck with some amazing tasty treats\, a portion of the proceeds also going directly to EHR! \nWe hope to see you there! 
URL:https://www.gardenstatehogchapter.com/welcome/event/cool-cats-hogs-for-dogs-awareness-adoption-event/
LOCATION:Garden State Harley-Davidson\, 1775 Route 10 East\, Morris Plains\, NJ\, 07950\, United States
CATEGORIES:Dealership Event
END:VEVENT
BEGIN:VEVENT
DTSTART;TZID=America/New_York:20210522T110000
DTEND;TZID=America/New_York:20210522T153000
DTSTAMP:20260423T142216
CREATED:20210501T101117Z
LAST-MODIFIED:20210506T210657Z
UID:2467-1621681200-1621697400@www.gardenstatehogchapter.com
SUMMARY:Chapter Ride to Williams H-D Open House
DESCRIPTION:Director Russell will lead a ride to Williams for their Spring Open House.  Chapter members to meet at Garden State.  Kickstands up at 11AM\, following the Chapter Meeting.
URL:https://www.gardenstatehogchapter.com/welcome/event/chapter-ride-to-williams-h-d-open-house/
LOCATION:Williams H-D\, 1100 US-22\, Lebanon\, NJ\, 08833\, United States
CATEGORIES:Dealership Event
END:VEVENT
BEGIN:VEVENT
DTSTART;TZID=America/New_York:20210515T090000
DTEND;TZID=America/New_York:20210515T160000
DTSTAMP:20260423T142216
CREATED:20210425T204759Z
LAST-MODIFIED:20210501T105656Z
UID:2459-1621069200-1621094400@www.gardenstatehogchapter.com
SUMMARY:Garden State H-D Spring Open House
DESCRIPTION:Please join the Chapter at the Dealership to check out the music and demo rides\, have patches sewn by Semel’s\, have lunch\, help with the Chapter table.
URL:https://www.gardenstatehogchapter.com/welcome/event/garden-state-h-d-spring-open-house/
LOCATION:Garden State Harley-Davidson\, 1775 Route 10 East\, Morris Plains\, NJ\, 07950\, United States
CATEGORIES:Dealership Event
END:VEVENT
BEGIN:VEVENT
DTSTART;TZID=America/New_York:20201017T100000
DTEND;TZID=America/New_York:20201017T160000
DTSTAMP:20260423T142216
CREATED:20201010T100606Z
LAST-MODIFIED:20201010T100744Z
UID:2370-1602928800-1602950400@www.gardenstatehogchapter.com
SUMMARY:Garden State H-D Fall Freedom Fest
DESCRIPTION:Garden State HOG members are invited to join the Dealership Saturday\, October 17th from 10am-4pm at Garden State H-D for their Fall event!  \n****** \nHave you wanted to demo the LiveWire but haven’t gotten the chance? This is your day! \nTest ride the LiveWire and receive a FREE gift!  \nChef’s Catering Food trucks will be on-site serving Oktoberfest themed food! Slow smoked Bratwurst braised in beer and onions & more! Yummy! \nPlus\, 20% off all in stock H-D Licensed Apparel. \nWe are so excited to celebrate the fall season with you! All are welcome for food\, music and fun! Please remember to bring your masks & social distance! See you then!
URL:https://www.gardenstatehogchapter.com/welcome/event/garden-state-h-d-fall-freedom-fest/
LOCATION:Garden State Harley-Davidson\, 1775 Route 10 East\, Morris Plains\, NJ\, 07950\, United States
CATEGORIES:Dealership Event
END:VEVENT
BEGIN:VEVENT
DTSTART;TZID=America/New_York:20190928T100000
DTEND;TZID=America/New_York:20190928T170000
DTSTAMP:20260423T142216
CREATED:20190730T235939Z
LAST-MODIFIED:20190915T112202Z
UID:2181-1569664800-1569690000@www.gardenstatehogchapter.com
SUMMARY:GSH-D Open House
DESCRIPTION:Check out the GSH-D Open House to check out the new bikes\, and be appreciated by the Dealership.
URL:https://www.gardenstatehogchapter.com/welcome/event/gsh-d-open-house-ice-cream-run/
LOCATION:Garden State Harley-Davidson\, 1775 Route 10 East\, Morris Plains\, NJ\, 07950\, United States
CATEGORIES:Dealership Event
END:VEVENT
BEGIN:VEVENT
DTSTART;TZID=America/New_York:20190713T090000
DTEND;TZID=America/New_York:20190713T140000
DTSTAMP:20260423T142216
CREATED:20190614T015633Z
LAST-MODIFIED:20190614T015633Z
UID:2130-1563008400-1563026400@www.gardenstatehogchapter.com
SUMMARY:Garden State C.O.P.S. Charity Ride
DESCRIPTION:Save the date for the Garden State Concerns of Police Survivors\, who provide resources to assist the rebuilding of the lives of surviving families and affected coworkers of law enforcement offers killed in the line of duty.  Ride is sponsored by Morris Plains P.B.A. Local 254.  This will be a 50 mile police escorted ride\, leaving the Dealership at 11AM.  $20 for riders\, $15 for passengers and $10 for BBQ lunch only.  Keep an eye out for more details and a call for volunteers.
URL:https://www.gardenstatehogchapter.com/welcome/event/garden-state-c-o-p-s-charity-ride/
LOCATION:Garden State Harley-Davidson\, 1775 Route 10 East\, Morris Plains\, NJ\, 07950\, United States
CATEGORIES:Dealership Event
ATTACH;FMTTYPE=image/jpeg:https://www.gardenstatehogchapter.com/wp-content/uploads/2019/06/GS-COPS-July-2019-flyer.jpg
END:VEVENT
BEGIN:VEVENT
DTSTART;TZID=America/New_York:20190622T110000
DTEND;TZID=America/New_York:20190622T153000
DTSTAMP:20260423T142216
CREATED:20190509T011752Z
LAST-MODIFIED:20190509T011752Z
UID:2080-1561201200-1561217400@www.gardenstatehogchapter.com
SUMMARY:Deadbeat Customs Stunt Show at GSHD
DESCRIPTION:Come check out the Deadbeat Customs Stunt Show at Garden State H-D!  Three shows….11am / 1pm/ 3pm.  Each show will last 30 minutes! \n 
URL:https://www.gardenstatehogchapter.com/welcome/event/deadbeat-customs-stunt-show-at-gshd/
LOCATION:Garden State Harley-Davidson\, 1775 Route 10 East\, Morris Plains\, NJ\, 07950\, United States
CATEGORIES:Dealership Event
ATTACH;FMTTYPE=image/jpeg:https://www.gardenstatehogchapter.com/wp-content/uploads/2019/05/Deadbeat-Customs-2019.jpg
END:VEVENT
BEGIN:VEVENT
DTSTART;TZID=America/New_York:20190601T183000
DTEND;TZID=America/New_York:20190601T210000
DTSTAMP:20260423T142216
CREATED:20190120T171254Z
LAST-MODIFIED:20190120T171254Z
UID:1958-1559413800-1559422800@www.gardenstatehogchapter.com
SUMMARY:Morris Plains FD Casino Night
DESCRIPTION:Casino Night fund raiser for the Morris Plains Fire Department
URL:https://www.gardenstatehogchapter.com/welcome/event/morris-plains-fd-casino-night/
LOCATION:Garden State Harley-Davidson\, 1775 Route 10 East\, Morris Plains\, NJ\, 07950\, United States
CATEGORIES:Dealership Event
END:VEVENT
BEGIN:VEVENT
DTSTART;TZID=America/New_York:20190427T090000
DTEND;TZID=America/New_York:20190427T170000
DTSTAMP:20260423T142216
CREATED:20190120T171115Z
LAST-MODIFIED:20190120T171115Z
UID:1956-1556355600-1556384400@www.gardenstatehogchapter.com
SUMMARY:Garden State H-D Spring Opener
DESCRIPTION:Dealership Open House
URL:https://www.gardenstatehogchapter.com/welcome/event/garden-state-h-d-spring-opener/
LOCATION:Garden State Harley-Davidson\, 1775 Route 10 East\, Morris Plains\, NJ\, 07950\, United States
CATEGORIES:Dealership Event
END:VEVENT
BEGIN:VEVENT
DTSTART;TZID=America/New_York:20190330T100000
DTEND;TZID=America/New_York:20190330T110000
DTSTAMP:20260423T142216
CREATED:20190120T170946Z
LAST-MODIFIED:20190120T170946Z
UID:1954-1553940000-1553943600@www.gardenstatehogchapter.com
SUMMARY:SENA Communication Seminar
DESCRIPTION:Come to the Dealership and learn about what is new with SENA Communication gear\, for use with group rides or on your own.
URL:https://www.gardenstatehogchapter.com/welcome/event/sena-communication-seminar/
LOCATION:Garden State Harley-Davidson\, 1775 Route 10 East\, Morris Plains\, NJ\, 07950\, United States
CATEGORIES:Dealership Event
END:VEVENT
END:VCALENDAR