BEGIN:VCALENDAR
VERSION:2.0
PRODID:-//Garden State Hog Chapter - ECPv6.15.17.1//NONSGML v1.0//EN
CALSCALE:GREGORIAN
METHOD:PUBLISH
X-ORIGINAL-URL:https://www.gardenstatehogchapter.com/welcome
X-WR-CALDESC:Events for Garden State Hog Chapter
REFRESH-INTERVAL;VALUE=DURATION:PT1H
X-Robots-Tag:noindex
X-PUBLISHED-TTL:PT1H
BEGIN:VTIMEZONE
TZID:America/New_York
BEGIN:DAYLIGHT
TZOFFSETFROM:-0500
TZOFFSETTO:-0400
TZNAME:EDT
DTSTART:20210314T070000
END:DAYLIGHT
BEGIN:STANDARD
TZOFFSETFROM:-0400
TZOFFSETTO:-0500
TZNAME:EST
DTSTART:20211107T060000
END:STANDARD
BEGIN:DAYLIGHT
TZOFFSETFROM:-0500
TZOFFSETTO:-0400
TZNAME:EDT
DTSTART:20220313T070000
END:DAYLIGHT
BEGIN:STANDARD
TZOFFSETFROM:-0400
TZOFFSETTO:-0500
TZNAME:EST
DTSTART:20221106T060000
END:STANDARD
BEGIN:DAYLIGHT
TZOFFSETFROM:-0500
TZOFFSETTO:-0400
TZNAME:EDT
DTSTART:20230312T070000
END:DAYLIGHT
BEGIN:STANDARD
TZOFFSETFROM:-0400
TZOFFSETTO:-0500
TZNAME:EST
DTSTART:20231105T060000
END:STANDARD
BEGIN:DAYLIGHT
TZOFFSETFROM:-0500
TZOFFSETTO:-0400
TZNAME:EDT
DTSTART:20240310T070000
END:DAYLIGHT
BEGIN:STANDARD
TZOFFSETFROM:-0400
TZOFFSETTO:-0500
TZNAME:EST
DTSTART:20241103T060000
END:STANDARD
BEGIN:DAYLIGHT
TZOFFSETFROM:-0500
TZOFFSETTO:-0400
TZNAME:EDT
DTSTART:20250309T070000
END:DAYLIGHT
BEGIN:STANDARD
TZOFFSETFROM:-0400
TZOFFSETTO:-0500
TZNAME:EST
DTSTART:20251102T060000
END:STANDARD
BEGIN:DAYLIGHT
TZOFFSETFROM:-0500
TZOFFSETTO:-0400
TZNAME:EDT
DTSTART:20260308T070000
END:DAYLIGHT
BEGIN:STANDARD
TZOFFSETFROM:-0400
TZOFFSETTO:-0500
TZNAME:EST
DTSTART:20261101T060000
END:STANDARD
BEGIN:DAYLIGHT
TZOFFSETFROM:-0500
TZOFFSETTO:-0400
TZNAME:EDT
DTSTART:20270314T070000
END:DAYLIGHT
BEGIN:STANDARD
TZOFFSETFROM:-0400
TZOFFSETTO:-0500
TZNAME:EST
DTSTART:20271107T060000
END:STANDARD
END:VTIMEZONE
BEGIN:VEVENT
DTSTART;TZID=America/New_York:20260308T120000
DTEND;TZID=America/New_York:20260308T153000
DTSTAMP:20260423T115937
CREATED:20260224T210239Z
LAST-MODIFIED:20260224T210239Z
UID:3719-1772971200-1772983800@www.gardenstatehogchapter.com
SUMMARY:Movie at the Dealership
DESCRIPTION:Join us for a free movie afternoon at the dealership! We will show Wild Hogs on Sunday\, March 8\, in the upstairs lounge. The festivities begin at noon with free snacks; movie to start at 1pm. Note we must clean up the lounge and be out by 3:30pm\, as the dealership closes at 4pm. No RSVP needed.
URL:https://www.gardenstatehogchapter.com/welcome/event/movie-at-the-dealership/
LOCATION:Garden State Harley-Davidson\, 1775 Route 10 East\, Morris Plains\, NJ\, 07950\, United States
CATEGORIES:Dealership Event
END:VEVENT
BEGIN:VEVENT
DTSTART;TZID=America/New_York:20251214T110000
DTEND;TZID=America/New_York:20251214T113000
DTSTAMP:20260423T115937
CREATED:20251118T180924Z
LAST-MODIFIED:20251118T180924Z
UID:3707-1765710000-1765711800@www.gardenstatehogchapter.com
SUMMARY:Chapter Santa Photo
DESCRIPTION:GS HOG Chapter Members are invited to come to the Dealership on Sunday December 14th for our annual photo with Santa.  This is also a great time to pick up some last minute gifts for those with great taste!
URL:https://www.gardenstatehogchapter.com/welcome/event/chapter-santa-photo-3/
LOCATION:Garden State Harley-Davidson\, 1775 Route 10 East\, Morris Plains\, NJ\, 07950\, United States
CATEGORIES:Dealership Event
END:VEVENT
BEGIN:VEVENT
DTSTART;TZID=America/New_York:20250920T093000
DTEND;TZID=America/New_York:20250920T133000
DTSTAMP:20260423T115937
CREATED:20250819T232954Z
LAST-MODIFIED:20250819T232954Z
UID:3643-1758360600-1758375000@www.gardenstatehogchapter.com
SUMMARY:Charity Ride - Eric C. Blohm
DESCRIPTION:Garden State H-D will be supporting the Eric C. Blohm charity ride again in 2025. Expect the need for support of Parking right after the September Chapter meeting\, along with a HOG table.  Grilling help TBD.   \nFrom the Dealership: Registration begins at 10am & KSU at 11am! Join us for a 50 mile scenic ride through Morris County Followed by a BBQ lunch included! $25 to ride! All proceeds benefit the ECBF for children with serious illnesses! Come out and ride for a great cause!
URL:https://www.gardenstatehogchapter.com/welcome/event/charity-ride-eric-c-blohm/
LOCATION:Garden State Harley-Davidson\, 1775 Route 10 East\, Morris Plains\, NJ\, 07950\, United States
CATEGORIES:Dealership Event
END:VEVENT
BEGIN:VEVENT
DTSTART;TZID=America/New_York:20250607T090000
DTEND;TZID=America/New_York:20250607T133000
DTSTAMP:20260423T115937
CREATED:20250316T142640Z
LAST-MODIFIED:20250605T193633Z
UID:3527-1749286800-1749303000@www.gardenstatehogchapter.com
SUMMARY:Postponed!  Celebrate The Children Charity Ride
DESCRIPTION:We await the rain date for this event. \nGarden State HOG have been big fans of the Celebrate The Children School\, located in Denville\, NJ for several years.  We are pleased to support the School again with a Charity Ride to raise money for improvements used to enrich the students.  \nParking and registration detail will begin at 9:00AM.  The ride takes off at 11:00.  Registration will include lunch after the ride. \nCelebrate the Children (CTC)\,  is a New Jersey State – Approved\, not-for-profit  private school serving neuro-diverse individuals. Our developmental program serves a range of students ages 3-21 with Autism and other Developmental Challenges. Our school program commenced in January of 2004. This year\, we are proudly celebrating over 20 years of special education! 
URL:https://www.gardenstatehogchapter.com/welcome/event/celebrate-the-children-charity-ride-2/
LOCATION:Garden State Harley-Davidson\, 1775 Route 10 East\, Morris Plains\, NJ\, 07950\, United States
CATEGORIES:Dealership Event
END:VEVENT
BEGIN:VEVENT
DTSTART;TZID=America/New_York:20250329T100000
DTEND;TZID=America/New_York:20250329T150000
DTSTAMP:20260423T115937
CREATED:20250316T140825Z
LAST-MODIFIED:20250316T140825Z
UID:3522-1743242400-1743260400@www.gardenstatehogchapter.com
SUMMARY:Spring Riding Kickoff Event - GSHD
DESCRIPTION:READY. SET. RIDE. EVENT\nSATURDAY\, MARCH 29\nRiding season is here\, it’s time to roll. Join us for the national season opener showcase of the rides\, rallies and reasons to ride in 2025. \nOur road. Our rules. Let’s ride.  https://gardenstatehd.com/l/ready-set-ride-event
URL:https://www.gardenstatehogchapter.com/welcome/event/spring-riding-kickoff-event-gshd/
LOCATION:Garden State Harley-Davidson\, 1775 Route 10 East\, Morris Plains\, NJ\, 07950\, United States
CATEGORIES:Dealership Event
END:VEVENT
BEGIN:VEVENT
DTSTART;TZID=America/New_York:20241215T110000
DTEND;TZID=America/New_York:20241215T113000
DTSTAMP:20260423T115937
CREATED:20241204T012920Z
LAST-MODIFIED:20241204T012920Z
UID:3483-1734260400-1734262200@www.gardenstatehogchapter.com
SUMMARY:Chapter Santa Photo
DESCRIPTION:Let’s get together at the Dealership on Sunday December 15th at 11AM for the 2024 group photo!
URL:https://www.gardenstatehogchapter.com/welcome/event/chapter-santa-photo-2/
LOCATION:Garden State Harley-Davidson\, 1775 Route 10 East\, Morris Plains\, NJ\, 07950\, United States
CATEGORIES:Dealership Event
END:VEVENT
BEGIN:VEVENT
DTSTART;TZID=America/New_York:20240921T093000
DTEND;TZID=America/New_York:20240921T140000
DTSTAMP:20260423T115937
CREATED:20240817T151511Z
LAST-MODIFIED:20240817T151511Z
UID:3403-1726911000-1726927200@www.gardenstatehogchapter.com
SUMMARY:Charity Ride - Eric C. Blohm Ride
DESCRIPTION:Garden State Harley Davidson is hosting the 9th Annual Eric C. Blohm ride\, supporting children with serious illnesses.  We will be moving the September Chapter meeting to 9AM to allow the Chapter members to support parking\, HOG table\, etc.  The ride departs the Dealership at 11AM and returns for lunch.
URL:https://www.gardenstatehogchapter.com/welcome/event/charity-ride-eric-c-blohm-ride/
LOCATION:Garden State Harley-Davidson\, 1775 Route 10 East\, Morris Plains\, NJ\, 07950\, United States
CATEGORIES:Dealership Event
END:VEVENT
BEGIN:VEVENT
DTSTART;TZID=America/New_York:20240914T093000
DTEND;TZID=America/New_York:20240914T170000
DTSTAMP:20260423T115937
CREATED:20240903T171425Z
LAST-MODIFIED:20240903T171425Z
UID:3421-1726306200-1726333200@www.gardenstatehogchapter.com
SUMMARY:Dealership Event - A Salute to Service
DESCRIPTION:JOIN US TO HONOR OUR NATION’S HEROES \nCalling all Military Service Members and First Responders – past and present – to attend a celebration in your honor on Saturday\, September 14. Not a service member? Join us to show your appreciation for our local heroes who keep us safe and allow us to ride free. \n\nBe among the first 100 to RSVP below and claim your commemorative prize pack* \nAdditional Prizes & Giveaways* \nSpecial activities for service members  \nCelebrate all active and retired Military\, Police\, Fire and other First Responders in a way that only Harley-Davidson can  \nH-D® Membership Event Special**\n– Earn up to 2\,000 Bonus Points with a $100+ in-store purchase ($20 Value)\n\nhttps://gardenstatehd.com/l/a-salute-to-service-membership
URL:https://www.gardenstatehogchapter.com/welcome/event/dealership-event-a-salute-to-service/
LOCATION:Garden State Harley-Davidson\, 1775 Route 10 East\, Morris Plains\, NJ\, 07950\, United States
CATEGORIES:Dealership Event
END:VEVENT
BEGIN:VEVENT
DTSTART;TZID=America/New_York:20240720T093000
DTEND;TZID=America/New_York:20240720T133000
DTSTAMP:20260423T115937
CREATED:20240618T231231Z
LAST-MODIFIED:20240618T231231Z
UID:3353-1721467800-1721482200@www.gardenstatehogchapter.com
SUMMARY:Charity Ride - Morris Plains FD
DESCRIPTION:We’ll be Riding for the Red again this year\, supporting our Brothers at the Morris Plains Fire Department.  We’ll need help parking\, and likely grilling\, for this event\, to begin as soon as the Chapter Meeting ends.  Thanks in advance for your support.
URL:https://www.gardenstatehogchapter.com/welcome/event/charity-ride-morris-plains-fd/
LOCATION:Garden State Harley-Davidson\, 1775 Route 10 East\, Morris Plains\, NJ\, 07950\, United States
CATEGORIES:Dealership Event
END:VEVENT
BEGIN:VEVENT
DTSTART;TZID=America/New_York:20240608T090000
DTEND;TZID=America/New_York:20240608T140000
DTSTAMP:20260423T115937
CREATED:20240515T001615Z
LAST-MODIFIED:20240515T001615Z
UID:3322-1717837200-1717855200@www.gardenstatehogchapter.com
SUMMARY:Charity Ride - Puppy Rescue Mission Ride
DESCRIPTION:Garden State HOG will be supporting the Puppy Rescue Mission Ride.  Details attached below.  Head Road Captain Barbara Gould will lead the group gathering to raise funds for a worthwhile cause.
URL:https://www.gardenstatehogchapter.com/welcome/event/charity-ride-puppy-rescue-mission-ride/
LOCATION:Garden State Harley-Davidson\, 1775 Route 10 East\, Morris Plains\, NJ\, 07950\, United States
CATEGORIES:Dealership Event
END:VEVENT
BEGIN:VEVENT
DTSTART;TZID=America/New_York:20240302T120000
DTEND;TZID=America/New_York:20240302T150000
DTSTAMP:20260423T115937
CREATED:20240207T001429Z
LAST-MODIFIED:20240207T001429Z
UID:3235-1709380800-1709391600@www.gardenstatehogchapter.com
SUMMARY:Firehouse Chili Competition - 3rd Annual
DESCRIPTION: 
URL:https://www.gardenstatehogchapter.com/welcome/event/firehouse-chili-competition-3rd-annual/
LOCATION:Garden State Harley-Davidson\, 1775 Route 10 East\, Morris Plains\, NJ\, 07950\, United States
CATEGORIES:Dealership Event
END:VEVENT
BEGIN:VEVENT
DTSTART;TZID=America/New_York:20240217T120000
DTEND;TZID=America/New_York:20240217T150000
DTSTAMP:20260423T115937
CREATED:20240206T235921Z
LAST-MODIFIED:20240206T235921Z
UID:3230-1708171200-1708182000@www.gardenstatehogchapter.com
SUMMARY:Pet Adoption Event at Garden State H-D
DESCRIPTION:Looking for a new cuddly addition to your home? Consider adopting a four legged friend! There will be adoptable cats and dogs looking for a fur-ever home!
URL:https://www.gardenstatehogchapter.com/welcome/event/pet-adoption-event-at-garden-state-h-d/
LOCATION:Garden State Harley-Davidson\, 1775 Route 10 East\, Morris Plains\, NJ\, 07950\, United States
CATEGORIES:Dealership Event
END:VEVENT
BEGIN:VEVENT
DTSTART;TZID=America/New_York:20231216T110000
DTEND;TZID=America/New_York:20231216T113000
DTSTAMP:20260423T115937
CREATED:20231108T005902Z
LAST-MODIFIED:20231108T005902Z
UID:3215-1702724400-1702726200@www.gardenstatehogchapter.com
SUMMARY:Chapter Santa Photo
DESCRIPTION:Please join fellow Chapter Members for a Harley Santa Photo!  The group shot will take place at the Dealership at 11AM on December 16th.  
URL:https://www.gardenstatehogchapter.com/welcome/event/chapter-santa-photo/
LOCATION:Garden State Harley-Davidson\, 1775 Route 10 East\, Morris Plains\, NJ\, 07950\, United States
CATEGORIES:Dealership Event
END:VEVENT
BEGIN:VEVENT
DTSTART;TZID=America/New_York:20231021T083000
DTEND;TZID=America/New_York:20231021T140000
DTSTAMP:20260423T115937
CREATED:20230516T232223Z
LAST-MODIFIED:20230704T175358Z
UID:3043-1697877000-1697896800@www.gardenstatehogchapter.com
SUMMARY:Celebrate The Children Charity Ride
DESCRIPTION:Garden State H-D and our HOG Chapter are pleased to host our annual charity ride for Celebrate The Children school.  Keep an eye out for support requirements\, however it’s a safe bet we will help with parking\, HOG table\, possibly registration and grilling.
URL:https://www.gardenstatehogchapter.com/welcome/event/celebrate-the-children-charity-ride/
LOCATION:Garden State Harley-Davidson\, 1775 Route 10 East\, Morris Plains\, NJ\, 07950\, United States
CATEGORIES:Dealership Event
END:VEVENT
BEGIN:VEVENT
DTSTART;TZID=America/New_York:20230919T174500
DTEND;TZID=America/New_York:20230919T193000
DTSTAMP:20260423T115937
CREATED:20230905T214158Z
LAST-MODIFIED:20230905T214158Z
UID:3160-1695145500-1695151800@www.gardenstatehogchapter.com
SUMMARY:September Bike Night
DESCRIPTION:Join Chapter Members at Mr. Crabby’s for September Bike Night\, sponsored by Garden State H-D.  Riders can depart the Dealership at 5:45PM\, or meet at Mr. Crabby’s when you can get there.
URL:https://www.gardenstatehogchapter.com/welcome/event/september-bike-night/
LOCATION:Mr. Crabby’s\, 399 NJ-10 E\, Randolph\, NJ\, 07869
CATEGORIES:Dealership Event
END:VEVENT
BEGIN:VEVENT
DTSTART;TZID=America/New_York:20230916T083000
DTEND;TZID=America/New_York:20230916T140000
DTSTAMP:20260423T115937
CREATED:20230823T001507Z
LAST-MODIFIED:20230823T001507Z
UID:3150-1694853000-1694872800@www.gardenstatehogchapter.com
SUMMARY:Eric C. Blohm Charity Ride
DESCRIPTION:Garden State H-D and HOG Chapter are proudly supporting the Eric C. Blohm ride again for 2023.  Chapter Members will be called upon to support parking\, HOG table and possibly grilling.  Ride starts at 11AM\, followed by lunch.
URL:https://www.gardenstatehogchapter.com/welcome/event/eric-c-blohm-charity-ride/
LOCATION:Garden State Harley-Davidson\, 1775 Route 10 East\, Morris Plains\, NJ\, 07950\, United States
CATEGORIES:Dealership Event
END:VEVENT
BEGIN:VEVENT
DTSTART;TZID=America/New_York:20230826T083000
DTEND;TZID=America/New_York:20230826T140000
DTSTAMP:20260423T115937
CREATED:20230724T235941Z
LAST-MODIFIED:20230801T224026Z
UID:3121-1693038600-1693058400@www.gardenstatehogchapter.com
SUMMARY:Charity Event - "Ride For The Red"
DESCRIPTION:Garden State HOG and Dealership will be honoring and raising money for our friends at the Morris Plains Fire Department.  Chapter Members will be needed to support parking\, registration\, HOG Table and possibly lunch (grilling\, distribution).  Please arrive at the Dealership at 8:30 to help prepare for a worthwhile cause.\n \n 
URL:https://www.gardenstatehogchapter.com/welcome/event/charity-event-ride-morris-plains-fd/
LOCATION:Garden State Harley-Davidson\, 1775 Route 10 East\, Morris Plains\, NJ\, 07950\, United States
CATEGORIES:Dealership Event
END:VEVENT
BEGIN:VEVENT
DTSTART;TZID=America/New_York:20230617T100000
DTEND;TZID=America/New_York:20230617T150000
DTSTAMP:20260423T115937
CREATED:20230516T231818Z
LAST-MODIFIED:20230607T004421Z
UID:3040-1686996000-1687014000@www.gardenstatehogchapter.com
SUMMARY:Dealership Open House
DESCRIPTION:Chapter members are encouraged to support Garden State H-D during their open house.  Event details to be provided.  Lunch will be provided\, and the Chapter is being asked to support.
URL:https://www.gardenstatehogchapter.com/welcome/event/chapter-ride-table-9/
LOCATION:Garden State Harley-Davidson\, 1775 Route 10 East\, Morris Plains\, NJ\, 07950\, United States
CATEGORIES:Dealership Event
END:VEVENT
BEGIN:VEVENT
DTSTART;TZID=America/New_York:20230523T174500
DTEND;TZID=America/New_York:20230523T193000
DTSTAMP:20260423T115937
CREATED:20230510T001632Z
LAST-MODIFIED:20230510T001632Z
UID:3027-1684863900-1684870200@www.gardenstatehogchapter.com
SUMMARY:May Bike Night - Mr. Crabby's
DESCRIPTION:The Chapter is happy to support Bike Night at Mr. Crabby’s along with our friends at Garden State H-D.  Head Road Captain Doug Ryan will lead a ride from the Dealership to Mr. Crabby’s\, taking the scenic route to avoid Rt. 10 traffic\, departing the Dealership at 5:45PM.  Otherwise you can meet up with the group at Mr. Crabby’s.
URL:https://www.gardenstatehogchapter.com/welcome/event/may-bike-night-mr-crabbys/
LOCATION:Mr. Crabby’s\, 399 NJ-10 E\, Randolph\, NJ\, 07869
CATEGORIES:Dealership Event
END:VEVENT
BEGIN:VEVENT
DTSTART;TZID=America/New_York:20230521T070000
DTEND;TZID=America/New_York:20230521T110000
DTSTAMP:20260423T115937
CREATED:20230323T004209Z
LAST-MODIFIED:20230323T004209Z
UID:2968-1684652400-1684666800@www.gardenstatehogchapter.com
SUMMARY:Bike & Brew - Garden State H-D
DESCRIPTION:Come alone\, or meet your crew at GSH-D for coffee\, and a lite breakfast before you head out on your Sunday Ride! \nChris\, Lou & Randi will be on-site to discuss what’s new for the  2023 H-D Model Line Up that continue to roll in!  \n Plus\, check out the latest in H-D Riding Gear\, Apparel new for the 2023 Riding season. \nAsk Louie about everything you need to customize\, accessorize\, and maintain your ride!  \nWe look forward to helping you make 2023 the BEST riding season yet!
URL:https://www.gardenstatehogchapter.com/welcome/event/bike-brew-garden-state-h-d-2/
LOCATION:Garden State Harley-Davidson\, 1775 Route 10 East\, Morris Plains\, NJ\, 07950\, United States
CATEGORIES:Dealership Event
END:VEVENT
BEGIN:VEVENT
DTSTART;TZID=America/New_York:20230513T083000
DTEND;TZID=America/New_York:20230513T140000
DTSTAMP:20260423T115937
CREATED:20230406T000431Z
LAST-MODIFIED:20230509T225003Z
UID:2983-1683966600-1683986400@www.gardenstatehogchapter.com
SUMMARY:Eleventh Hour Rescue Adoption & Ride
DESCRIPTION:Chapter members and guests are encouraged to come to the Dealership in support of Eleventh Hour Rescue.  In addition to the adoption event\, there will be a charity ride to raise money for the organization.  The Chapter will be supporting parking\, HOG table\, possibly registration for the ride.  The Morris Plains FD will support the grilling.
URL:https://www.gardenstatehogchapter.com/welcome/event/eleventh-hour-rescue-adoption-ride/
LOCATION:Garden State Harley-Davidson\, 1775 Route 10 East\, Morris Plains\, NJ\, 07950\, United States
CATEGORIES:Dealership Event
END:VEVENT
BEGIN:VEVENT
DTSTART;TZID=America/New_York:20230507T070000
DTEND;TZID=America/New_York:20230507T110000
DTSTAMP:20260423T115937
CREATED:20230323T003818Z
LAST-MODIFIED:20230323T003818Z
UID:2965-1683442800-1683457200@www.gardenstatehogchapter.com
SUMMARY:Bike & Brew - Garden State H-D
DESCRIPTION:Come alone\, or meet your crew at GSH-D for coffee\, and a lite breakfast before you head out on your Sunday Ride! \nChris\, Lou & Randi will be on-site to discuss what’s new for the  2023 H-D Model Line Up that continue to roll in!  \n Plus\, check out the latest in H-D Riding Gear\, Apparel new for the 2023 Riding season. \nAsk Louie about everything you need to customize\, accessorize\, and maintain your ride!  \nWe look forward to helping you make 2023 the BEST riding season yet!
URL:https://www.gardenstatehogchapter.com/welcome/event/bike-brew-garden-state-h-d/
LOCATION:Garden State Harley-Davidson\, 1775 Route 10 East\, Morris Plains\, NJ\, 07950\, United States
CATEGORIES:Dealership Event
END:VEVENT
BEGIN:VEVENT
DTSTART;TZID=America/New_York:20230422T120000
DTEND;TZID=America/New_York:20230422T150000
DTSTAMP:20260423T115937
CREATED:20230405T235423Z
LAST-MODIFIED:20230405T235423Z
UID:2978-1682164800-1682175600@www.gardenstatehogchapter.com
SUMMARY:Bike Blessing at GSH-D
DESCRIPTION:Kick off the riding season at GSH-D\, and join us for Biker Blessing by Pastor Chuck of Church of the Nazarene at 1pm!\nPLUS\, a BBQ & Live Music from 12pm to 3pm
URL:https://www.gardenstatehogchapter.com/welcome/event/bike-blessing-at-gsh-d/
LOCATION:Garden State Harley-Davidson\, 1775 Route 10 East\, Morris Plains\, NJ\, 07950\, United States
CATEGORIES:Dealership Event
END:VEVENT
BEGIN:VEVENT
DTSTART;TZID=America/New_York:20230325T100000
DTEND;TZID=America/New_York:20230325T170000
DTSTAMP:20260423T115937
CREATED:20230323T002921Z
LAST-MODIFIED:20230323T002921Z
UID:2962-1679738400-1679763600@www.gardenstatehogchapter.com
SUMMARY:2023 SPRING OPENER!  Garden State H-D
DESCRIPTION:March 25\, 2023 10:00AM – 5:00PM\nYou’re invited to celebrate 120 years of Harley-Davidson at our National Spring Season Opener\, Saturday March 25th. \n\nCheck out the new 2023 motorcycles and products\, including the 120th Anniversary lineup and apparel\nEarn Prizes & Giveaways*\nLunch at 12PM (While supplies last)\nPatch Sewing from 10AM to 3PM\nDepartment Specials (Stay Tuned)\nRegister for your chance to win** a 2023 Harley-Davidson® Breakout 117 motorcycle\, (2) Tickets to Homecoming™ Festival\, a 4-night stay in Milwaukee and $900 in travel money\n\n  \n 
URL:https://www.gardenstatehogchapter.com/welcome/event/2023-spring-opener-garden-state-h-d/
LOCATION:Garden State Harley-Davidson\, 1775 Route 10 East\, Morris Plains\, NJ\, 07950\, United States
CATEGORIES:Dealership Event
END:VEVENT
BEGIN:VEVENT
DTSTART;TZID=America/New_York:20230304T120000
DTEND;TZID=America/New_York:20230304T150000
DTSTAMP:20260423T115937
CREATED:20230223T014321Z
LAST-MODIFIED:20230223T014321Z
UID:2947-1677931200-1677942000@www.gardenstatehogchapter.com
SUMMARY:GSHD Chili Competition
DESCRIPTION:
URL:https://www.gardenstatehogchapter.com/welcome/event/gshd-chili-competition/
LOCATION:Garden State Harley-Davidson\, 1775 Route 10 East\, Morris Plains\, NJ\, 07950\, United States
CATEGORIES:Dealership Event
END:VEVENT
BEGIN:VEVENT
DTSTART;TZID=America/New_York:20221218T110000
DTEND;TZID=America/New_York:20221218T140000
DTSTAMP:20260423T115937
CREATED:20221026T001839Z
LAST-MODIFIED:20221026T001839Z
UID:2921-1671361200-1671372000@www.gardenstatehogchapter.com
SUMMARY:Dealership Santa Pics
DESCRIPTION:
URL:https://www.gardenstatehogchapter.com/welcome/event/dealership-santa-pics-3/
LOCATION:Garden State Harley-Davidson\, 1775 Route 10 East\, Morris Plains\, NJ\, 07950\, United States
CATEGORIES:Dealership Event
END:VEVENT
BEGIN:VEVENT
DTSTART;TZID=America/New_York:20221217T110000
DTEND;TZID=America/New_York:20221217T140000
DTSTAMP:20260423T115937
CREATED:20221026T001628Z
LAST-MODIFIED:20221026T001628Z
UID:2919-1671274800-1671285600@www.gardenstatehogchapter.com
SUMMARY:Dealership Santa Pics
DESCRIPTION:
URL:https://www.gardenstatehogchapter.com/welcome/event/dealership-santa-pics-2/
LOCATION:Garden State Harley-Davidson\, 1775 Route 10 East\, Morris Plains\, NJ\, 07950\, United States
CATEGORIES:Dealership Event
END:VEVENT
BEGIN:VEVENT
DTSTART;TZID=America/New_York:20221203T110000
DTEND;TZID=America/New_York:20221203T140000
DTSTAMP:20260423T115937
CREATED:20221026T001427Z
LAST-MODIFIED:20221026T001427Z
UID:2916-1670065200-1670076000@www.gardenstatehogchapter.com
SUMMARY:Dealership Santa Pics
DESCRIPTION:
URL:https://www.gardenstatehogchapter.com/welcome/event/dealership-santa-pics/
LOCATION:Garden State Harley-Davidson\, 1775 Route 10 East\, Morris Plains\, NJ\, 07950\, United States
CATEGORIES:Dealership Event
END:VEVENT
BEGIN:VEVENT
DTSTART;TZID=America/New_York:20221015T100000
DTEND;TZID=America/New_York:20221015T170000
DTSTAMP:20260423T115937
CREATED:20221012T011656Z
LAST-MODIFIED:20221012T011656Z
UID:2888-1665828000-1665853200@www.gardenstatehogchapter.com
SUMMARY:Garden State Fall Open House
DESCRIPTION:
URL:https://www.gardenstatehogchapter.com/welcome/event/garden-state-fall-open-house/
LOCATION:Garden State Harley-Davidson\, 1775 Route 10 East\, Morris Plains\, NJ\, 07950\, United States
CATEGORIES:Dealership Event
END:VEVENT
BEGIN:VEVENT
DTSTART;TZID=America/New_York:20220917T083000
DTEND;TZID=America/New_York:20220917T133000
DTSTAMP:20260423T115937
CREATED:20220807T175942Z
LAST-MODIFIED:20220807T175942Z
UID:2838-1663403400-1663421400@www.gardenstatehogchapter.com
SUMMARY:Eric C. Blohm 7th Annual Ride
DESCRIPTION:Join as we ride for the 7th year in a row to help local children with serious illnesses! Registration begins at 10am and Kickstands up at 11am! The ride will be police escorted and will end back at the dealership with a BBQ & Music.
URL:https://www.gardenstatehogchapter.com/welcome/event/eric-c-blohm-7th-annual-ride/
LOCATION:Garden State Harley-Davidson\, 1775 Route 10 East\, Morris Plains\, NJ\, 07950\, United States
CATEGORIES:Dealership Event
END:VEVENT
END:VCALENDAR