BEGIN:VCALENDAR
VERSION:2.0
PRODID:-//Garden State Hog Chapter - ECPv6.15.17.1//NONSGML v1.0//EN
CALSCALE:GREGORIAN
METHOD:PUBLISH
X-WR-CALNAME:Garden State Hog Chapter
X-ORIGINAL-URL:https://www.gardenstatehogchapter.com/welcome
X-WR-CALDESC:Events for Garden State Hog Chapter
REFRESH-INTERVAL;VALUE=DURATION:PT1H
X-Robots-Tag:noindex
X-PUBLISHED-TTL:PT1H
BEGIN:VTIMEZONE
TZID:America/New_York
BEGIN:DAYLIGHT
TZOFFSETFROM:-0500
TZOFFSETTO:-0400
TZNAME:EDT
DTSTART:20230312T070000
END:DAYLIGHT
BEGIN:STANDARD
TZOFFSETFROM:-0400
TZOFFSETTO:-0500
TZNAME:EST
DTSTART:20231105T060000
END:STANDARD
BEGIN:DAYLIGHT
TZOFFSETFROM:-0500
TZOFFSETTO:-0400
TZNAME:EDT
DTSTART:20240310T070000
END:DAYLIGHT
BEGIN:STANDARD
TZOFFSETFROM:-0400
TZOFFSETTO:-0500
TZNAME:EST
DTSTART:20241103T060000
END:STANDARD
BEGIN:DAYLIGHT
TZOFFSETFROM:-0500
TZOFFSETTO:-0400
TZNAME:EDT
DTSTART:20250309T070000
END:DAYLIGHT
BEGIN:STANDARD
TZOFFSETFROM:-0400
TZOFFSETTO:-0500
TZNAME:EST
DTSTART:20251102T060000
END:STANDARD
END:VTIMEZONE
BEGIN:VEVENT
DTSTART;TZID=America/New_York:20240217T120000
DTEND;TZID=America/New_York:20240217T150000
DTSTAMP:20260425T215705
CREATED:20240206T235921Z
LAST-MODIFIED:20240206T235921Z
UID:3230-1708171200-1708182000@www.gardenstatehogchapter.com
SUMMARY:Pet Adoption Event at Garden State H-D
DESCRIPTION:Looking for a new cuddly addition to your home? Consider adopting a four legged friend! There will be adoptable cats and dogs looking for a fur-ever home!
URL:https://www.gardenstatehogchapter.com/welcome/event/pet-adoption-event-at-garden-state-h-d/
LOCATION:Garden State Harley-Davidson\, 1775 Route 10 East\, Morris Plains\, NJ\, 07950\, United States
CATEGORIES:Dealership Event
END:VEVENT
END:VCALENDAR