BEGIN:VCALENDAR
VERSION:2.0
PRODID:-//Garden State Hog Chapter - ECPv6.15.17.1//NONSGML v1.0//EN
CALSCALE:GREGORIAN
METHOD:PUBLISH
X-WR-CALNAME:Garden State Hog Chapter
X-ORIGINAL-URL:https://www.gardenstatehogchapter.com/welcome
X-WR-CALDESC:Events for Garden State Hog Chapter
REFRESH-INTERVAL;VALUE=DURATION:PT1H
X-Robots-Tag:noindex
X-PUBLISHED-TTL:PT1H
BEGIN:VTIMEZONE
TZID:America/New_York
BEGIN:DAYLIGHT
TZOFFSETFROM:-0500
TZOFFSETTO:-0400
TZNAME:EDT
DTSTART:20250309T070000
END:DAYLIGHT
BEGIN:STANDARD
TZOFFSETFROM:-0400
TZOFFSETTO:-0500
TZNAME:EST
DTSTART:20251102T060000
END:STANDARD
BEGIN:DAYLIGHT
TZOFFSETFROM:-0500
TZOFFSETTO:-0400
TZNAME:EDT
DTSTART:20260308T070000
END:DAYLIGHT
BEGIN:STANDARD
TZOFFSETFROM:-0400
TZOFFSETTO:-0500
TZNAME:EST
DTSTART:20261101T060000
END:STANDARD
BEGIN:DAYLIGHT
TZOFFSETFROM:-0500
TZOFFSETTO:-0400
TZNAME:EDT
DTSTART:20270314T070000
END:DAYLIGHT
BEGIN:STANDARD
TZOFFSETFROM:-0400
TZOFFSETTO:-0500
TZNAME:EST
DTSTART:20271107T060000
END:STANDARD
END:VTIMEZONE
BEGIN:VEVENT
DTSTART;TZID=America/New_York:20260607T093000
DTEND;TZID=America/New_York:20260607T123000
DTSTAMP:20260423T113615
CREATED:20260421T203607Z
LAST-MODIFIED:20260421T203607Z
UID:3781-1780824600-1780835400@www.gardenstatehogchapter.com
SUMMARY:Chapter Event - ALS Walk Supporting John Parisi
DESCRIPTION:In support of John Parisi\, our Chapter will participate in Walk ALS on Sunday\, June 7\, 2026\, at Saddle River County Park in Saddle River\, NJ as part of Team Parisi. \nDetails: \n· Duration: walk is three miles; dogs are welcome \n· Check-in begins at 9am \n· Opening ceremony is at 10:30am \n· Walk begins at 11am \nPlease visit the event website Walk ALS Team Parisi Registration to register as a member of Team Parisi by selecting the first option and following the prompts. Note that there is absolutely no obligation to meet the $250 default amount in your “fundraising goal.” Any gift is greatly appreciated.
URL:https://www.gardenstatehogchapter.com/welcome/event/chapter-event-als-walk-supporting-john-parisi/
CATEGORIES:Chapter Day Trip
END:VEVENT
END:VCALENDAR