BEGIN:VCALENDAR
VERSION:2.0
PRODID:-//Garden State Hog Chapter - ECPv6.15.17.1//NONSGML v1.0//EN
CALSCALE:GREGORIAN
METHOD:PUBLISH
X-ORIGINAL-URL:https://www.gardenstatehogchapter.com/welcome
X-WR-CALDESC:Events for Garden State Hog Chapter
REFRESH-INTERVAL;VALUE=DURATION:PT1H
X-Robots-Tag:noindex
X-PUBLISHED-TTL:PT1H
BEGIN:VTIMEZONE
TZID:America/New_York
BEGIN:DAYLIGHT
TZOFFSETFROM:-0500
TZOFFSETTO:-0400
TZNAME:EDT
DTSTART:20220313T070000
END:DAYLIGHT
BEGIN:STANDARD
TZOFFSETFROM:-0400
TZOFFSETTO:-0500
TZNAME:EST
DTSTART:20221106T060000
END:STANDARD
BEGIN:DAYLIGHT
TZOFFSETFROM:-0500
TZOFFSETTO:-0400
TZNAME:EDT
DTSTART:20230312T070000
END:DAYLIGHT
BEGIN:STANDARD
TZOFFSETFROM:-0400
TZOFFSETTO:-0500
TZNAME:EST
DTSTART:20231105T060000
END:STANDARD
BEGIN:DAYLIGHT
TZOFFSETFROM:-0500
TZOFFSETTO:-0400
TZNAME:EDT
DTSTART:20240310T070000
END:DAYLIGHT
BEGIN:STANDARD
TZOFFSETFROM:-0400
TZOFFSETTO:-0500
TZNAME:EST
DTSTART:20241103T060000
END:STANDARD
END:VTIMEZONE
BEGIN:VEVENT
DTSTART;TZID=America/New_York:20230527T081500
DTEND;TZID=America/New_York:20230527T103000
DTSTAMP:20260425T064452
CREATED:20230510T002710Z
LAST-MODIFIED:20230510T002710Z
UID:3029-1685175300-1685183400@www.gardenstatehogchapter.com
SUMMARY:Memorial Day Parade
DESCRIPTION:Chapter members are encouraged to join together to participate in the Morris Plains Memorial Day Parade\, representing the Dealership and HOG Chapter.  Head Road Captain will lead the group from the Dealership to the staging area\, departing at 8:15AM.  The parade staging is expected to be by Roberts Garden (Mountain Way & Glenbrook Rd)\, Morris Plains.   \nParticipants should wear their vests.
URL:https://www.gardenstatehogchapter.com/welcome/event/memorial-day-parade/
LOCATION:Morris Plains Parade\, Morris Plains\, NJ
CATEGORIES:Chapter Day Trip
END:VEVENT
END:VCALENDAR