BEGIN:VCALENDAR
VERSION:2.0
PRODID:-//Garden State Hog Chapter - ECPv6.15.17.1//NONSGML v1.0//EN
CALSCALE:GREGORIAN
METHOD:PUBLISH
X-ORIGINAL-URL:https://www.gardenstatehogchapter.com/welcome
X-WR-CALDESC:Events for Garden State Hog Chapter
REFRESH-INTERVAL;VALUE=DURATION:PT1H
X-Robots-Tag:noindex
X-PUBLISHED-TTL:PT1H
BEGIN:VTIMEZONE
TZID:America/New_York
BEGIN:DAYLIGHT
TZOFFSETFROM:-0500
TZOFFSETTO:-0400
TZNAME:EDT
DTSTART:20250309T070000
END:DAYLIGHT
BEGIN:STANDARD
TZOFFSETFROM:-0400
TZOFFSETTO:-0500
TZNAME:EST
DTSTART:20251102T060000
END:STANDARD
BEGIN:DAYLIGHT
TZOFFSETFROM:-0500
TZOFFSETTO:-0400
TZNAME:EDT
DTSTART:20260308T070000
END:DAYLIGHT
BEGIN:STANDARD
TZOFFSETFROM:-0400
TZOFFSETTO:-0500
TZNAME:EST
DTSTART:20261101T060000
END:STANDARD
BEGIN:DAYLIGHT
TZOFFSETFROM:-0500
TZOFFSETTO:-0400
TZNAME:EDT
DTSTART:20270314T070000
END:DAYLIGHT
BEGIN:STANDARD
TZOFFSETFROM:-0400
TZOFFSETTO:-0500
TZNAME:EST
DTSTART:20271107T060000
END:STANDARD
END:VTIMEZONE
BEGIN:VEVENT
DTSTART;TZID=America/New_York:20260418T090000
DTEND;TZID=America/New_York:20260418T100000
DTSTAMP:20260423T113747
CREATED:20260224T213557Z
LAST-MODIFIED:20260224T213557Z
UID:3725-1776502800-1776506400@www.gardenstatehogchapter.com
SUMMARY:Chapter Meeting - April
DESCRIPTION:Chapter Members and guests are invited to join our April Chapter Meeting on the 18th\, starting at 9:00AM.  Following the meeting will be a Chapter Ride.
URL:https://www.gardenstatehogchapter.com/welcome/event/chapter-meeting-april-2/
LOCATION:Garden State Harley-Davidson\, 1775 Route 10 East\, Morris Plains\, NJ\, 07950\, United States
CATEGORIES:Meeting
END:VEVENT
BEGIN:VEVENT
DTSTART;TZID=America/New_York:20260418T103000
DTEND;TZID=America/New_York:20260418T130000
DTSTAMP:20260423T113747
CREATED:20260224T213929Z
LAST-MODIFIED:20260414T200148Z
UID:3727-1776508200-1776517200@www.gardenstatehogchapter.com
SUMMARY:Chapter Ride - Frank's Pizza
DESCRIPTION:Director Rich will be leading a ride to Frank’s Pizza on April 18th\, with Riders departing the Dealership at 10:30AM.  Ride time is expected to be 90 minutes.
URL:https://www.gardenstatehogchapter.com/welcome/event/chapter-ride-franks-pizza-2/
LOCATION:Frank’s Pizza\, 50 Hopatchung Rd\, Hopatcong\, NJ\, 07843
CATEGORIES:Ride
END:VEVENT
END:VCALENDAR