BEGIN:VCALENDAR
VERSION:2.0
PRODID:-//Garden State Hog Chapter - ECPv6.15.17.1//NONSGML v1.0//EN
CALSCALE:GREGORIAN
METHOD:PUBLISH
X-WR-CALNAME:Garden State Hog Chapter
X-ORIGINAL-URL:https://www.gardenstatehogchapter.com/welcome
X-WR-CALDESC:Events for Garden State Hog Chapter
REFRESH-INTERVAL;VALUE=DURATION:PT1H
X-Robots-Tag:noindex
X-PUBLISHED-TTL:PT1H
BEGIN:VTIMEZONE
TZID:America/New_York
BEGIN:DAYLIGHT
TZOFFSETFROM:-0500
TZOFFSETTO:-0400
TZNAME:EDT
DTSTART:20250309T070000
END:DAYLIGHT
BEGIN:STANDARD
TZOFFSETFROM:-0400
TZOFFSETTO:-0500
TZNAME:EST
DTSTART:20251102T060000
END:STANDARD
BEGIN:DAYLIGHT
TZOFFSETFROM:-0500
TZOFFSETTO:-0400
TZNAME:EDT
DTSTART:20260308T070000
END:DAYLIGHT
BEGIN:STANDARD
TZOFFSETFROM:-0400
TZOFFSETTO:-0500
TZNAME:EST
DTSTART:20261101T060000
END:STANDARD
BEGIN:DAYLIGHT
TZOFFSETFROM:-0500
TZOFFSETTO:-0400
TZNAME:EDT
DTSTART:20270314T070000
END:DAYLIGHT
BEGIN:STANDARD
TZOFFSETFROM:-0400
TZOFFSETTO:-0500
TZNAME:EST
DTSTART:20271107T060000
END:STANDARD
END:VTIMEZONE
BEGIN:VEVENT
DTSTART;TZID=America/New_York:20260321T090000
DTEND;TZID=America/New_York:20260321T100000
DTSTAMP:20260423T124112
CREATED:20260224T210747Z
LAST-MODIFIED:20260224T210747Z
UID:3721-1774083600-1774087200@www.gardenstatehogchapter.com
SUMMARY:Chapter Meeting - March
DESCRIPTION:Stop by the Garden State Dealership for our March Chapter meeting on March 21st at 9:00AM.  Following the updates on what’s happening with the Chapter\, folks will take off on our short “Clear the Cobwebs” ride.
URL:https://www.gardenstatehogchapter.com/welcome/event/chapter-meeting-march-3/
LOCATION:Garden State Harley-Davidson\, 1775 Route 10 East\, Morris Plains\, NJ\, 07950\, United States
CATEGORIES:Meeting
END:VEVENT
BEGIN:VEVENT
DTSTART;TZID=America/New_York:20260321T103000
DTEND;TZID=America/New_York:20260321T130000
DTSTAMP:20260423T124112
CREATED:20260224T212841Z
LAST-MODIFIED:20260303T193028Z
UID:3723-1774089000-1774098000@www.gardenstatehogchapter.com
SUMMARY:Chapter Ride - Clear The Cobwebs To Chimney Rock
DESCRIPTION:Head Road Captain Darren will be leading our kick-off ride of the season.  Riders will depart the Dealership at 10:30AM\, heading to the new Chimney Rock Inn in Whippany.  This ride is expected to be no more than 31 miles with an hour in the saddle.
URL:https://www.gardenstatehogchapter.com/welcome/event/chapter-ride-clear-the-cobwebs-to-chimney-rock/
LOCATION:Chimney Rock Whippany\, 750 NJ-10\, Whippany\, NJ\, 07981
CATEGORIES:Ride
END:VEVENT
END:VCALENDAR